Workbook
Name euro100kg: 'MMO - Euro100kg'!$B$9:$DS$48
Name Jan: 'MMO - Euro100kg'!$B$9:$B$48,'MMO - Euro100kg'!$DS$9:$DS$48
Name pplconversion: 'MMO - ppl conversion'!$B$9:$DS$48

Sheet MMO - ppl conversion
JK1: 45047 | JL1: 45047 | JM1: 45047 | JN1: 45047 | JO1: 45047 | JP1: 45047 | JQ1: 45047 | JR1: 45047 | JS1: 45047 | JT1: 45047
A2: EU farmgate milk prices
A3: Source: DG Agri/Milk Market Observatory
A4: Units: Pence per litre
A5: Last updated: 22/10/2026
BW7: Jan | BX7: Feb | BY7: Mar | BZ7: Apr | CA7: May | CB7: Jun | CC7: Jul | CD7: Aug | CE7: Sep | CF7: Oct | CG7: Nov | CH7: Dec | CI7: Jan | CJ7: Feb | CK7: Mar | CL7: Apr | CM7: May | EQ7: Jan | ER7: Feb | ES7: Mar | ET7: Apr | EU7: May | EV7: Jun | EW7: Jul | EX7: Aug | EY7: Sep | EZ7: Oct | FA7: Nov | FB7: Dec
B8: Country | C8: 36892 | D8: 36923 | E8: 36951 | F8: 36982 | G8: 37012 | H8: 37043 | I8: 37073 | J8: 37104 | K8: 37135 | L8: 37165 | M8: 37196 | N8: 37226 | O8: 37257 | P8: 37288 | Q8: 37316 | R8: 37347 | S8: 37377 | T8: 37408 | U8: 37438 | V8: 37469 | W8: 37500 | X8: 37530 | Y8: 37561 | Z8: 37591 | AA8: 37622 | AB8: 37653 | AC8: 37681 | AD8: 37712 | AE8: 37742 | AF8: 37773 | AG8: 37803 | AH8: 37834 | AI8: 37865 | AJ8: 37895 | AK8: 37926 | AL8: 37956 | AM8: 37987 | AN8: 38018 | AO8: 38047 | AP8: 38078 | AQ8: 38108 | AR8: 38139 | AS8: 38169 | AT8: 38200 | AU8: 38231 | AV8: 38261 | AW8: 38292 | AX8: 38322 | AY8: 38353 | AZ8: 38384 | BA8: 38412 | BB8: 38443 | BC8: 38473 | BD8: 38504 | BE8: 38534 | BF8: 38565 | BG8: 38596 | BH8: 38626 | BI8: 38657 | BJ8: 38687 | BK8: 38718 | BL8: 38749 | BM8: 38777 | BN8: 38808 | BO8: 38838 | BP8: 38869 | BQ8: 38899 | BR8: 38930 | BS8: 38961 | BT8: 38991 | BU8: 39022 | BV8: 39052 | BW8: 39083 | BX8: 39114 | BY8: 39142 | BZ8: 39173 | CA8: 39203 | CB8: 39234 | CC8: 39264 | CD8: 39295 | CE8: 39326 | CF8: 39356 | CG8: 39387 | CH8: 39417 | CI8: 39448 | CJ8: 39479 | CK8: 39508 | CL8: 39539 | CM8: 39569 | CN8: 39600 | CO8: 39630 | CP8: 39661 | CQ8: 39692 | CR8: 39722 | CS8: 39753 | CT8: 39783 | CU8: 39814 | CV8: 39845 | CW8: 39873 | CX8: 39904 | CY8: 39934 | CZ8: 39965 | DA8: 39995 | DB8: 40026 | DC8: 40057 | DD8: 40087 | DE8: 40118 | DF8: 40148 | DG8: 40179 | DH8: 40210 | DI8: 40238 | DJ8: 40269 | DK8: 40299 | DL8: 40330 | DM8: 40360 | DN8: 40391 | DO8: 40422 | DP8: 40452 | DQ8: 40483 | DR8: 40513 | DS8: 40544 | DT8: 40575 | DU8: 40603 | DV8: 40634 | DW8: 40664 | DX8: 40695 | DY8: 40725 | DZ8: 40756 | EA8: 40787 | EB8: 40817 | EC8: 40848 | ED8: 40878 | EE8: 40909 | EF8: 40940 | EG8: 40969 | EH8: 41000 | EI8: 41030 | EJ8: 41061 | EK8: 41091 | EL8: 41122 | EM8: 41153 | EN8: 41183 | EO8: 41214 | EP8: 41244 | EQ8: 41275 | ER8: 41306 | ES8: 41334 | ET8: 41365 | EU8: 41395 | EV8: 41426 | EW8: 41456 | EX8: 41487 | EY8: 41518 | EZ8: 41548 | FA8: 41579 | FB8: 41609 | FC8: 41640 | FD8: 41671 | FE8: 41699 | FF8: 41730 | FG8: 41760 | FH8: 41791 | FI8: 41821 | FJ8: 41852 | FK8: 41883 | FL8: 41913 | FM8: 41944 | FN8: 41974 | FO8: 42005 | FP8: 42036 | FQ8: 42064 | FR8: 42095 | FS8: 42125 | FT8: 42156 | FU8: 42186 | FV8: 42217 | FW8: 42248 | FX8: 42278 | FY8: 42309 | FZ8: 42339 | GA8: 42370 | GB8: 42401 | GC8: 42430 | GD8: 42461 | GE8: 42491 | GF8: 42522 | GG8: 42552 | GH8: 42583 | GI8: 42614 | GJ8: 42644 | GK8: 42675 | GL8: 42705 | GM8: 42736 | GN8: 42767 | GO8: 42795 | GP8: 42826 | GQ8: 42856 | GR8: 42887 | GS8: 42917 | GT8: 42948 | GU8: 42979 | GV8: 43009 | GW8: 43040 | GX8: 43070 | GY8: 43101 | GZ8: 43132 | HA8: 43160 | HB8: 43191 | HC8: 43221 | HD8: 43252 | HE8: 43282 | HF8: 43313 | HG8: 43344 | HH8: 43374 | HI8: 43405 | HJ8: 43435 | HK8: 43466 | HL8: 43497 | HM8: 43525 | HN8: 43556 | HO8: 43586 | HP8: 43617 | HQ8: 43647 | HR8: 43678 | HS8: 43709 | HT8: 43739 | HU8: 43770 | HV8: 43800 | HW8: 43831 | HX8: 43862 | HY8: 43891 | HZ8: 43922 | IA8: 43952 | IB8: 43983 | IC8: 44013 | ID8: 44044 | IE8: 44075 | IF8: 44105 | IG8: 44136 | IH8: 44166 | II8: 44197 | IJ8: 44228 | IK8: 44256 | IL8: 44287 | IM8: 44317 | IN8: 44348 | IO8: 44378 | IP8: 44409 | IQ8: 44440 | IR8: 44470 | IS8: 44501 | IT8: 44531 | IU8: 44562 | IV8: 44593 | IW8: 44621 | IX8: 44652 | IY8: 44682 | IZ8: 44713 | JA8: 44743 | JB8: 44774 | JC8: 44805 | JD8: 44835 | JE8: 44866 | JF8: 44896 | JG8: 44927 | JH8: 44958 | JI8: 44986 | JJ8: 45017 | JK8: 45047 | JL8: 45078 | JM8: 45108 | JN8: 45139 | JO8: 45170 | JP8: 45200 | JQ8: 45231 | JR8: 45261 | JS8: 45292 | JT8: 45323 | JU8: 45352 | JV8: 45383 | JW8: 45413 | JX8: 45444 | JY8: 45474 | JZ8: 45505 | KA8: 45536 | KB8: 45566 | KC8: 45597 | KD8: 45627 | KE8: 45658 | KF8: 45689 | KG8: 45717 | KH8: 45748 | KI8: 45778 | KJ8: 45809 | KK8: 45839 | KL8: 45870 | KM8: 45901 | KN8: 45931 | KO8: 45962 | KP8: 45992 | KQ8: 46023 | KR8: 46054 | KS8: 46082 | KT8: 46113 | KU8: 46143 | KV8: 46174 | KW8: 46204 | KX8: 46235 | KY8: Year-on-year change | KZ8: Year-on-year % change
B9: Austria | C9: =(('MMO - Euro100kg'!C19/0.97116)*C$65) -> 20.4751 | D9: =(('MMO - Euro100kg'!D19/0.97116)*D$65) -> 20.629369 | E9: =(('MMO - Euro100kg'!E19/0.97116)*E$65) -> 20.446017 | F9: =(('MMO - Euro100kg'!F19/0.97116)*F$65) -> 20.420257 | G9: =(('MMO - Euro100kg'!G19/0.97116)*G$65) -> 20.17019 | H9: =(('MMO - Euro100kg'!H19/0.97116)*H$65) -> 20.315219 | I9: =(('MMO - Euro100kg'!I19/0.97116)*I$65) -> 20.526013 | J9: =(('MMO - Euro100kg'!J19/0.97116)*J$65) -> 21.539933 | ... KX9: =(('MMO - Euro100kg'!KX19/0.97116)*KX$65) -> 40.019592 | KY9: =KX9-KL9 -> -10.801441 | KZ9: =(KX9/KL9)-1 -> -0.21253879
B10: Belgium | C10: =(('MMO - Euro100kg'!C9/0.97116)*C$65) -> 21.619143 | D10: =(('MMO - Euro100kg'!D9/0.97116)*D$65) -> 20.60979 | E10: =(('MMO - Euro100kg'!E9/0.97116)*E$65) -> 19.49308 | F10: =(('MMO - Euro100kg'!F9/0.97116)*F$65) -> 18.56387 | G10: =(('MMO - Euro100kg'!G9/0.97116)*G$65) -> 18.134203 | H10: =(('MMO - Euro100kg'!H9/0.97116)*H$65) -> 17.7766 | I10: =(('MMO - Euro100kg'!I9/0.97116)*I$65) -> 18.810294 | J10: =(('MMO - Euro100kg'!J9/0.97116)*J$65) -> 20.345423 | ... KX10: =(('MMO - Euro100kg'!KX9/0.97116)*KX$65) -> 34.721844 | KY10: =KX10-KL10 -> -11.145385 | KZ10: =(KX10/KL10)-1 -> -0.24299234
B11: Denmark | C11: =(('MMO - Euro100kg'!C18/0.97116)*C$65) -> 22.593214 | D11: =(('MMO - Euro100kg'!D18/0.97116)*D$65) -> 22.476288 | E11: =(('MMO - Euro100kg'!E18/0.97116)*E$65) -> 22.494508 | F11: =(('MMO - Euro100kg'!F18/0.97116)*F$65) -> 21.956577 | G11: =(('MMO - Euro100kg'!G18/0.97116)*G$65) -> 21.352581 | H11: =(('MMO - Euro100kg'!H18/0.97116)*H$65) -> 21.023525 | I11: =(('MMO - Euro100kg'!I18/0.97116)*I$65) -> 20.857885 | J11: =(('MMO - Euro100kg'!J18/0.97116)*J$65) -> 21.598045 | ... KX11: =(('MMO - Euro100kg'!KX18/0.97116)*KX$65) -> 39.146918 | KY11: =KX11-KL11 -> -10.747504 | KZ11: =(KX11/KL11)-1 -> -0.21540492
B12: Finland | C12: =(('MMO - Euro100kg'!C22/0.97116)*C$65) -> 23.58036 | D12: =(('MMO - Euro100kg'!D22/0.97116)*D$65) -> 23.690164 | E12: =(('MMO - Euro100kg'!E22/0.97116)*E$65) -> 20.899797 | F12: =(('MMO - Euro100kg'!F22/0.97116)*F$65) -> 20.77233 | G12: =(('MMO - Euro100kg'!G22/0.97116)*G$65) -> 19.986825 | H12: =(('MMO - Euro100kg'!H22/0.97116)*H$65) -> 19.6884 | I12: =(('MMO - Euro100kg'!I22/0.97116)*I$65) -> 21.114617 | J12: =(('MMO - Euro100kg'!J22/0.97116)*J$65) -> 23.71588 | ... KX12: =(('MMO - Euro100kg'!KX22/0.97116)*KX$65) -> 42.064646 | KY12: =KX12-KL12 -> -4.417354 | KZ12: =(KX12/KL12)-1 -> -0.095033648
B13: France | C13: =(('MMO - Euro100kg'!C10/0.97116)*C$65) -> 21.553769 | D13: =(('MMO - Euro100kg'!D10/0.97116)*D$65) -> 20.942627 | E13: =(('MMO - Euro100kg'!E10/0.97116)*E$65) -> 19.674592 | F13: =(('MMO - Euro100kg'!F10/0.97116)*F$65) -> 18.429442 | G13: =(('MMO - Euro100kg'!G10/0.97116)*G$65) -> 18.039358 | H13: =(('MMO - Euro100kg'!H10/0.97116)*H$65) -> 17.958378 | I13: =(('MMO - Euro100kg'!I10/0.97116)*I$65) -> 19.286186 | J13: =(('MMO - Euro100kg'!J10/0.97116)*J$65) -> 20.971734 | ... KX13: =(('MMO - Euro100kg'!KX10/0.97116)*KX$65) -> 39.305586 | KY13: =KX13-KL13 -> -5.1449982 | KZ13: =(KX13/KL13)-1 -> -0.11574647
B14: Germany | C14: =(('MMO - Euro100kg'!C14/0.97116)*C$65) -> 21.749891 | D14: =(('MMO - Euro100kg'!D14/0.97116)*D$65) -> 21.38641 | E14: =(('MMO - Euro100kg'!E14/0.97116)*E$65) -> 21.01 | F14: =(('MMO - Euro100kg'!F14/0.97116)*F$65) -> 20.6251 | G14: =(('MMO - Euro100kg'!G14/0.97116)*G$65) -> 20.473692 | H14: =(('MMO - Euro100kg'!H14/0.97116)*H$65) -> 20.453119 | I14: =(('MMO - Euro100kg'!I14/0.97116)*I$65) -> 20.939288 | J14: =(('MMO - Euro100kg'!J14/0.97116)*J$65) -> 22.211442 | ... KX14: =(('MMO - Euro100kg'!KX14/0.97116)*KX$65) -> 36.273264 | KY14: =KX14-KL14 -> -12.070867 | KZ14: =(KX14/KL14)-1 -> -0.24968629
B15: Greece | C15: =(('MMO - Euro100kg'!C23/0.97116)*C$65) -> 21.573381 | D15: =(('MMO - Euro100kg'!D23/0.97116)*D$65) -> 21.536513 | E15: =(('MMO - Euro100kg'!E23/0.97116)*E$65) -> 21.042413 | F15: =(('MMO - Euro100kg'!F23/0.97116)*F$65) -> 20.778732 | G15: =(('MMO - Euro100kg'!G23/0.97116)*G$65) -> 20.966881 | H15: =(('MMO - Euro100kg'!H23/0.97116)*H$65) -> 20.628629 | I15: =(('MMO - Euro100kg'!I23/0.97116)*I$65) -> 20.80153 | J15: =(('MMO - Euro100kg'!J23/0.97116)*J$65) -> 21.40434 | ... KX15: =(('MMO - Euro100kg'!KX23/0.97116)*KX$65) -> 48.684627 | KY15: =KX15-KL15 -> -1.0226911 | KZ15: =(KX15/KL15)-1 -> -0.020574256
B16: Ireland | C16: =(('MMO - Euro100kg'!C12/0.97116)*C$65) -> 18.978038 | D16: =(('MMO - Euro100kg'!D12/0.97116)*D$65) -> 18.29951 | E16: =(('MMO - Euro100kg'!E12/0.97116)*E$65) -> 17.6261 | F16: =(('MMO - Euro100kg'!F12/0.97116)*F$65) -> 17.206787 | G16: =(('MMO - Euro100kg'!G12/0.97116)*G$65) -> 17.413387 | H16: =(('MMO - Euro100kg'!H12/0.97116)*H$65) -> 17.481995 | I16: =(('MMO - Euro100kg'!I12/0.97116)*I$65) -> 17.608038 | J16: =(('MMO - Euro100kg'!J12/0.97116)*J$65) -> 18.711849 | ... KX16: =(('MMO - Euro100kg'!KX12/0.97116)*KX$65) -> 35.955928 | KY16: =KX16-KL16 -> -9.813294 | KZ16: =(KX16/KL16)-1 -> -0.21440814
B17: Italy | C17: =(('MMO - Euro100kg'!C21/0.97116)*C$65) -> 24.057589 | D17: =(('MMO - Euro100kg'!D21/0.97116)*D$65) -> 24.016475 | E17: =(('MMO - Euro100kg'!E21/0.97116)*E$65) -> 23.855847 | F17: =(('MMO - Euro100kg'!F21/0.97116)*F$65) -> 25.074027 | G17: =(('MMO - Euro100kg'!G21/0.97116)*G$65) -> 24.76697 | H17: =(('MMO - Euro100kg'!H21/0.97116)*H$65) -> 24.552519 | I17: =(('MMO - Euro100kg'!I21/0.97116)*I$65) -> 24.52727 | J17: =(('MMO - Euro100kg'!J21/0.97116)*J$65) -> 25.291343 | ... KX17: =(('MMO - Euro100kg'!KX21/0.97116)*KX$65) -> 40.786487 | KY17: =KX17-KL17 -> -11.112621 | KZ17: =(KX17/KL17)-1 -> -0.2141197
B18: Luxembourg | C18: =(('MMO - Euro100kg'!C15/0.97116)*C$65) -> 22.462466 | D18: =(('MMO - Euro100kg'!D15/0.97116)*D$65) -> 21.419041 | E18: =(('MMO - Euro100kg'!E15/0.97116)*E$65) -> 20.536773 | F18: =(('MMO - Euro100kg'!F15/0.97116)*F$65) -> 19.556077 | G18: =(('MMO - Euro100kg'!G15/0.97116)*G$65) -> 19.234395 | H18: =(('MMO - Euro100kg'!H15/0.97116)*H$65) -> 19.588109 | I18: =(('MMO - Euro100kg'!I15/0.97116)*I$65) -> 20.30059 | J18: =(('MMO - Euro100kg'!J15/0.97116)*J$65) -> 22.037108 | ... IG18: =(('MMO - Euro100kg'!IG15/0.97116)*IG$65) -> 33.141489 | IH18: =IFERROR("n/a",(('MMO - Euro100kg'!IH18/0.97116)*IH$65)) -> n/a | II18: =IFERROR("n/a",(('MMO - Euro100kg'!II18/0.97116)*II$65)) -> n/a | IJ18: =IFERROR("n/a",(('MMO - Euro100kg'!IJ18/0.97116)*IJ$65)) -> n/a | IK18: =IFERROR("n/a",(('MMO - Euro100kg'!IK18/0.97116)*IK$65)) -> n/a | IL18: =IFERROR("n/a",(('MMO - Euro100kg'!IL18/0.97116)*IL$65)) -> n/a | IM18: =IFERROR("n/a",(('MMO - Euro100kg'!IM18/0.97116)*IM$65)) -> n/a | IN18: =IFERROR("n/a",(('MMO - Euro100kg'!IN18/0.97116)*IN$65)) -> n/a | IO18: =IFERROR("n/a",(('MMO - Euro100kg'!IO18/0.97116)*IO$65)) -> n/a | ... KX18: =IFERROR("n/a",(('MMO - Euro100kg'!KX18/0.97116)*KX$65)) -> n/a | KY18: n/a | KZ18: n/a
B19: Netherlands | C19: =(('MMO - Euro100kg'!C17/0.97116)*C$65) -> 21.553769 | D19: =(('MMO - Euro100kg'!D17/0.97116)*D$65) -> 20.942627 | E19: =(('MMO - Euro100kg'!E17/0.97116)*E$65) -> 19.992237 | F19: =(('MMO - Euro100kg'!F17/0.97116)*F$65) -> 19.882545 | G19: =(('MMO - Euro100kg'!G17/0.97116)*G$65) -> 19.74023 | H19: =(('MMO - Euro100kg'!H17/0.97116)*H$65) -> 20.334024 | I19: =(('MMO - Euro100kg'!I17/0.97116)*I$65) -> 19.58675 | J19: =(('MMO - Euro100kg'!J17/0.97116)*J$65) -> 23.864387 | ... KX19: =(('MMO - Euro100kg'!KX17/0.97116)*KX$65) -> 37.463274 | KY19: =KX19-KL19 -> -12.653891 | KZ19: =(KX19/KL19)-1 -> -0.25248616
B20: Portugal | C20: =(('MMO - Euro100kg'!C13/0.97116)*C$65) -> 20.618923 | D20: =(('MMO - Euro100kg'!D13/0.97116)*D$65) -> 20.799051 | E20: =(('MMO - Euro100kg'!E13/0.97116)*E$65) -> 20.770145 | F20: =(('MMO - Euro100kg'!F13/0.97116)*F$65) -> 20.637902 | G20: =(('MMO - Euro100kg'!G13/0.97116)*G$65) -> 20.467369 | H20: =(('MMO - Euro100kg'!H13/0.97116)*H$65) -> 20.196123 | I20: =(('MMO - Euro100kg'!I13/0.97116)*I$65) -> 20.745174 | J20: =(('MMO - Euro100kg'!J13/0.97116)*J$65) -> 21.333315 | ... KX20: =(('MMO - Euro100kg'!KX13/0.97116)*KX$65) -> 37.498534 | KY20: =KX20-KL20 -> -3.2990658 | KZ20: =(KX20/KL20)-1 -> -0.080864214
B21: Spain | C21: =(('MMO - Euro100kg'!C11/0.97116)*C$65) -> 19.736375 | D21: =(('MMO - Euro100kg'!D11/0.97116)*D$65) -> 19.891907 | E21: =(('MMO - Euro100kg'!E11/0.97116)*E$65) -> 19.856103 | F21: =(('MMO - Euro100kg'!F11/0.97116)*F$65) -> 19.376839 | G21: =(('MMO - Euro100kg'!G11/0.97116)*G$65) -> 19.284978 | H21: =(('MMO - Euro100kg'!H11/0.97116)*H$65) -> 19.030239 | I21: =(('MMO - Euro100kg'!I11/0.97116)*I$65) -> 19.536656 | J21: =(('MMO - Euro100kg'!J11/0.97116)*J$65) -> 19.757852 | ... KX21: =(('MMO - Euro100kg'!KX11/0.97116)*KX$65) -> 40.134185 | KY21: =KX21-KL21 -> -4.7618847 | KZ21: =(KX21/KL21)-1 -> -0.10606462
B22: Sweden | C22: =(('MMO - Euro100kg'!C20/0.97116)*C$65) -> 21.841414 | D22: =(('MMO - Euro100kg'!D20/0.97116)*D$65) -> 21.556092 | E22: =(('MMO - Euro100kg'!E20/0.97116)*E$65) -> 20.990553 | F22: =(('MMO - Euro100kg'!F20/0.97116)*F$65) -> 19.984966 | G22: =(('MMO - Euro100kg'!G20/0.97116)*G$65) -> 20.498983 | H22: =(('MMO - Euro100kg'!H20/0.97116)*H$65) -> 20.039419 | I22: =(('MMO - Euro100kg'!I20/0.97116)*I$65) -> 19.805912 | J22: =(('MMO - Euro100kg'!J20/0.97116)*J$65) -> 20.874881 | ... KX22: =(('MMO - Euro100kg'!KX20/0.97116)*KX$65) -> 39.587662 | KY22: =KX22-KL22 -> -8.9524825 | KZ22: =(KX22/KL22)-1 -> -0.18443461
B23: United Kingdom | C23: =(('MMO - Euro100kg'!C16/0.97116)*C$65) -> 18.324299 | D23: =(('MMO - Euro100kg'!D16/0.97116)*D$65) -> 18.182038 | E23: =(('MMO - Euro100kg'!E16/0.97116)*E$65) -> 17.898368 | F23: =(('MMO - Euro100kg'!F16/0.97116)*F$65) -> 18.448646 | G23: =(('MMO - Euro100kg'!G16/0.97116)*G$65) -> 17.893931 | H23: =(('MMO - Euro100kg'!H16/0.97116)*H$65) -> 18.691757 | I23: =(('MMO - Euro100kg'!I16/0.97116)*I$65) -> 19.843482 | J23: =(('MMO - Euro100kg'!J16/0.97116)*J$65) -> 21.494736 | ... IH23: =(('MMO - Euro100kg'!IH16/0.97116)*IH$65) -> 30.365105 | II23: ⴕ | IJ23: ⴕ | IK23: ⴕ | IL23: ⴕ | IM23: ⴕ | IN23: ⴕ | IO23: ⴕ | IP23: ⴕ | IQ23: ⴕ | IR23: ⴕ | IS23: ⴕ | IT23: ⴕ | IU23: ⴕ | IV23: ⴕ | IW23: ⴕ | IX23: ⴕ | IY23: ⴕ | IZ23: ⴕ | JA23: ⴕ | JB23: ⴕ | JC23: ⴕ | JD23: ⴕ | JE23: ⴕ | JF23: ⴕ | JG23: ⴕ | JH23: ⴕ | JI23: ⴕ | JJ23: ⴕ | JK23: ⴕ | JL23: ⴕ | JM23: ⴕ | JN23: ⴕ | JO23: ⴕ | JP23: ⴕ | JQ23: ⴕ | JR23: ⴕ | JS23: ⴕ | JT23: ⴕ | JU23: ⴕ | JV23: ⴕ | JW23: ⴕ | JX23: ⴕ | JY23: ⴕ | JZ23: ⴕ | KA23: ⴕ | KB23: ⴕ | KC23: ⴕ | KD23: ⴕ | KE23: ⴕ | KF23: ⴕ | KG23: ⴕ | KH23: ⴕ | KI23: ⴕ | KJ23: ⴕ | KK23: ⴕ | KL23: ⴕ | KM23: ⴕ | KN23: ⴕ | KO23: ⴕ | KP23: ⴕ | KQ23: ⴕ | KR23: ⴕ | KS23: ⴕ | KT23: ⴕ | KU23: ⴕ | KV23: ⴕ | KW23: ⴕ | KX23: ⴕ | KY23: n/a | KZ23: n/a
B25: Average EU15 | C25: =(('MMO - Euro100kg'!C25/0.97116)*C$65) -> 22.239261 | D25: =(('MMO - Euro100kg'!D25/0.97116)*D$65) -> 22.121076 | E25: =(('MMO - Euro100kg'!E25/0.97116)*E$65) -> 21.388768 | F25: =(('MMO - Euro100kg'!F25/0.97116)*F$65) -> 21.267062 | G25: =(('MMO - Euro100kg'!G25/0.97116)*G$65) -> 21.068952 | H25: =(('MMO - Euro100kg'!H25/0.97116)*H$65) -> 20.940248 | I25: =(('MMO - Euro100kg'!I25/0.97116)*I$65) -> 21.031425 | J25: =(('MMO - Euro100kg'!J25/0.97116)*J$65) -> 22.612687 | ... EV25: =(('MMO - Euro100kg'!EV25/0.97116)*EV$65) -> 32.419025
B26: Weighted average EU15 | AA26: =(('MMO - Euro100kg'!AA26/0.97116)*AA$65) -> 21.036067 | AB26: =(('MMO - Euro100kg'!AB26/0.97116)*AB$65) -> 21.063771 | AC26: =(('MMO - Euro100kg'!AC26/0.97116)*AC$65) -> 20.827644 | AD26: =(('MMO - Euro100kg'!AD26/0.97116)*AD$65) -> 20.445989 | AE26: =(('MMO - Euro100kg'!AE26/0.97116)*AE$65) -> 20.799769 | AF26: =(('MMO - Euro100kg'!AF26/0.97116)*AF$65) -> 20.465243 | AG26: =(('MMO - Euro100kg'!AG26/0.97116)*AG$65) -> 20.908277 | AH26: =(('MMO - Euro100kg'!AH26/0.97116)*AH$65) -> 21.715688 | ... HU26: =(('MMO - Euro100kg'!HU26/0.97116)*HU$65) -> 0 | HV26: n/a | HW26: n/a | HX26: n/a | HY26: n/a | HZ26: n/a | IA26: n/a | IB26: n/a | IC26: n/a | ID26: n/a | IE26: n/a | IF26: n/a | IG26: n/a | IH26: n/a | II26: n/a | IJ26: n/a | IK26: n/a | IL26: n/a | IM26: n/a | IN26: n/a | IO26: n/a | IP26: n/a | IQ26: n/a | IR26: n/a | IS26: n/a | IT26: n/a | IU26: n/a | IV26: n/a | IW26: n/a | IX26: n/a | IY26: n/a | IZ26: n/a | JA26: n/a | JB26: n/a | JC26: n/a | JD26: n/a | JE26: n/a | JF26: n/a | JG26: n/a | JH26: n/a | JI26: n/a | JJ26: n/a | JK26: n/a | JL26: n/a | JM26: n/a | JN26: n/a | JO26: n/a | JP26: n/a | JQ26: n/a | JR26: n/a | JS26: n/a | JT26: n/a | JU26: n/a | JV26: n/a | JW26: n/a | JX26: n/a | JY26: n/a | JZ26: n/a | KA26: n/a | KB26: n/a | KC26: n/a | KD26: n/a | KE26: n/a | KF26: n/a | KG26: n/a | KH26: n/a | KI26: n/a | KJ26: n/a | KK26: n/a | KL26: n/a | KM26: n/a | KN26: n/a | KO26: n/a | KP26: n/a | KQ26: n/a | KR26: n/a | KS26: n/a | KT26: n/a | KU26: n/a | KV26: n/a | KW26: n/a | KX26: n/a | KY26: n/a | KZ26: n/a
B28: Czech Rep. | O28: =(('MMO - Euro100kg'!O28/0.97116)*O$65) -> 15.908695 | P28: =(('MMO - Euro100kg'!P28/0.97116)*P$65) -> 15.87026 | Q28: =(('MMO - Euro100kg'!Q28/0.97116)*Q$65) -> 16.146421 | R28: =(('MMO - Euro100kg'!R28/0.97116)*R$65) -> 16.644156 | S28: =(('MMO - Euro100kg'!S28/0.97116)*S$65) -> 16.776958 | T28: =(('MMO - Euro100kg'!T28/0.97116)*T$65) -> 17.220274 | U28: =(('MMO - Euro100kg'!U28/0.97116)*U$65) -> 17.326315 | V28: =(('MMO - Euro100kg'!V28/0.97116)*V$65) -> 16.581792 | ... KX28: =(('MMO - Euro100kg'!KX28/0.97116)*KX$65) -> 34.880512 | KY28: =KX28-KL28 -> -13.071591 | KZ28: =(KX28/KL28)-1 -> -0.27259683
B29: Estonia | AA29: =(('MMO - Euro100kg'!AA29/0.97116)*AA$65) -> 12.019222 | AB29: =(('MMO - Euro100kg'!AB29/0.97116)*AB$65) -> 12.065586 | AC29: =(('MMO - Euro100kg'!AC29/0.97116)*AC$65) -> 12.379164 | AD29: =(('MMO - Euro100kg'!AD29/0.97116)*AD$65) -> 12.37423 | AE29: =(('MMO - Euro100kg'!AE29/0.97116)*AE$65) -> 12.890715 | AF29: =(('MMO - Euro100kg'!AF29/0.97116)*AF$65) -> 12.882142 | AG29: =(('MMO - Euro100kg'!AG29/0.97116)*AG$65) -> 12.81713 | AH29: =(('MMO - Euro100kg'!AH29/0.97116)*AH$65) -> 12.653955 | ... KX29: =(('MMO - Euro100kg'!KX29/0.97116)*KX$65) -> 33.822725 | KY29: =KX29-KL29 -> -10.5744 | KZ29: =(KX29/KL29)-1 -> -0.23817759
B30: Cyprus | AA30: =(('MMO - Euro100kg'!AA30/0.97116)*AA$65) -> 24.599522 | AB30: =(('MMO - Euro100kg'!AB30/0.97116)*AB$65) -> 24.853456 | AC30: =(('MMO - Euro100kg'!AC30/0.97116)*AC$65) -> 25.43394 | AD30: =(('MMO - Euro100kg'!AD30/0.97116)*AD$65) -> 26.281928 | AE30: =(('MMO - Euro100kg'!AE30/0.97116)*AE$65) -> 26.758891 | AF30: =(('MMO - Euro100kg'!AF30/0.97116)*AF$65) -> 26.134626 | AG30: =(('MMO - Euro100kg'!AG30/0.97116)*AG$65) -> 26.392884 | AH30: =(('MMO - Euro100kg'!AH30/0.97116)*AH$65) -> 26.280737 | ... KX30: =(('MMO - Euro100kg'!KX30/0.97116)*KX$65) -> 57.693442 | KY30: =KX30-KL30 -> 0.84944024 | KZ30: =(KX30/KL30)-1 -> 0.014943357
B31: Latvia | AA31: =(('MMO - Euro100kg'!AA31/0.97116)*AA$65) -> 9.2138357 | AB31: =(('MMO - Euro100kg'!AB31/0.97116)*AB$65) -> 9.5685463 | AC31: =(('MMO - Euro100kg'!AC31/0.97116)*AC$65) -> 9.7330213 | AD31: =(('MMO - Euro100kg'!AD31/0.97116)*AD$65) -> 9.7474574 | AE31: =(('MMO - Euro100kg'!AE31/0.97116)*AE$65) -> 9.7893003 | AF31: =(('MMO - Euro100kg'!AF31/0.97116)*AF$65) -> 9.5345275 | AG31: =(('MMO - Euro100kg'!AG31/0.97116)*AG$65) -> 9.5008601 | AH31: =(('MMO - Euro100kg'!AH31/0.97116)*AH$65) -> 9.540909 | ... KX31: =(('MMO - Euro100kg'!KX31/0.97116)*KX$65) -> 32.897162 | KY31: =KX31-KL31 -> -9.4774575 | KZ31: =(KX31/KL31)-1 -> -0.22365882
B32: Lithuania | AA32: =(('MMO - Euro100kg'!AA32/0.97116)*AA$65) -> 10.41035 | AB32: =(('MMO - Euro100kg'!AB32/0.97116)*AB$65) -> 10.662291 | AC32: =(('MMO - Euro100kg'!AC32/0.97116)*AC$65) -> 10.556422 | AD32: =(('MMO - Euro100kg'!AD32/0.97116)*AD$65) -> 7.9513127 | AE32: =(('MMO - Euro100kg'!AE32/0.97116)*AE$65) -> 8.084257 | AF32: =(('MMO - Euro100kg'!AF32/0.97116)*AF$65) -> 9.8758244 | AG32: =(('MMO - Euro100kg'!AG32/0.97116)*AG$65) -> 9.3924853 | AH32: =(('MMO - Euro100kg'!AH32/0.97116)*AH$65) -> 9.5120845 | ... KX32: =(('MMO - Euro100kg'!KX32/0.97116)*KX$65) -> 31.821746 | KY32: =KX32-KL32 -> -11.898241 | KZ32: =(KX32/KL32)-1 -> -0.2721465
B33: Hungary | O33: =(('MMO - Euro100kg'!O33/0.97116)*O$65) -> 18.116798 | P33: =(('MMO - Euro100kg'!P33/0.97116)*P$65) -> 17.972321 | Q33: =(('MMO - Euro100kg'!Q33/0.97116)*Q$65) -> 18.131406 | R33: =(('MMO - Euro100kg'!R33/0.97116)*R$65) -> 18.139132 | S33: =(('MMO - Euro100kg'!S33/0.97116)*S$65) -> 18.418525 | T33: =(('MMO - Euro100kg'!T33/0.97116)*T$65) -> 18.755169 | U33: =(('MMO - Euro100kg'!U33/0.97116)*U$65) -> 18.329845 | V33: =(('MMO - Euro100kg'!V33/0.97116)*V$65) -> 18.301901 | ... KX33: =(('MMO - Euro100kg'!KX33/0.97116)*KX$65) -> 31.187074 | KY33: =KX33-KL33 -> -13.459524 | KZ33: =(KX33/KL33)-1 -> -0.30146808
B34: Malta | C34: =(('MMO - Euro100kg'!C34/0.97116)*C$65) -> 24.698253 | D34: =(('MMO - Euro100kg'!D34/0.97116)*D$65) -> 24.427627 | E34: =(('MMO - Euro100kg'!E34/0.97116)*E$65) -> 24.283697 | F34: =(('MMO - Euro100kg'!F34/0.97116)*F$65) -> 23.928188 | G34: =(('MMO - Euro100kg'!G34/0.97116)*G$65) -> 23.748977 | H34: =(('MMO - Euro100kg'!H34/0.97116)*H$65) -> 24.013454 | I34: =(('MMO - Euro100kg'!I34/0.97116)*I$65) -> 24.408297 | J34: =(('MMO - Euro100kg'!J34/0.97116)*J$65) -> 25.330083 | ... BJ34: =(('MMO - Euro100kg'!BJ34/0.97116)*BJ$65) -> 22.4844 | DN34: =(('MMO - Euro100kg'!DN34/0.97116)*DN$65) -> 35.509278 | DO34: =(('MMO - Euro100kg'!DO34/0.97116)*DO$65) -> 36.743424 | DP34: =(('MMO - Euro100kg'!DP34/0.97116)*DP$65) -> 38.423544 | DQ34: =(('MMO - Euro100kg'!DQ34/0.97116)*DQ$65) -> 41.517812 | DR34: =(('MMO - Euro100kg'!DR34/0.97116)*DR$65) -> 40.174728 | DS34: =(('MMO - Euro100kg'!DS34/0.97116)*DS$65) -> 39.362517 | DT34: =(('MMO - Euro100kg'!DT34/0.97116)*DT$65) -> 37.859484 | DU34: =(('MMO - Euro100kg'!DU34/0.97116)*DU$65) -> 41.924462 | ... KX34: =(('MMO - Euro100kg'!KX34/0.97116)*KX$65) -> 56.115577 | KY34: =KX34-KL34 -> -1.4946605 | KZ34: =(KX34/KL34)-1 -> -0.025944355
B35: Poland | AA35: =(('MMO - Euro100kg'!AA35/0.97116)*AA$65) -> 11.965142 | AB35: =(('MMO - Euro100kg'!AB35/0.97116)*AB$65) -> 11.762915 | AC35: =(('MMO - Euro100kg'!AC35/0.97116)*AC$65) -> 11.541688 | AD35: =(('MMO - Euro100kg'!AD35/0.97116)*AD$65) -> 11.593298 | AE35: =(('MMO - Euro100kg'!AE35/0.97116)*AE$65) -> 11.391453 | AF35: =(('MMO - Euro100kg'!AF35/0.97116)*AF$65) -> 10.747221 | AG35: =(('MMO - Euro100kg'!AG35/0.97116)*AG$65) -> 10.548483 | AH35: =(('MMO - Euro100kg'!AH35/0.97116)*AH$65) -> 10.737126 | ... KX35: =(('MMO - Euro100kg'!KX35/0.97116)*KX$65) -> 36.537711 | KY35: =KX35-KL35 -> -11.004545 | KZ35: =(KX35/KL35)-1 -> -0.23146872
B36: Slovenia | AA36: =(('MMO - Euro100kg'!AA36/0.97116)*AA$65) -> 20.361022 | AB36: =(('MMO - Euro100kg'!AB36/0.97116)*AB$65) -> 20.643571 | AC36: =(('MMO - Euro100kg'!AC36/0.97116)*AC$65) -> 20.986167 | AD36: =(('MMO - Euro100kg'!AD36/0.97116)*AD$65) -> 21.014183 | AE36: =(('MMO - Euro100kg'!AE36/0.97116)*AE$65) -> 21.607014 | AF36: =(('MMO - Euro100kg'!AF36/0.97116)*AF$65) -> 20.928034 | AG36: =(('MMO - Euro100kg'!AG36/0.97116)*AG$65) -> 20.851317 | AH36: =(('MMO - Euro100kg'!AH36/0.97116)*AH$65) -> 20.544661 | ... KX36: =(('MMO - Euro100kg'!KX36/0.97116)*KX$65) -> 34.254655 | KY36: =KX36-KL36 -> -10.757241 | KZ36: =(KX36/KL36)-1 -> -0.23898663
B37: Slovakia | AA37: =(('MMO - Euro100kg'!AA37/0.97116)*AA$65) -> 15.061101 | AB37: =(('MMO - Euro100kg'!AB37/0.97116)*AB$65) -> 15.218436 | AC37: =(('MMO - Euro100kg'!AC37/0.97116)*AC$65) -> 15.338326 | AD37: =(('MMO - Euro100kg'!AD37/0.97116)*AD$65) -> 15.182022 | AE37: =(('MMO - Euro100kg'!AE37/0.97116)*AE$65) -> 15.66876 | AF37: =(('MMO - Euro100kg'!AF37/0.97116)*AF$65) -> 15.307528 | AG37: =(('MMO - Euro100kg'!AG37/0.97116)*AG$65) -> 15.244726 | AH37: =(('MMO - Euro100kg'!AH37/0.97116)*AH$65) -> 15.140068 | ... KX37: =(('MMO - Euro100kg'!KX37/0.97116)*KX$65) -> 32.897162 | KY37: =KX37-KL37 -> -11.366318 | KZ37: =(KX37/KL37)-1 -> -0.25678771
B39: Average EU10 | AA39: =(('MMO - Euro100kg'!AA39/0.97116)*AA$65) -> 16.83105 | AB39: =(('MMO - Euro100kg'!AB39/0.97116)*AB$65) -> 16.971934 | AC39: =(('MMO - Euro100kg'!AC39/0.97116)*AC$65) -> 17.341514 | AD39: =(('MMO - Euro100kg'!AD39/0.97116)*AD$65) -> 17.175185 | AE39: =(('MMO - Euro100kg'!AE39/0.97116)*AE$65) -> 17.521019 | AF39: =(('MMO - Euro100kg'!AF39/0.97116)*AF$65) -> 17.208068 | AG39: =(('MMO - Euro100kg'!AG39/0.97116)*AG$65) -> 16.895397 | AH39: =(('MMO - Euro100kg'!AH39/0.97116)*AH$65) -> 16.899229 | ... EV39: =(('MMO - Euro100kg'!EV39/0.97116)*EV$65) -> 29.551575
B40: Weighted average EU10 | AA40: =(('MMO - Euro100kg'!AA40/0.97116)*AA$65) -> 13.688464 | AB40: =(('MMO - Euro100kg'!AB40/0.97116)*AB$65) -> 13.644522 | AC40: =(('MMO - Euro100kg'!AC40/0.97116)*AC$65) -> 13.614157 | AD40: =(('MMO - Euro100kg'!AD40/0.97116)*AD$65) -> 13.477391 | AE40: =(('MMO - Euro100kg'!AE40/0.97116)*AE$65) -> 13.562401 | AF40: =(('MMO - Euro100kg'!AF40/0.97116)*AF$65) -> 13.089275 | AG40: =(('MMO - Euro100kg'!AG40/0.97116)*AG$65) -> 12.845766 | AH40: =(('MMO - Euro100kg'!AH40/0.97116)*AH$65) -> 12.915558 | ... FC40: =(('MMO - Euro100kg'!FC40/0.97116)*FC$65) -> 30.922339
B42: Average EU25 | C42: =(('MMO - Euro100kg'!C42/0.97116)*C$65) -> 21.588499 | D42: =(('MMO - Euro100kg'!D42/0.97116)*D$65) -> 21.300346 | E42: =(('MMO - Euro100kg'!E42/0.97116)*E$65) -> 20.679389 | F42: =(('MMO - Euro100kg'!F42/0.97116)*F$65) -> 20.352643 | G42: =(('MMO - Euro100kg'!G42/0.97116)*G$65) -> 20.135809 | H42: =(('MMO - Euro100kg'!H42/0.97116)*H$65) -> 20.110719 | I42: =(('MMO - Euro100kg'!I42/0.97116)*I$65) -> 20.543624 | J42: =(('MMO - Euro100kg'!J42/0.97116)*J$65) -> 21.905147 | ... N42: =(('MMO - Euro100kg'!N42/0.97116)*N$65) -> 22.451037 | AA42: =(('MMO - Euro100kg'!AA42/0.97116)*AA$65) -> 19.744758 | AB42: =(('MMO - Euro100kg'!AB42/0.97116)*AB$65) -> 19.837176 | AC42: =(('MMO - Euro100kg'!AC42/0.97116)*AC$65) -> 19.882485 | AD42: =(('MMO - Euro100kg'!AD42/0.97116)*AD$65) -> 19.674268 | AE42: =(('MMO - Euro100kg'!AE42/0.97116)*AE$65) -> 20.029578 | AF42: =(('MMO - Euro100kg'!AF42/0.97116)*AF$65) -> 19.69414 | AG42: =(('MMO - Euro100kg'!AG42/0.97116)*AG$65) -> 19.71721 | AH42: =(('MMO - Euro100kg'!AH42/0.97116)*AH$65) -> 20.11965 | ... CT42: =(('MMO - Euro100kg'!CT42/0.97116)*CT$65) -> 29.882753
B45: Bulgaria | CU45: =(('MMO - Euro100kg'!CU45/0.97116)*CU65) -> 27.730305 | CV45: =(('MMO - Euro100kg'!CV45/0.97116)*CV65) -> 25.433163 | CW45: =(('MMO - Euro100kg'!CW45/0.97116)*CW65) -> 23.300246 | CX45: =(('MMO - Euro100kg'!CX45/0.97116)*CX65) -> 22.569297 | CY45: =(('MMO - Euro100kg'!CY45/0.97116)*CY65) -> 22.163012 | CZ45: =(('MMO - Euro100kg'!CZ45/0.97116)*CZ65) -> 21.085392 | DA45: =(('MMO - Euro100kg'!DA45/0.97116)*DA65) -> 21.654205 | DB45: =(('MMO - Euro100kg'!DB45/0.97116)*DB65) -> 21.686241 | ... DQ45: =(('MMO - Euro100kg'!DQ45/0.97116)*DQ65) -> 27.805022 | DR45: =(('MMO - Euro100kg'!DR45/0.97116)*DR$65) -> 27.6174 | DS45: =(('MMO - Euro100kg'!DS45/0.97116)*DS$65) -> 28.144767 | DT45: =(('MMO - Euro100kg'!DT45/0.97116)*DT$65) -> 28.246452 | DU45: =(('MMO - Euro100kg'!DU45/0.97116)*DU$65) -> 29.135762 | DV45: =(('MMO - Euro100kg'!DV45/0.97116)*DV$65) -> 29.537276 | DW45: =(('MMO - Euro100kg'!DW45/0.97116)*DW$65) -> 29.070457 | DX45: =(('MMO - Euro100kg'!DX45/0.97116)*DX$65) -> 29.321677 | DY45: =(('MMO - Euro100kg'!DY45/0.97116)*DY$65) -> 29.251993 | ... KX45: =(('MMO - Euro100kg'!KX45/0.97116)*KX$65) -> 37.242902 | KY45: =KX45-KL45 -> -5.1495371 | KZ45: =(KX45/KL45)-1 -> -0.12147301
B46: Romania | CU46: =(('MMO - Euro100kg'!CU46/0.97116)*CU65) -> 21.994635 | CV46: =(('MMO - Euro100kg'!CV46/0.97116)*CV65) -> 20.141454 | CW46: =(('MMO - Euro100kg'!CW46/0.97116)*CW65) -> 18.927901 | CX46: =(('MMO - Euro100kg'!CX46/0.97116)*CX65) -> 18.499423 | CY46: =(('MMO - Euro100kg'!CY46/0.97116)*CY65) -> 18.999472 | CZ46: =(('MMO - Euro100kg'!CZ46/0.97116)*CZ65) -> 16.787114 | DA46: =(('MMO - Euro100kg'!DA46/0.97116)*DA65) -> 16.626386 | DB46: =(('MMO - Euro100kg'!DB46/0.97116)*DB65) -> 16.386738 | ... DQ46: =(('MMO - Euro100kg'!DQ46/0.97116)*DQ65) -> 23.225267 | DR46: =(('MMO - Euro100kg'!DR46/0.97116)*DR$65) -> 23.152573 | DS46: =(('MMO - Euro100kg'!DS46/0.97116)*DS$65) -> 23.963209 | DT46: =(('MMO - Euro100kg'!DT46/0.97116)*DT$65) -> 24.002076 | DU46: =(('MMO - Euro100kg'!DU46/0.97116)*DU$65) -> 25.4793 | DV46: =(('MMO - Euro100kg'!DV46/0.97116)*DV$65) -> 26.609913 | DW46: =(('MMO - Euro100kg'!DW46/0.97116)*DW$65) -> 25.676948 | DX46: =(('MMO - Euro100kg'!DX46/0.97116)*DX$65) -> 24.367828 | DY46: =(('MMO - Euro100kg'!DY46/0.97116)*DY$65) -> 24.315834 | ... KX46: =(('MMO - Euro100kg'!KX46/0.97116)*KX$65) -> 32.24486 | KY46: =KX46-KL46 -> -7.100455 | KZ46: =(KX46/KL46)-1 -> -0.18046507
B48: Average EU27 | CU48: =(('MMO - Euro100kg'!CU48/0.97116)*CU65) -> 28.063944 | CV48: =(('MMO - Euro100kg'!CV48/0.97116)*CV65) -> 26.129663 | CW48: =(('MMO - Euro100kg'!CW48/0.97116)*CW65) -> 25.194492 | CX48: =(('MMO - Euro100kg'!CX48/0.97116)*CX65) -> 23.614158 | CY48: =(('MMO - Euro100kg'!CY48/0.97116)*CY65) -> 22.900073 | CZ48: =(('MMO - Euro100kg'!CZ48/0.97116)*CZ65) -> 21.991758 | DA48: =(('MMO - Euro100kg'!DA48/0.97116)*DA65) -> 22.146346 | DB48: =(('MMO - Euro100kg'!DB48/0.97116)*DB65) -> 22.567102 | ... DQ48: =(('MMO - Euro100kg'!DQ48/0.97116)*DQ65) -> 29.874457 | DR48: =(('MMO - Euro100kg'!DR48/0.97116)*DR$65) -> 29.640848 | DS48: =(('MMO - Euro100kg'!DS48/0.97116)*DS$65) -> 29.54056 | DT48: =(('MMO - Euro100kg'!DT48/0.97116)*DT$65) -> 29.69901 | DU48: =(('MMO - Euro100kg'!DU48/0.97116)*DU$65) -> 30.532947 | DV48: =(('MMO - Euro100kg'!DV48/0.97116)*DV$65) -> 31.202311 | DW48: =(('MMO - Euro100kg'!DW48/0.97116)*DW$65) -> 30.996186 | DX48: =(('MMO - Euro100kg'!DX48/0.97116)*DX$65) -> 31.332478 | DY48: =(('MMO - Euro100kg'!DY48/0.97116)*DY$65) -> 31.404615 | ... ED48: =(('MMO - Euro100kg'!ED48/0.97116)*ED$65) -> 31.070617 | EW48: =EW53 -> 32.200654 | EX48: =EX53 -> 32.639447 | EY48: =EY53 -> 33.343878 | EZ48: =EZ53 -> 34.366881 | FA48: =FA53 -> 34.722301 | FB48: =FB53 -> 34.627072 | FC48: =FC53 -> 34.158134 | FD48: =FD53 -> 33.967467 | ... FG48: =FG53 -> 31.520393
B49: Weighted average EU27 | CU49: =(('MMO - Euro100kg'!CU49/0.97116)*CU$65) -> 27.84383 | CV49: =(('MMO - Euro100kg'!CV49/0.97116)*CV$65) -> 26.01693 | CW49: =(('MMO - Euro100kg'!CW49/0.97116)*CW$65) -> 25.04666 | CX49: =(('MMO - Euro100kg'!CX49/0.97116)*CX$65) -> 22.642818 | CY49: =(('MMO - Euro100kg'!CY49/0.97116)*CY$65) -> 22.234258 | CZ49: =(('MMO - Euro100kg'!CZ49/0.97116)*CZ$65) -> 21.650807 | DA49: =(('MMO - Euro100kg'!DA49/0.97116)*DA$65) -> 22.069099 | DB49: =(('MMO - Euro100kg'!DB49/0.97116)*DB$65) -> 22.781587 | ... FC49: =(('MMO - Euro100kg'!FC49/0.97116)*FC$65) -> 34.117504
B51: Croatia | EW51: =(('MMO - Euro100kg'!EW51/0.97116)*EW$65) -> 30.630972 | EX51: =(('MMO - Euro100kg'!EX51/0.97116)*EX$65) -> 30.416848 | EY51: =(('MMO - Euro100kg'!EY51/0.97116)*EY$65) -> 31.244706 | EZ51: =(('MMO - Euro100kg'!EZ51/0.97116)*EZ$65) -> 31.828616 | FA51: =(('MMO - Euro100kg'!FA51/0.97116)*FA$65) -> 31.98493 | FB51: =(('MMO - Euro100kg'!FB51/0.97116)*FB$65) -> 32.51724 | FC51: =(('MMO - Euro100kg'!FC51/0.97116)*FC$65) -> 31.71218 | FD51: =(('MMO - Euro100kg'!FD51/0.97116)*FD$65) -> 31.590338 | ... KX51: =(('MMO - Euro100kg'!KX51/0.97116)*KX$65) -> 41.923608 | KY51: =KX51-KL51 -> -1.2974354 | KZ51: =(KX51/KL51)-1 -> -0.030018604
B53: Weighted average EU28 | EW53: =(('MMO - Euro100kg'!EW53/0.97116)*EW$65) -> 32.200654 | EX53: =(('MMO - Euro100kg'!EX53/0.97116)*EX$65) -> 32.639447 | EY53: =(('MMO - Euro100kg'!EY53/0.97116)*EY$65) -> 33.343878 | EZ53: =(('MMO - Euro100kg'!EZ53/0.97116)*EZ$65) -> 34.366881 | FA53: =(('MMO - Euro100kg'!FA53/0.97116)*FA$65) -> 34.722301 | FB53: =(('MMO - Euro100kg'!FB53/0.97116)*FB$65) -> 34.627072 | FC53: =(('MMO - Euro100kg'!FC53/0.97116)*FC$65) -> 34.158134 | FD53: =(('MMO - Euro100kg'!FD53/0.97116)*FD$65) -> 33.967467 | ... HW53: =(('MMO - Euro100kg'!HW53/0.97116)*HW$65) -> 30.546044 | HX53: =IFERROR("n/a",(('MMO - Euro100kg'!HX53/0.97116)*HX$65)) -> n/a | HY53: =IFERROR("n/a",(('MMO - Euro100kg'!HY53/0.97116)*HY$65)) -> n/a | HZ53: =IFERROR("n/a",(('MMO - Euro100kg'!HZ53/0.97116)*HZ$65)) -> n/a | IA53: =IFERROR("n/a",(('MMO - Euro100kg'!IA53/0.97116)*IA$65)) -> n/a | IB53: =IFERROR("n/a",(('MMO - Euro100kg'!IB53/0.97116)*IB$65)) -> n/a | IC53: =IFERROR("n/a",(('MMO - Euro100kg'!IC53/0.97116)*IC$65)) -> n/a | ID53: =IFERROR("n/a",(('MMO - Euro100kg'!ID53/0.97116)*ID$65)) -> n/a | IE53: =IFERROR("n/a",(('MMO - Euro100kg'!IE53/0.97116)*IE$65)) -> n/a | ... KX53: =IFERROR("n/a",(('MMO - Euro100kg'!KX53/0.97116)*KX$65)) -> n/a | KY53: n/a | KZ53: n/a
B54: EU+UK | HX54: =(('MMO - Euro100kg'!HX54/0.97116)*HX$65) -> 30.290175 | HY54: =(('MMO - Euro100kg'!HY54/0.97116)*HY$65) -> 31.447983 | HZ54: =(('MMO - Euro100kg'!HZ54/0.97116)*HZ$65) -> 29.829247 | IA54: =(('MMO - Euro100kg'!IA54/0.97116)*IA$65) -> 29.752113 | IB54: =(('MMO - Euro100kg'!IB54/0.97116)*IB$65) -> 29.81827 | IC54: =(('MMO - Euro100kg'!IC54/0.97116)*IC$65) -> 30.330781 | ID54: =(('MMO - Euro100kg'!ID54/0.97116)*ID$65) -> 30.414383 | IE54: =(('MMO - Euro100kg'!IE54/0.97116)*IE$65) -> 31.540832 | ... IH54: =(('MMO - Euro100kg'!IH54/0.97116)*IH$65) -> 32.707342 | II54: =IFERROR("n/a",(('MMO - Euro100kg'!II54/0.97116)*II$65)) -> n/a | IJ54: =IFERROR("n/a",(('MMO - Euro100kg'!IJ54/0.97116)*IJ$65)) -> n/a | IK54: =IFERROR("n/a",(('MMO - Euro100kg'!IK54/0.97116)*IK$65)) -> n/a | IL54: =IFERROR("n/a",(('MMO - Euro100kg'!IL54/0.97116)*IL$65)) -> n/a | IM54: =IFERROR("n/a",(('MMO - Euro100kg'!IM54/0.97116)*IM$65)) -> n/a | IN54: =IFERROR("n/a",(('MMO - Euro100kg'!IN54/0.97116)*IN$65)) -> n/a | IO54: =IFERROR("n/a",(('MMO - Euro100kg'!IO54/0.97116)*IO$65)) -> n/a | IP54: =IFERROR("n/a",(('MMO - Euro100kg'!IP54/0.97116)*IP$65)) -> n/a | ... KX54: =IFERROR("n/a",(('MMO - Euro100kg'!KX54/0.97116)*KX$65)) -> n/a | KY54: n/a | KZ54: n/a
B56: EU (ex UK) | HE56: =(('MMO - Euro100kg'!HE56/0.97116)*HE$65) -> 30.258542 | HF56: =(('MMO - Euro100kg'!HF56/0.97116)*HF$65) -> 31.057389 | HG56: =(('MMO - Euro100kg'!HG56/0.97116)*HG$65) -> 32.075082 | HH56: =(('MMO - Euro100kg'!HH56/0.97116)*HH$65) -> 32.694375 | HI56: =(('MMO - Euro100kg'!HI56/0.97116)*HI$65) -> 32.855119 | HJ56: =(('MMO - Euro100kg'!HJ56/0.97116)*HJ$65) -> 33.121299 | HK56: =(('MMO - Euro100kg'!HK56/0.97116)*HK$65) -> 32.214777 | HL56: =(('MMO - Euro100kg'!HL56/0.97116)*HL$65) -> 31.655959 | ... KX56: =(('MMO - Euro100kg'!KX56/0.97116)*KX$65) -> 37.683646 | KY56: =KX56-KL56 -> -9.7338738 | KZ56: =(KX56/KL56)-1 -> -0.20528011
B58: Figures in bold are DG Agri estimates
B59: Figures in blue are estimated prices by the Member State | AY59: 27.18 | AZ59: 29.72
B60: Figures in red are estimates based on National Statistics | AY60: 27.54 | AZ60: 29.93
B63: Average exchange rate for month | AY63: 27.54 | AZ63: 29.67
B64: Month | C64: 36892 | D64: 36923 | E64: 36951 | F64: 36982 | G64: 37012 | H64: 37043 | I64: 37073 | J64: 37104 | K64: 37135 | L64: 37165 | M64: 37196 | N64: 37226 | O64: 37257 | P64: 37288 | Q64: 37316 | R64: 37347 | S64: 37377 | T64: 37408 | U64: 37438 | V64: 37469 | W64: 37500 | X64: 37530 | Y64: 37561 | Z64: 37591 | AA64: 37622 | AB64: 37653 | AC64: 37681 | AD64: 37712 | AE64: 37742 | AF64: 37773 | AG64: 37803 | AH64: 37834 | AI64: 37865 | AJ64: 37895 | AK64: 37926 | AL64: 37956 | AM64: 37987 | AN64: 38018 | AO64: 38047 | AP64: 38078 | AQ64: 38108 | AR64: 38139 | AS64: 38169 | AT64: 38200 | AU64: 38231 | AV64: 38261 | AW64: 38292 | AX64: 38322 | AY64: 38353 | AZ64: 38384 | BA64: 38412 | BB64: 38443 | BC64: 38473 | BD64: 38504 | BE64: 38534 | BF64: 38565 | BG64: 38596 | BH64: 38626 | BI64: 38657 | BJ64: 38687 | BK64: 38718 | BL64: 38749 | BM64: 38777 | BN64: 38808 | BO64: 38838 | BP64: 38869 | BQ64: 38899 | BR64: 38930 | BS64: 38961 | BT64: 38991 | BU64: 39022 | BV64: 39052 | BW64: 39083 | BX64: 39114 | BY64: 39142 | BZ64: 39173 | CA64: 39203 | CB64: 39234 | CC64: 39264 | CD64: 39295 | CE64: 39326 | CF64: 39356 | CG64: 39387 | CH64: 39417 | CI64: 39448 | CJ64: 39479 | CK64: 39508 | CL64: 39539 | CM64: 39569 | CN64: 39600 | CO64: 39630 | CP64: 39661 | CQ64: 39692 | CR64: 39722 | CS64: 39753 | CT64: 39783 | CU64: 39814 | CV64: 39845 | CW64: 39873 | CX64: 39904 | CY64: 39934 | CZ64: 39965 | DA64: 39995 | DB64: 40026 | DC64: 40057 | DD64: 40087 | DE64: 40118 | DF64: 40148 | DG64: 40179 | DH64: 40210 | DI64: 40238 | DJ64: 40269 | DK64: 40299 | DL64: 40330 | DM64: 40360 | DN64: 40391 | DO64: 40422 | DP64: 40452 | DQ64: 40483 | DR64: 40513 | DS64: 40544 | DT64: 40575 | DU64: 40603 | DV64: 40634 | DW64: 40664 | DX64: 40695 | DY64: 40725 | DZ64: 40756 | EA64: 40787 | EB64: 40817 | EC64: 40848 | ED64: 40878 | EE64: 40909 | EF64: 40940 | EG64: 40969 | EH64: 41000 | EI64: 41030 | EJ64: 41061 | EK64: 41091 | EL64: 41122 | EM64: 41153 | EN64: 41183 | EO64: 41214 | EP64: 41244 | EQ64: 41275 | ER64: 41306 | ES64: 41334 | ET64: 41365 | EU64: 41395 | EV64: 41426 | EW64: 41456 | EX64: 41487 | EY64: 41518 | EZ64: 41548 | FA64: 41579 | FB64: 41609 | FC64: 41640 | FD64: 41671 | FE64: 41699 | FF64: 41730 | FG64: 41760 | FH64: 41791 | FI64: 41821 | FJ64: 41852 | FK64: 41883 | FL64: 41913 | FM64: 41944 | FN64: 41974 | FO64: 42005 | FP64: 42036 | FQ64: 42064 | FR64: 42095 | FS64: 42125 | FT64: 42156 | FU64: 42186 | FV64: 42217 | FW64: 42248 | FX64: 42278 | FY64: 42309 | FZ64: 42339 | GA64: 42370 | GB64: 42401 | GC64: 42430 | GD64: 42461 | GE64: 42491 | GF64: 42522 | GG64: 42552 | GH64: 42583 | GI64: 42614 | GJ64: 42644 | GK64: 42675 | GL64: 42705 | GM64: 42736 | GN64: 42767 | GO64: 42795 | GP64: 42826 | GQ64: 42856 | GR64: 42887 | GS64: 42917 | GT64: 42948 | GU64: 42979 | GV64: 43009 | GW64: 43040 | GX64: 43070 | GY64: 43101 | GZ64: 43132 | HA64: 43160 | HB64: 43191 | HC64: 43221 | HD64: 43252 | HE64: 43282 | HF64: 43313 | HG64: 43344 | HH64: 43374 | HI64: 43405 | HJ64: 43435 | HK64: 43466 | HL64: 43497 | HM64: 43525 | HN64: 43556 | HO64: 43586 | HP64: 43617 | HQ64: 43647 | HR64: 43678 | HS64: 43709 | HT64: 43739 | HU64: 43770 | HV64: 43800 | HW64: 43831 | HX64: 43862 | HY64: 43891 | HZ64: 43922 | IA64: 43952 | IB64: 43983 | IC64: 44013 | ID64: 44044 | IE64: 44075 | IF64: 44105 | IG64: 44136 | IH64: 44166 | II64: 44197 | IJ64: 44228 | IK64: 44256 | IL64: 44287 | IM64: 44317 | IN64: 44348 | IO64: 44378 | IP64: 44409 | IQ64: 44440 | IR64: 44470 | IS64: 44501 | IT64: 44531 | IU64: 44562 | IV64: 44593 | IW64: 44621 | IX64: 44652 | IY64: 44682 | IZ64: 44713 | JA64: 44743 | JB64: 44774 | JC64: 44805 | JD64: 44835 | JE64: 44866 | JF64: 44896 | JG64: 44927 | JH64: 44958 | JI64: 44986 | JJ64: 45017 | JK64: 45047 | JL64: 45078 | JM64: 45108 | JN64: 45139 | JO64: 45170 | JP64: 45200 | JQ64: 45231 | JR64: 45261 | JS64: 45292 | JT64: 45323 | JU64: 45352 | JV64: 45383 | JW64: 45413 | JX64: 45444 | JY64: 45474 | JZ64: 45505 | KA64: 45536 | KB64: 45566 | KC64: 45597 | KD64: 45627 | KE64: 45658 | KF64: 45689 | KG64: 45717 | KH64: 45748 | KI64: 45778 | KJ64: 45809 | KK64: 45839 | KL64: 45870 | KM64: 45901 | KN64: 45931 | KO64: 45962 | KP64: 45992 | KQ64: 46023 | KR64: 46054 | KS64: 46082 | KT64: 46113 | KU64: 46143 | KV64: 46174 | KW64: 46204 | KX64: 46235
B65: Exchange rate | C65: 0.634885 | D65: 0.6338 | E65: 0.629561 | F65: 0.621672 | G65: 0.614059 | H65: 0.608742 | I65: 0.608116 | J65: 0.62706 | K65: 0.623224 | L65: 0.624227 | M65: 0.618518 | N65: 0.61943 | O65: 0.616762 | P65: 0.611367 | Q65: 0.615656 | R65: 0.614139 | S65: 0.627382 | T65: 0.64396 | U65: 0.638824 | V65: 0.635751 | W65: 0.630616 | X65: 0.630083 | Y65: 0.637376 | Z65: 0.642182 | AA65: 0.656501 | AB65: 0.668051 | AC65: 0.683465 | AD65: 0.689464 | AE65: 0.713737 | AF65: 0.705221 | AG65: 0.701662 | AH65: 0.69983 | AI65: 0.69666 | AJ65: 0.697672 | AK65: 0.692289 | AL65: 0.701253 | AM65: 0.693146 | AN65: 0.676156 | AO65: 0.67117 | AP65: 0.664214 | AQ65: 0.672703 | AR65: 0.663897 | AS65: 0.66593 | AT65: 0.668802 | AU65: 0.68145 | AV65: 0.691014 | AW65: 0.698845 | AX65: 0.693083 | AY65: 0.698443 | AZ65: 0.689465 | BA65: 0.692668 | BB65: 0.683014 | BC65: 0.684047 | BD65: 0.669072 | BE65: 0.685999 | BF65: 0.685544 | BG65: 0.677237 | BH65: 0.681783 | BI65: 0.679107 | BJ65: 0.678369 | BK65: 0.686084 | BL65: 0.683197 | BM65: 0.688743 | BN65: 0.694564 | BO65: 0.683873 | BP65: 0.687835 | BQ65: 0.688157 | BR65: 0.676815 | BS65: 0.674988 | BT65: 0.672863 | BU65: 0.673863 | BV65: 0.673107 | BW65: 0.663653 | BX65: 0.667097 | BY65: 0.680034 | BZ65: 0.680047 | CA65: 0.681501 | CB65: 0.675942 | CC65: 0.674494 | CD65: 0.677624 | CE65: 0.688122 | CF65: 0.695943 | CG65: 0.708324 | CH65: 0.72093 | CI65: 0.746116 | CJ65: 0.750057 | CK65: 0.773911 | CL65: 0.795171 | CM65: 0.791239 | CN65: 0.790843 | CO65: 0.792241 | CP65: 0.79182 | CQ65: 0.799568 | CR65: 0.785675 | CS65: 0.830338 | CT65: 0.905772 | CU65: 0.920703 | CV65: 0.889117 | CW65: 0.919101 | CX65: 0.898295 | CY65: 0.88539 | CZ65: 0.857149 | DA65: 0.861167 | DB65: 0.862088 | DC65: 0.89168 | DD65: 0.915974 | DE65: 0.898188 | DF65: 0.899476 | DG65: 0.884244 | DH65: 0.875722 | DI65: 0.901786 | DJ65: 0.87695 | DK65: 0.85867 | DL65: 0.8298 | DM65: 0.836362 | DN65: 0.82461 | DO65: 0.83804 | DP65: 0.87636 | DQ65: 0.85697 | DR65: 0.8468871 | DS65: 0.8478 | DT65: 0.8464 | DU65: 0.8661 | DV65: 0.8829 | DW65: 0.8765 | DX65: 0.886 | DY65: 0.8861 | DZ65: 0.8759 | EA65: 0.87224 | EB65: 0.86949 | EC65: 0.85821 | ED65: 0.84512 | EE65: 0.83138 | EF65: 0.83668 | EG65: 0.83489 | EH65: 0.823 | EI65: 0.8047 | EJ65: 0.8064 | EK65: 0.7889 | EL65: 0.7884 | EM65: 0.79868 | EN65: 0.80655 | EO65: 0.80334 | EP65: 0.81258 | EQ65: 0.8306 | ER65: 0.86182 | ES65: 0.85993 | ET65: 0.8502 | EU65: 0.848 | EV65: 0.85178 | EW65: 0.86125 | EX65: 0.85996 | EY65: 0.84241 | EZ65: 0.8471 | FA65: 0.83862 | FB65: 0.83632 | FC65: 0.82767 | FD65: 0.82449 | FE65: 0.83116 | FF65: 0.8251 | FG65: 0.81565 | FH65: 0.80437 | FI65: 0.79306 | FJ65: 0.79745 | FK65: 0.79112 | FL65: 0.78805 | FM65: 0.79013 | FN65: 0.78792 | FO65: 0.76821 | FP65: 0.7413 | FQ65: 0.72275 | FR65: 0.7232 | FS65: 0.72285 | FT65: 0.72037 | FU65: 0.70751 | FV65: 0.71344 | FW65: 0.73198 | FX65: 0.73285 | FY65: 0.7068 | FZ65: 0.72515 | GA65: 0.75297 | GB65: 0.77482 | GC65: 0.78059 | GD65: 0.79309 | GE65: 0.77891 | GF65: 0.78885 | GG65: 0.84078 | GH65: 0.85537 | GI65: 0.85174 | GJ65: 0.89146 | GK65: 0.86916 | GL65: 0.84398 | GM65: 0.86076 | GN65: 0.85293 | GO65: 0.86631 | GP65: 0.84782 | GQ65: 0.85427 | GR65: 0.87704 | GS65: 0.88558 | GT65: 0.91120739 | GU65: 0.89470095 | GV65: 0.89071409 | GW65: 0.887945 | GX65: 0.88264895 | GY65: 0.88331136 | GZ65: 0.883964 | HA65: 0.88287048 | HB65: 0.8721215 | HC65: 0.87725773 | HD65: 0.87886048 | HE65: 0.887255 | HF65: 0.8968687 | HG65: 0.892807 | HH65: 0.88272087 | HI65: 0.88118136 | HJ65: 0.89774158 | HK65: 0.88602955 | HL65: 0.872637 | HM65: 0.85822048 | HN65: 0.8617895 | HO65: 0.87175818 | HP65: 0.891073 | HQ65: 0.89942043 | HR65: 0.91553773 | HS65: 0.89091619 | HT65: 0.87538565 | HU65: 0.85760905 | HV65: 0.84731 | HW65: 0.84927273 | HX65: 0.840955 | HY65: 0.89458182 | HZ65: 0.87546 | IA65: 0.886865 | IB65: 0.89876818 | IC65: 0.90466957 | ID65: 0.9008 | IE65: 0.90947727 | IF65: 0.90742273 | IG65: 0.8960381 | IH65: 0.90625 | II65: 0.89267 | IJ65: 0.87269 | IK65: 0.85873913 | IL65: 0.86529 | IM65: 0.86258571 | IN65: 0.85873636 | IO65: 0.85613182 | IP65: 0.85287727 | IQ65: 0.85684091 | IR65: 0.84694762 | IS65: 0.84787727 | IT65: 0.84876522 | IU65: 0.83504286 | IV65: 0.837885 | IW65: 0.8364 | IX65: 0.83656842 | IY65: 0.84969545 | IZ65: 0.85760455 | JA65: 0.84956667 | JB65: 0.84500435 | JC65: 0.87464091 | JD65: 0.87057143 | JE65: 0.86893182 | JF65: 0.86950476 | JG65: 0.88213636 | JH65: 0.885515 | JI65: 0.88191739 | JJ65: 0.88115556 | JK65: 0.87041818 | JL65: 0.85861818 | JM65: 0.85856667 | JN65: 0.85893478 | JO65: 0.86159524 | JP65: 0.868 | JQ65: 0.87047727 | JR65: 0.86169474 | JS65: 0.85874545 | JT65: 0.85468095 | JU65: 0.855255 | JV65: 0.85658571 | JW65: 0.85565455 | JX65: 0.846445 | JY65: 0.84333043 | JZ65: 0.85150455 | KA65: 0.84022857 | KB65: 0.83498261 | KC65: 0.8338 | KD65: 0.828065 | KE65: 0.83908636 | KF65: 0.83072 | KG65: 0.83703333 | KH65: 0.853795 | KI65: 0.84349524 | KJ65: 0.84980952 | KK65: 0.86468696 | KL65: 0.86527619 | KM65: 0.86894545 | KN65: 0.87155217 | KO65: 0.879965 | KP65: 0.875 | KQ65: 0.86828095 | KR65: 0.870315 | KS65: 0.86630909 | KT65: 0.86934 | KU65: 0.865655 | KV65: 0.86372273 | KW65: 0.85392609 | KX65: 0.85606667
AY66: 27.25 | AZ66: 28.25
AY67: 26.94 | AZ67: 27.77
AY68: 26.14 | AZ68: 28.08
AY69: 26.44 | AZ69: 28.6
AY70: 27.16 | AZ70: 29.14
AY71: 27.99 | AZ71: 29.63
AY72: 27.85 | AZ72: 29.43

Sheet MMO - Euro100kg
A2: EU farmgate milk prices
A3: Source: DG Agri/Milk Market Observatory
A4: Units: Euros/100kg
A5: Last updated: 22/10/2026
BW7: Jan | BX7: Feb | BY7: Mar | BZ7: Apr | CA7: May | CB7: Jun | CC7: Jul | CD7: Aug | CE7: Sep | CF7: Oct | CG7: Nov | CH7: Dec | CI7: Jan | CJ7: Feb | EE7: . | EQ7: Jan | ER7: Feb | ES7: Mar | ET7: Apr | EU7: May | EV7: Jun | EW7: Jul | EX7: Aug | EY7: Sep | EZ7: Oct | FA7: Nov | FB7: Dec
B8: Country | C8: 36892 | D8: 36923 | E8: 36951 | F8: 36982 | G8: 37012 | H8: 37043 | I8: 37073 | J8: 37104 | K8: 37135 | L8: 37165 | M8: 37196 | N8: 37226 | O8: 37257 | P8: 37288 | Q8: 37316 | R8: 37347 | S8: 37377 | T8: 37408 | U8: 37438 | V8: 37469 | W8: 37500 | X8: 37530 | Y8: 37561 | Z8: 37591 | AA8: 37622 | AB8: 37653 | AC8: 37681 | AD8: 37712 | AE8: 37742 | AF8: 37773 | AG8: 37803 | AH8: 37834 | AI8: 37865 | AJ8: 37895 | AK8: 37926 | AL8: 37956 | AM8: 37987 | AN8: 38018 | AO8: 38047 | AP8: 38078 | AQ8: 38108 | AR8: 38139 | AS8: 38169 | AT8: 38200 | AU8: 38231 | AV8: 38261 | AW8: 38292 | AX8: 38322 | AY8: 38353 | AZ8: 38384 | BA8: 38412 | BB8: 38443 | BC8: 38473 | BD8: 38504 | BE8: 38534 | BF8: 38565 | BG8: 38596 | BH8: 38626 | BI8: 38657 | BJ8: 38687 | BK8: 38718 | BL8: 38749 | BM8: 38777 | BN8: 38808 | BO8: 38838 | BP8: 38869 | BQ8: 38899 | BR8: 38930 | BS8: 38961 | BT8: 38991 | BU8: 39022 | BV8: 39052 | BW8: 39083 | BX8: 39114 | BY8: 39142 | BZ8: 39173 | CA8: 39203 | CB8: 39234 | CC8: 39264 | CD8: 39295 | CE8: 39326 | CF8: 39356 | CG8: 39387 | CH8: 39417 | CI8: 39448 | CJ8: 39479 | CK8: 39508 | CL8: 39539 | CM8: 39569 | CN8: 39600 | CO8: 39630 | CP8: 39661 | CQ8: 39692 | CR8: 39722 | CS8: 39753 | CT8: 39783 | CU8: 39814 | CV8: 39845 | CW8: 39873 | CX8: 39904 | CY8: 39934 | CZ8: 39965 | DA8: 39995 | DB8: 40026 | DC8: 40057 | DD8: 40087 | DE8: 40118 | DF8: 40148 | DG8: 40179 | DH8: 40210 | DI8: 40238 | DJ8: 40269 | DK8: 40299 | DL8: 40330 | DM8: 40360 | DN8: 40391 | DO8: 40422 | DP8: 40452 | DQ8: 40483 | DR8: 40513 | DS8: 40544 | DT8: 40575 | DU8: 40603 | DV8: 40634 | DW8: 40664 | DX8: 40695 | DY8: 40725 | DZ8: 40756 | EA8: 40787 | EB8: 40817 | EC8: 40848 | ED8: 40878 | EE8: 40909 | EF8: 40940 | EG8: 40969 | EH8: 41000 | EI8: 41030 | EJ8: 41061 | EK8: 41091 | EL8: 41122 | EM8: 41153 | EN8: 41183 | EO8: 41214 | EP8: 41244 | EQ8: 41275 | ER8: 41306 | ES8: 41334 | ET8: 41365 | EU8: 41395 | EV8: 41426 | EW8: 41456 | EX8: 41487 | EY8: 41518 | EZ8: 41548 | FA8: 41579 | FB8: 41609 | FC8: 41640 | FD8: 41671 | FE8: 41699 | FF8: 41730 | FG8: 41760 | FH8: 41791 | FI8: 41821 | FJ8: 41852 | FK8: 41883 | FL8: 41913 | FM8: 41944 | FN8: 41974 | FO8: 42005 | FP8: 42036 | FQ8: 42064 | FR8: 42095 | FS8: 42125 | FT8: 42156 | FU8: 42186 | FV8: 42217 | FW8: 42248 | FX8: 42278 | FY8: 42309 | FZ8: 42339 | GA8: 42370 | GB8: 42401 | GC8: 42430 | GD8: 42461 | GE8: 42491 | GF8: 42522 | GG8: 42552 | GH8: 42583 | GI8: 42614 | GJ8: 42644 | GK8: 42675 | GL8: 42705 | GM8: 42736 | GN8: 42767 | GO8: 42795 | GP8: 42826 | GQ8: 42856 | GR8: 42887 | GS8: 42917 | GT8: 42948 | GU8: 42979 | GV8: 43009 | GW8: 43040 | GX8: 43070 | GY8: 43101 | GZ8: 43132 | HA8: 43160 | HB8: 43191 | HC8: 43221 | HD8: 43252 | HE8: 43282 | HF8: 43313 | HG8: 43344 | HH8: 43374 | HI8: 43405 | HJ8: 43435 | HK8: 43466 | HL8: 43497 | HM8: 43525 | HN8: 43556 | HO8: 43586 | HP8: 43617 | HQ8: 43647 | HR8: 43678 | HS8: 43709 | HT8: 43739 | HU8: 43770 | HV8: 43800 | HW8: 43831 | HX8: 43862 | HY8: 43891 | HZ8: 43922 | IA8: 43952 | IB8: 43983 | IC8: 44013 | ID8: 44044 | IE8: 44075 | IF8: 44105 | IG8: 44136 | IH8: 44166 | II8: 44197 | IJ8: 44228 | IK8: 44256 | IL8: 44287 | IM8: 44317 | IN8: 44348 | IO8: 44378 | IP8: 44409 | IQ8: 44440 | IR8: 44470 | IS8: 44501 | IT8: 44531 | IU8: 44562 | IV8: 44593 | IW8: 44621 | IX8: 44652 | IY8: 44682 | IZ8: 44713 | JA8: 44743 | JB8: 44774 | JC8: 44805 | JD8: 44835 | JE8: 44866 | JF8: 44896 | JG8: 44927 | JH8: 44958 | JI8: 44986 | JJ8: 45017 | JK8: 45047 | JL8: 45078 | JM8: 45108 | JN8: 45139 | JO8: 45170 | JP8: 45200 | JQ8: 45231 | JR8: 45261 | JS8: 45292 | JT8: 45323 | JU8: 45352 | JV8: 45383 | JW8: 45413 | JX8: 45444 | JY8: 45474 | JZ8: 45505 | KA8: 45536 | KB8: 45566 | KC8: 45597 | KD8: 45627 | KE8: 45658 | KF8: 45689 | KG8: 45717 | KH8: 45748 | KI8: 45778 | KJ8: 45809 | KK8: 45839 | KL8: 45870 | KM8: 45901 | KN8: 45931 | KO8: 45962 | KP8: 45992 | KQ8: 46023 | KR8: 46054 | KS8: 46082 | KT8: 46113 | KU8: 46143 | KV8: 46174 | KW8: 46204 | KX8: 46235 | KY8: Year-on-year change | KZ8: Year-on-year % change
B9: Belgium | C9: 33.07 | D9: 31.58 | E9: 30.07 | F9: 29 | G9: 28.68 | H9: 28.36 | I9: 30.04 | J9: 31.51 | K9: 34.16 | L9: 35.57 | M9: 36.42 | N9: 35.12 | O9: 33.14 | P9: 30.29 | Q9: 28.2 | R9: 26.5 | S9: 25.47 | T9: 24.96 | U9: 25.6 | V9: 27.76 | W9: 30.13 | X9: 32.35 | Y9: 32.8 | Z9: 32.54 | AA9: 29.78 | AB9: 28.79 | AC9: 26.8 | AD9: 25.41 | AE9: 24.34 | AF9: 24.39 | AG9: 25 | AH9: 26.27 | AI9: 27.88 | AJ9: 29.35 | AK9: 29.83 | AL9: 29.46 | AM9: 30.8601 | AN9: 29.5601 | AO9: 28.3601 | AP9: 27.0701 | AQ9: 26.4401 | AR9: 26.1001 | AS9: 26.6101 | AT9: 27.5901 | AU9: 29.6101 | AV9: 31.0601 | AW9: 31.4801 | AX9: 31.3501 | AY9: 29.44 | AZ9: 28.33 | BA9: 27.75 | BB9: 26.07 | BC9: 25.84 | BD9: 25.49 | BE9: 25.47 | BF9: 26.8 | BG9: 27.78 | BH9: 29.23 | BI9: 29.6 | BJ9: 29.7 | BK9: 28.35 | BL9: 27.54 | BM9: 26.73 | BN9: 25.67 | BO9: 25.38 | BP9: 24.91 | BQ9: 24.86 | BR9: 26.3 | BS9: 27.6 | BT9: 28.57 | BU9: 29.27 | BV9: 29.01 | BW9: 28.1 | BX9: 27.78 | BY9: 27.51 | BZ9: 27.36 | CA9: 28.63 | CB9: 32.71 | CC9: 35.85 | CD9: 38.48 | CE9: 40.57 | CF9: 43.2 | CG9: 43.2 | CH9: 42.15 | CI9: 39.5 | CJ9: 37.58 | CK9: 36.32 | CL9: 34.65 | CM9: 32.43 | CN9: 30.35 | CO9: 30.06 | CP9: 30.09 | CQ9: 29.46 | CR9: 29.06 | CS9: 27.65 | CT9: 27.21 | CU9: 24.99 | CV9: 23.21 | CW9: 21.95 | CX9: 21.6 | CY9: 20.91 | CZ9: 20.78 | DA9: 21.11 | DB9: 21.59 | DC9: 23.48 | DD9: 26.85 | DE9: 28.69 | DF9: 28.88 | DG9: 27.96 | DH9: 27.9 | DI9: 28.4 | DJ9: 28.66 | DK9: 29.27 | DL9: 29.72 | DM9: 29.64 | DN9: 31.13 | DO9: 32.28 | DP9: 33.28 | DQ9: 33.58 | DR9: 33.81 | DS9: 33.09 | DT9: 33.86 | DU9: 33.27 | DV9: 32.65 | DW9: 32.22 | DX9: 32.6 | DY9: 32.74 | DZ9: 32.35 | EA9: 33.09 | EB9: 33.62 | EC9: 34.17 | ED9: 33.65 | EE9: 31.97 | EF9: 32.13 | EG9: 30.25 | EH9: 28.93 | EI9: 27.44 | EJ9: 26.66 | EK9: 26.33 | EL9: 28.03 | EM9: 29.85 | EN9: 32.24 | EO9: 33.84 | EP9: 34.56 | EQ9: 34.01 | ER9: 33.87 | ES9: 34.37 | ET9: 35.21 | EU9: 35.71 | EV9: 36.13 | EW9: 35.97 | EX9: 37.26 | EY9: 39.58 | EZ9: 40.76 | FA9: 41.85 | FB9: 41.87 | FC9: 40.54 | FD9: 40.41 | FE9: 40.14 | FF9: 39.06 | FG9: 38.01 | FH9: 36.41 | FI9: 35.11 | FJ9: 34.36 | FK9: 33.29 | FL9: 32.28 | FM9: 31.28 | FN9: 31.15 | FO9: 29.09 | FP9: 29.02 | FQ9: 28.49 | FR9: 28.21 | FS9: 27.89 | FT9: 27.35 | FU9: 26.7 | FV9: 27.21 | FW9: 27.35 | FX9: 28.27 | FY9: 28.14 | FZ9: 27.41 | GA9: 26.84 | GB9: 25.81 | GC9: 24.79 | GD9: 24.08 | GE9: 22.85 | GF9: 22.26 | GG9: 22.12 | GH9: 24.67 | GI9: 26.85 | GJ9: 30.46 | GK9: 33.68 | GL9: 35.97 | GM9: 34.97 | GN9: 34.1 | GO9: 33.73 | GP9: 33.44 | GQ9: 32.95 | GR9: 33.19 | GS9: 34.32 | GT9: 36.06 | GU9: 37.7 | GV9: 37.51 | GW9: 37.01 | GX9: 35.67 | GY9: 31.59 | GZ9: 31.37 | HA9: 31.01 | HB9: 30.17 | HC9: 29.58 | HD9: 30.44 | HE9: 30.17 | HF9: 31.82 | HG9: 33.73 | HH9: 35.12 | HI9: 35.69 | HJ9: 35.53 | HK9: 33.86 | HL9: 33.71 | HM9: 33.59 | HN9: 32.97 | HO9: 32.48 | HP9: 31.64 | HQ9: 31.12 | HR9: 31.5 | HS9: 32.69 | HT9: 33.48 | HU9: 34.15 | HV9: 35.36 | HW9: 34.33 | HX9: 33.82 | HY9: 31.9 | HZ9: 30.37 | IA9: 29.81 | IB9: 29.58 | IC9: 29.56 | ID9: 29.47 | IE9: 30.56 | IF9: 31.68 | IG9: 31.89 | IH9: 32.59 | II9: 32.87 | IJ9: 32.87 | IK9: 34.15 | IL9: 35.27 | IM9: 35.56 | IN9: 35.11 | IO9: 35.13 | IP9: 35.73 | IQ9: 36.46 | IR9: 38.64 | IS9: 40.67 | IT9: 45.05 | IU9: 45.13 | IV9: 45.61 | IW9: 47.68 | IX9: 48.81 | IY9: 51.56 | IZ9: 54.86 | JA9: 55.5 | JB9: 56.22 | JC9: 57.98 | JD9: 59.06 | JE9: 58.29 | JF9: 58.13 | JG9: 53.77 | JH9: 49.12 | JI9: 45.67 | JJ9: 43.61 | JK9: 41.89 | JL9: 39.95 | JM9: 38.99 | JN9: 38.7 | JO9: 38.04 | JP9: 38.66 | JQ9: 40.57 | JR9: 43.28 | JS9: 43.63 | JT9: 43.4 | JU9: 43.85 | JV9: 43.79 | JW9: 43.34 | JX9: 46.68 | JY9: 43.86 | JZ9: 44.76 | KA9: 47.79 | KB9: 51.65 | KC9: 53.66 | KD9: 55.3 | KE9: 54.63 | KF9: 53.88 | KG9: 53.03 | KH9: 53.15 | KI9: 53.62 | KJ9: 52.78 | KK9: 51.58 | KL9: 51.48 | KM9: 50.14 | KN9: 47.58 | KO9: 43.47 | KP9: 40.28 | KQ9: 38.17 | KR9: 37.08 | KS9: 37.07 | KT9: 38.81 | KU9: 38.87 | KV9: 38.19 | KW9: 37.83 | KX9: 39.39 | KY9: =KX9-KL9 -> -12.09 | KZ9: =(KX9/KL9)-1 -> -0.23484848
B10: France | C10: 32.97 | D10: 32.09 | E10: 30.35 | F10: 28.79 | G10: 28.53 | H10: 28.65 | I10: 30.8 | J10: 32.48 | K10: 33.73 | L10: 33.92 | M10: 34.37 | N10: 34.05 | O10: 32.78 | P10: 31.44 | Q10: 29.79 | R10: 28.21 | S10: 28.36 | T10: 28.21 | U10: 29.77 | V10: 31.59 | W10: 32.43 | X10: 32.66 | Y10: 32.53 | Z10: 32.11 | AA10: 32.05 | AB10: 31.25 | AC10: 29.3 | AD10: 27.65 | AE10: 27.67 | AF10: 27.4 | AG10: 29.14 | AH10: 30.68 | AI10: 32.27 | AJ10: 32.93 | AK10: 32.92 | AL10: 31.192338 | AM10: 33.08 | AN10: 32.18 | AO10: 30.78 | AP10: 28.49 | AQ10: 28.44 | AR10: 28.29 | AS10: 30.45 | AT10: 32.75 | AU10: 33.67 | AV10: 33.75 | AW10: 33.9 | AX10: 33.34 | AY10: 32.16 | AZ10: 31.57 | BA10: 29.98 | BB10: 27.79 | BC10: 27.35 | BD10: 27.89 | BE10: 29.47 | BF10: 31.92 | BG10: 32.61 | BH10: 32.38 | BI10: 32.29 | BJ10: 32.22 | BK10: 30.84 | BL10: 30.26 | BM10: 28.46 | BN10: 26.16 | BO10: 26.17 | BP10: 26.87 | BQ10: 28.35 | BR10: 30.6 | BS10: 31.45 | BT10: 31.28 | BU10: 30.36 | BV10: 30.48 | BW10: 30.44 | BX10: 29.93 | BY10: 28.42 | BZ10: 26.34 | CA10: 26.28 | CB10: 27.21 | CC10: 30.86 | CD10: 32.47 | CE10: 33.65 | CF10: 37.8 | CG10: 37.97 | CH10: 36.9 | CI10: 40.93 | CJ10: 40.22 | CK10: 38.51 | CL10: 33.61 | CM10: 33.46 | CN10: 34.31 | CO10: 35.89 | CP10: 37.69 | CQ10: 38.77 | CR10: 34.38 | CS10: 34.21 | CT10: 33.7 | CU10: 35.9 | CV10: 34.86 | CW10: 32.04 | CX10: 24.26 | CY10: 26.9 | CZ10: 27.04 | DA10: 28.81 | DB10: 30.03 | DC10: 31.02 | DD10: 29.28 | DE10: 29.11 | DF10: 28.92 | DG10: 30.99 | DH10: 29.89 | DI10: 28.4 | DJ10: 27.67 | DK10: 27.85 | DL10: 29.69 | DM10: 31.35 | DN10: 33.97 | DO10: 34.31 | DP10: 32.83 | DQ10: 32.46 | DR10: 32.12 | DS10: 33.2 | DT10: 33.06 | DU10: 32.08 | DV10: 30.41 | DW10: 30.53 | DX10: 33.72 | DY10: 35.44 | DZ10: 35.64 | EA10: 36.41 | EB10: 33.65 | EC10: 33.13 | ED10: 32.33 | EE10: 34.21 | EF10: 34.51 | EG10: 32.75 | EH10: 29.91 | EI10: 29.67 | EJ10: 32.21 | EK10: 32.66 | EL10: 32.12 | EM10: 32.28 | EN10: 31.23 | EO10: 31.37 | EP10: 30.55 | EQ10: 32.62 | ER10: 32.89 | ES10: 32.11 | ET10: 31.23 | EU10: 31.98 | EV10: 34.45 | EW10: 36.09 | EX10: 36.32 | EY10: 37.08 | EZ10: 36.6 | FA10: 36.99 | FB10: 37.2 | FC10: 39.13 | FD10: 38.69 | FE10: 36.69 | FF10: 34.25 | FG10: 33.89 | FH10: 36.19 | FI10: 37.29 | FJ10: 38.43 | FK10: 38.84 | FL10: 36.25 | FM10: 34.93 | FN10: 33.21 | FO10: 32.92 | FP10: 32.63 | FQ10: 31.38 | FR10: 31.16 | FS10: 31.09 | FT10: 31.53 | FU10: 32.18 | FV10: 33.77 | FW10: 33.78 | FX10: 32.99 | FY10: 32.27 | FZ10: 31.74 | GA10: 30.43 | GB10: 30.1 | GC10: 29.99 | GD10: 29.39 | GE10: 28.78 | GF10: 28.68 | GG10: 28.51 | GH10: 29.41 | GI10: 30.2 | GJ10: 31.59 | GK10: 32.35 | GL10: 32.72 | GM10: 34.23 | GN10: 33.26 | GO10: 32.61 | GP10: 33.61 | GQ10: 32.43 | GR10: 32.32 | GS10: 34.04 | GT10: 35.11 | GU10: 36.6 | GV10: 36.17 | GW10: 36.4 | GX10: 36.01 | GY10: 35.27 | GZ10: 35.04 | HA10: 33.85 | HB10: 32.9 | HC10: 32.43 | HD10: 32.63 | HE10: 33.7 | HF10: 34.63 | HG10: 35.98 | HH10: 36.71 | HI10: 36.73 | HJ10: 36 | HK10: 36.12 | HL10: 36.06 | HM10: 35.03 | HN10: 35.49 | HO10: 35.47 | HP10: 35.74 | HQ10: 35.92 | HR10: 36.75 | HS10: 37.83 | HT10: 37.94 | HU10: 37.77 | HV10: 37.57 | HW10: 37.12 | HX10: 36.74 | HY10: 36.14 | HZ10: 35.14 | IA10: 35.45 | IB10: 34.54 | IC10: 35.38 | ID10: 35.4 | IE10: 36.71 | IF10: 37.77 | IG10: 36.87 | IH10: 37.04 | II10: 36.94 | IJ10: 36.48 | IK10: 35.89 | IL10: 36.49 | IM10: 36.28 | IN10: 36.64 | IO10: 37.42 | IP10: 38.12 | IQ10: 38.71 | IR10: 39.41 | IS10: 39.71 | IT10: 39.93 | IU10: 40.73 | IV10: 41.18 | IW10: 40.94 | IX10: 42.58 | IY10: 43.12 | IZ10: 43.84 | JA10: 44.12 | JB10: 44.85 | JC10: 46.28 | JD10: 48.26 | JE10: 48.85 | JF10: 49.51 | JG10: 49.8 | JH10: 49.95 | JI10: 48.51 | JJ10: 46.93 | JK10: 45.37 | JL10: 45.63 | JM10: 45.9 | JN10: 46.49 | JO10: 46.83 | JP10: 47.45 | JQ10: 47.38 | JR10: 47.34 | JS10: 47.23 | JT10: 47.04 | JU10: 46.69 | JV10: 46.3 | JW10: 45.96 | JX10: 45.98 | JY10: 46.63 | JZ10: 46.89 | KA10: 48.43 | KB10: 49.23 | KC10: 49.87 | KD10: 50 | KE10: 50.2 | KF10: 51.18 | KG10: 49.75 | KH10: 49.26 | KI10: 49.05 | KJ10: 49.01 | KK10: 49.04 | KL10: 49.89 | KM10: 51.2 | KN10: 51.57 | KO10: 50.66 | KP10: 50.05 | KQ10: 48.5 | KR10: 46.74 | KS10: 45.4 | KT10: 45.19 | KU10: 44.41 | KV10: 42.54 | KW10: 42.65 | KX10: 44.59 | KY10: =KX10-KL10 -> -5.3 | KZ10: =(KX10/KL10)-1 -> -0.10623371
B11: Spain | C11: 30.19 | D11: 30.48 | E11: 30.63 | F11: 30.27 | G11: 30.5 | H11: 30.36 | I11: 31.2 | J11: 30.6 | K11: 30.68 | L11: 31.08 | M11: 31.03 | N11: 31.12 | O11: 30.73 | P11: 29.6 | Q11: 29.26 | R11: 28.89 | S11: 28.65 | T11: 28.45 | U11: 28.77 | V11: 28.15 | W11: 27.74 | X11: 27.81 | Y11: 28.28 | Z11: 28.18 | AA11: 28.71 | AB11: 28.58 | AC11: 28.18 | AD11: 28.21 | AE11: 28.03 | AF11: 28.1 | AG11: 28.1 | AH11: 27.91 | AI11: 28.13 | AJ11: 29.37 | AK11: 30.11 | AL11: 30.64 | AM11: 30.6201 | AN11: 30.6701 | AO11: 30.6701 | AP11: 30.9811 | AQ11: 30.2811 | AR11: 30.2111 | AS11: 30.0301 | AT11: 30.4201 | AU11: 30.7801 | AV11: 31.2501 | AW11: 31.5601 | AX11: 31.6301 | AY11: 31.61 | AZ11: 31.24 | BA11: 30.81 | BB11: 30.48 | BC11: 30.23 | BD11: 29.84 | BE11: 29.76 | BF11: 29.71 | BG11: 30.07 | BH11: 30.04 | BI11: 30.04 | BJ11: 30.28 | BK11: 30.32 | BL11: 29.56 | BM11: 29.45 | BN11: 29.16 | BO11: 29.04 | BP11: 29.02 | BQ11: 29.1 | BR11: 29.13 | BS11: 29.6 | BT11: 30.06 | BU11: 30.43 | BV11: 30.57 | BW11: 30.41 | BX11: 30.25 | BY11: 30.04 | BZ11: 29.73 | CA11: 29.97 | CB11: 31.32 | CC11: 32.9 | CD11: 36.2 | CE11: 40.63 | CF11: 42.98 | CG11: 44.64 | CH11: 45.1 | CI11: 44.71 | CJ11: 42.63 | CK11: 40.42 | CL11: 38.62 | CM11: 37.69 | CN11: 37.14 | CO11: 36.93 | CP11: 36.67 | CQ11: 35.94 | CR11: 35.41 | CS11: 35.02 | CT11: 34.08 | CU11: 33.11 | CV11: 32.38 | CW11: 30.5 | CX11: 28.8 | CY11: 27.48 | CZ11: 27.01 | DA11: 26.85 | DB11: 27.27 | DC11: 28.43 | DD11: 28.97 | DE11: 29.3 | DF11: 30.09 | DG11: 29.71 | DH11: 29.42 | DI11: 28.83 | DJ11: 28.54 | DK11: 28.35 | DL11: 28.25 | DM11: 28.35 | DN11: 28.64 | DO11: 29.61 | DP11: 30.58 | DQ11: 30.97 | DR11: 31.26 | DS11: 30.97 | DT11: 30.97 | DU11: 30.87 | DV11: 30.58 | DW11: 30.49 | DX11: 30.78 | DY11: 30.68 | DZ11: 30.87 | EA11: 31.65 | EB11: 32.23 | EC11: 32.52 | ED11: 32.82 | EE11: 32.33 | EF11: 32.14 | EG11: 31.46 | EH11: 30.78 | EI11: 30 | EJ11: 29.71 | EK11: 29.32 | EL11: 29.32 | EM11: 30.49 | EN11: 31.26 | EO11: 31.75 | EP11: 32.14 | EQ11: 32.72 | ER11: 32.72 | ES11: 32.82 | ET11: 32.62 | EU11: 32.62 | EV11: 32.91 | EW11: 33.59 | EX11: 33.88 | EY11: 34.95 | EZ11: 36.99 | FA11: 37.67 | FB11: 38.25 | FC11: 38.16 | FD11: 37.86 | FE11: 37.96 | FF11: 35.83 | FG11: 35.44 | FH11: 35.44 | FI11: 33.98 | FJ11: 33.79 | FK11: 34.08 | FL11: 33.11 | FM11: 33.11 | FN11: 33.4 | FO11: 31.84 | FP11: 31.75 | FQ11: 31.36 | FR11: 30.1 | FS11: 29.71 | FT11: 29.42 | FU11: 28.83 | FV11: 29.03 | FW11: 29.51 | FX11: 30 | FY11: 30.1 | FZ11: 30.1 | GA11: 29.9 | GB11: 29.71 | GC11: 29.42 | GD11: 28.93 | GE11: 28.35 | GF11: 27.96 | GG11: 27.77 | GH11: 28.16 | GI11: 28.74 | GJ11: 29.71 | GK11: 30.39 | GL11: 30.39 | GM11: 30.68 | GN11: 30.68 | GO11: 30.49 | GP11: 30.39 | GQ11: 30.29 | GR11: 30.1 | GS11: 30.1 | GT11: 30.68 | GU11: 31.26 | GV11: 31.84 | GW11: 32.52 | GX11: 32.43 | GY11: 31.94 | GZ11: 31.94 | HA11: 31.46 | HB11: 30.87 | HC11: 30.68 | HD11: 30.39 | HE11: 30.29 | HF11: 30.49 | HG11: 30.78 | HH11: 31.55 | HI11: 32.33 | HJ11: 32.04 | HK11: 32.04 | HL11: 32.04 | HM11: 31.65 | HN11: 31.65 | HO11: 31.55 | HP11: 31.17 | HQ11: 31.07 | HR11: 31.36 | HS11: 31.65 | HT11: 32.14 | HU11: 33.01 | HV11: 32.82 | HW11: 32.62 | HX11: 32.62 | HY11: 32.33 | HZ11: 32.23 | IA11: 31.94 | IB11: 31.75 | IC11: 31.55 | ID11: 31.55 | IE11: 31.17 | IF11: 32.72 | IG11: 33.11 | IH11: 32.91 | II11: 33.01 | IJ11: 32.82 | IK11: 32.72 | IL11: 32.62 | IM11: 32.52 | IN11: 32.23 | IO11: 32.43 | IP11: 32.82 | IQ11: 33.2 | IR11: 34.27 | IS11: 35.15 | IT11: 35.34 | IU11: 36.02 | IV11: 36.7 | IW11: 37.18 | IX11: 40.68 | IY11: 41.84 | IZ11: 42.52 | JA11: 44.95 | JB11: 46.21 | JC11: 48.06 | JD11: 53.98 | JE11: 56.99 | JF11: 57.96 | JG11: 58.16 | JH11: 58.54 | JI11: 57.77 | JJ11: 54.37 | JK11: 52.72 | JL11: 51.84 | JM11: 51.46 | JN11: 50.29 | JO11: 50 | JP11: 50.19 | JQ11: 50.68 | JR11: 50.58 | JS11: 50.19 | JT11: 49.9 | JU11: 49.61 | JV11: 47.38 | JW11: 46.99 | JX11: 46.41 | JY11: 45.92 | JZ11: 45.92 | KA11: 46.6 | KB11: 47.28 | KC11: 47.77 | KD11: 47.96 | KE11: 48.06 | KF11: 48.16 | KG11: 48.16 | KH11: 48.64 | KI11: 48.74 | KJ11: 48.16 | KK11: 48.74 | KL11: 50.39 | KM11: 51.36 | KN11: 51.94 | KO11: 52.62 | KP11: 52.62 | KQ11: 52.52 | KR11: 52.23 | KS11: 51.84 | KT11: 47.48 | KU11: 46.31 | KV11: 45.53 | KW11: 45.05 | KX11: 45.53 | KY11: =KX11-KL11 -> -4.86 | KZ11: =(KX11/KL11)-1 -> -0.096447708
B12: Ireland | C12: 29.03 | D12: 28.04 | E12: 27.19 | F12: 26.88 | G12: 27.54 | H12: 27.89 | I12: 28.12 | J12: 28.98 | K12: 30.16 | L12: 31.33 | M12: 31.59 | N12: 29.7 | O12: 28.39 | P12: 27.35 | Q12: 25.99 | R12: 25.47 | S12: 25.57 | T12: 25.45 | U12: 25.38 | V12: 25.85 | W12: 27.22 | X12: 28.79 | Y12: 29.46 | Z12: 28.46 | AA12: 28.1 | AB12: 26.55 | AC12: 25.42 | AD12: 25.01 | AE12: 25.22 | AF12: 25.13 | AG12: 25.13 | AH12: 28.01 | AI12: 29.35 | AJ12: 30.89 | AK12: 31.92 | AL12: 29.86 | AM12: 29.3501 | AN12: 28.01 | AO12: 27.7 | AP12: 27.29 | AQ12: 27.49 | AR12: 27.49 | AS12: 27.8 | AT12: 28.3201 | AU12: 30.0701 | AV12: 31.3001 | AW12: 31.5001 | AX12: 30.1701 | AY12: 29.45 | AZ12: 28.83 | BA12: 27.8 | BB12: 27.39 | BC12: 27.18 | BD12: 26.98 | BE12: 26.88 | BF12: 27.39 | BG12: 28.32 | BH12: 30.69 | BI12: 30.48 | BJ12: 29.66 | BK12: 28.11 | BL12: 27.7 | BM12: 26.98 | BN12: 26.46 | BO12: 26.46 | BP12: 25.74 | BQ12: 25.3 | BR12: 27.7 | BS12: 27.7 | BT12: 27.7 | BU12: 27.7 | BV12: 29.1 | BW12: 28.3 | BX12: 27.18 | BY12: 25.64 | BZ12: 27.29 | CA12: 29.76 | CB12: 32.64 | CC12: 34.5 | CD12: 38.5 | CE12: 42.3 | CF12: 44.6 | CG12: 45.4 | CH12: 43.25 | CI12: 41.09 | CJ12: 40.67 | CK12: 39.64 | CL12: 35.52 | CM12: 34.29 | CN12: 32.85 | CO12: 33.57 | CP12: 33.88 | CQ12: 33.26 | CR12: 33.98 | CS12: 33.98 | CT12: 33.71 | CU12: 27.6 | CV12: 26.15 | CW12: 22.45 | CX12: 22.34 | CY12: 22.14 | CZ12: 21.83 | DA12: 22.04 | DB12: 22.86 | DC12: 25.02 | DD12: 28.21 | DE12: 28.63 | DF12: 27.49 | DG12: 27.08 | DH12: 27.18 | DI12: 26.98 | DJ12: 27.8 | DK12: 30.58 | DL12: 30.79 | DM12: 31.2 | DN12: 31.92 | DO12: 33.67 | DP12: 35.83 | DQ12: 33.7 | DR12: 32.73 | DS12: 31.76 | DT12: 32.92 | DU12: 32.44 | DV12: 32.15 | DW12: 32.05 | DX12: 33.31 | DY12: 33.7 | DZ12: 34.57 | EA12: 37 | EB12: 38.26 | EC12: 37.97 | ED12: 35.84 | EE12: 34.48 | EF12: 34.28 | EG12: 33.41 | EH12: 30.88 | EI12: 28.84 | EJ12: 28.75 | EK12: 28.45 | EL12: 29.72 | EM12: 33.31 | EN12: 35.74 | EO12: 35.93 | EP12: 33.7 | EQ12: 33.89 | ER12: 33.21 | ES12: 34.09 | ET12: 34.48 | EU12: 36.22 | EV12: 37.1 | EW12: 36.81 | EX12: 39.33 | EY12: 42.34 | EZ12: 44.77 | FA12: 44.87 | FB12: 42.63 | FC12: 42.34 | FD12: 41.76 | FE12: 39.04 | FF12: 38.55 | FG12: 37.1 | FH12: 36.9 | FI12: 35.25 | FJ12: 36.52 | FK12: 35.45 | FL12: 38.17 | FM12: 37.58 | FN12: 35.16 | FO12: 33.5 | FP12: 32.63 | FQ12: 30.11 | FR12: 30.79 | FS12: 28.75 | FT12: 28.16 | FU12: 27.1 | FV12: 27.97 | FW12: 29.23 | FX12: 31.08 | FY12: 30.98 | FZ12: 29.43 | GA12: 28.26 | GB12: 27.58 | GC12: 24.18 | GD12: 24.08 | GE12: 23.99 | GF12: 23.5 | GG12: 24.47 | GH12: 27 | GI12: 29.91 | GJ12: 32.83 | GK12: 36.32 | GL12: 35.06 | GM12: 35.45 | GN12: 34.18 | GO12: 31.66 | GP12: 31.66 | GQ12: 32.63 | GR12: 33.6 | GS12: 34.96 | GT12: 37.68 | GU12: 40.79 | GV12: 41.95 | GW12: 41.86 | GX12: 40.59 | GY12: 39.43 | GZ12: 37 | HA12: 33.31 | HB12: 31.08 | HC12: 31.17 | HD12: 31.66 | HE12: 31.76 | HF12: 33.41 | HG12: 37 | HH12: 38.75 | HI12: 39.04 | HJ12: 36.9 | HK12: 34.28 | HL12: 34.38 | HM12: 32.63 | HN12: 31.66 | HO12: 31.47 | HP12: 31.95 | HQ12: 31.08 | HR12: 31.95 | HS12: 34.48 | HT12: 36.61 | HU12: 37.29 | HV12: 36.52 | HW12: 34.67 | HX12: 34.86 | HY12: 31.66 | HZ12: 30.01 | IA12: 30.59 | IB12: 31.76 | IC12: 32.83 | ID12: 33.89 | IE12: 36.61 | IF12: 39.14 | IG12: 39.14 | IH12: 37.49 | II12: 35.64 | IJ12: 37.2 | IK12: 37.1 | IL12: 36.61 | IM12: 37.49 | IN12: 37.39 | IO12: 37.2 | IP12: 39.23 | IQ12: 42.44 | IR12: 46.52 | IS12: 48.65 | IT12: 48.46 | IU12: 46.03 | IV12: 47.59 | IW12: 48.95 | IX12: 51.28 | IY12: 53.61 | IZ12: 55.45 | JA12: 57.78 | JB12: 59.73 | JC12: 64.29 | JD12: 68.47 | JE12: 69.24 | JF12: 68.18 | JG12: 59.34 | JH12: 54.38 | JI12: 45.84 | JJ12: 41.66 | JK12: 40.79 | JL12: 39.43 | JM12: 38.75 | JN12: 38.32 | JO12: 40.01 | JP12: 42.34 | JQ12: 43.41 | JR12: 44.19 | JS12: 43.41 | JT12: 44.67 | JU12: 43.12 | JV12: 42.54 | JW12: 43.31 | JX12: 44.48 | JY12: 47.49 | JZ12: 50.99 | KA12: 57.98 | KB12: 62.15 | KC12: 63.42 | KD12: 61.47 | KE12: 58.66 | KF12: 57.2 | KG12: 53.32 | KH12: 52.15 | KI12: 51.08 | KJ12: 51.76 | KK12: 51.86 | KL12: 51.37 | KM12: 51.86 | KN12: 49.63 | KO12: 46.52 | KP12: 43.8 | KQ12: 43.41 | KR12: 42.63 | KS12: 39.82 | KT12: 39.72 | KU12: 39.72 | KV12: 40.69 | KW12: 40.79 | KX12: 40.79 | KY12: =KX12-KL12 -> -10.58 | KZ12: =(KX12/KL12)-1 -> -0.20595678 | LF12: 37.1
B13: Portugal | C13: 31.54 | D13: 31.87 | E13: 32.04 | F13: 32.24 | G13: 32.37 | H13: 32.22 | I13: 33.13 | J13: 33.04 | K13: 33.31 | L13: 33.65 | M13: 34.09 | N13: 34.41 | O13: 34.08 | P13: 33.84 | Q13: 33.86 | R13: 33.54 | S13: 33.27 | T13: 32.92 | U13: 32.83 | V13: 33.16 | W13: 33.21 | X13: 33.32 | Y13: 28.16 | Z13: 33.68 | AA13: 33.78 | AB13: 33.63 | AC13: 33.49 | AD13: 32.64 | AE13: 31.79 | AF13: 31.63 | AG13: 31.72 | AH13: 31.47 | AI13: 31.67 | AJ13: 34.02 | AK13: 34.38 | AL13: 34.46 | AM13: 34.6601 | AN13: 34.3501 | AO13: 33.1201 | AP13: 32.9201 | AQ13: 32.7501 | AR13: 32.6001 | AS13: 32.6001 | AT13: 32.3401 | AU13: 32.6501 | AV13: 33.8401 | AW13: 34.2001 | AX13: 34.4201 | AY13: 30.2 | AZ13: 30.2 | BA13: 28.5 | BB13: 27.94 | BC13: 27.6 | BD13: 27.29 | BE13: 27.15 | BF13: 27.5 | BG13: 28.5 | BH13: 29.2 | BI13: 29.4 | BJ13: 29.4 | BK13: 29.2 | BL13: 29.2 | BM13: 26.9 | BN13: 26.5 | BO13: 26.5 | BP13: 26.2 | BQ13: 26.2 | BR13: 26.4 | BS13: 26.4 | BT13: 27.4 | BU13: 28.6 | BV13: 29.1 | BW13: 29.1 | BX13: 29.1 | BY13: 28.2 | BZ13: 27.5 | CA13: 28.1 | CB13: 28.1 | CC13: 28.3 | CD13: 30.3 | CE13: 35 | CF13: 37.4 | CG13: 39.4 | CH13: 39.4 | CI13: 39.4 | CJ13: 39.5 | CK13: 38.7 | CL13: 38.7 | CM13: 38.4 | CN13: 34.9 | CO13: 34.8 | CP13: 35.5 | CQ13: 34.8 | CR13: 35.1 | CS13: 33.1 | CT13: 33 | CU13: 32.5 | CV13: 32.5 | CW13: 31.7 | CX13: 28.8 | CY13: 28.4 | CZ13: 28 | DA13: 27.7 | DB13: 26.4 | DC13: 27.4 | DD13: 27.6 | DE13: 28.4 | DF13: 28.9 | DG13: 28.4 | DH13: 28.3 | DI13: 27.8 | DJ13: 27.4 | DK13: 27.2 | DL13: 27.5 | DM13: 27.1 | DN13: 27.5 | DO13: 29.39 | DP13: 30.07 | DQ13: 30.92 | DR13: 32.22 | DS13: 30.96 | DT13: 31.14 | DU13: 31.02 | DV13: 30.65 | DW13: 30.58 | DX13: 30.58 | DY13: 30.51 | DZ13: 30.69 | EA13: 31.99 | EB13: 32.22 | EC13: 32.42 | ED13: 32.17 | EE13: 32.08 | EF13: 31.89 | EG13: 30.94 | EH13: 31.18 | EI13: 30.84 | EJ13: 29.21 | EK13: 29.1 | EL13: 29.27 | EM13: 29.6 | EN13: 29.96 | EO13: 31.51 | EP13: 31.5 | EQ13: 31.96 | ER13: 32.03 | ES13: 32 | ET13: 32.95 | EU13: 31.6 | EV13: 32.49 | EW13: 32.51 | EX13: 32.71 | EY13: 35.32 | EZ13: 35.49 | FA13: 36.46 | FB13: 37.03 | FC13: 36.5 | FD13: 36.5 | FE13: 36.48 | FF13: 37.8 | FG13: 34.65 | FH13: 34.34 | FI13: 33.26 | FJ13: 33.31 | FK13: 33.45 | FL13: 34.09 | FM13: 33.88 | FN13: 34.02 | FO13: 31.91 | FP13: 31.59 | FQ13: 31.31 | FR13: 32.49 | FS13: 29 | FT13: 28.79 | FU13: 28.1 | FV13: 28.18 | FW13: 28.6 | FX13: 28.65 | FY13: 28.63 | FZ13: 28.71 | GA13: 28.64 | GB13: 28 | GC13: 27.98 | GD13: 28.01 | GE13: 27.59 | GF13: 27.4 | GG13: 26.98 | GH13: 26.84 | GI13: 27.1 | GJ13: 27.38 | GK13: 28.05 | GL13: 29.26 | GM13: 28.31 | GN13: 28.32 | GO13: 28.7 | GP13: 28.72 | GQ13: 28.6 | GR13: 28.74 | GS13: 28.47 | GT13: 29.85 | GU13: 30.77 | GV13: 31.39 | GW13: 32.01 | GX13: 32.3 | GY13: 31.16 | GZ13: 31.39 | HA13: 30.18 | HB13: 30.99 | HC13: 30.36 | HD13: 30.31 | HE13: 30.07 | HF13: 29.79 | HG13: 30.03 | HH13: 31.05 | HI13: 31.84 | HJ13: 31.84 | HK13: 31.09 | HL13: 31.71 | HM13: 30.55 | HN13: 30.6 | HO13: 30.25 | HP13: 30.24 | HQ13: 30.17 | HR13: 30.21 | HS13: 30.55 | HT13: 30.8 | HU13: 30.83 | HV13: 30.77 | HW13: 30.85 | HX13: 30.41 | HY13: 30.4 | HZ13: 30.42 | IA13: 30.04 | IB13: 29.92 | IC13: 29.64 | ID13: 29.74 | IE13: 30.24 | IF13: 30.37 | IG13: 30.57 | IH13: 30.68 | II13: 30.39 | IJ13: 29.97 | IK13: 30.01 | IL13: 30.01 | IM13: 29.95 | IN13: 29.89 | IO13: 29.76 | IP13: 29.87 | IQ13: 30.07 | IR13: 31.49 | IS13: 31.74 | IT13: 31.89 | IU13: 34.19 | IV13: 34.15 | IW13: 34.16 | IX13: 37.85 | IY13: 38.22 | IZ13: 38.19 | JA13: 40.14 | JB13: 40.49 | JC13: 43.72 | JD13: 52.01 | JE13: 54.38 | JF13: 54.85 | JG13: 54.37 | JH13: 54.13 | JI13: 53.92 | JJ13: 53.56 | JK13: 49.35 | JL13: 48.22 | JM13: 45.96 | JN13: 45.95 | JO13: 46.39 | JP13: 44.64 | JQ13: 44.7 | JR13: 44.56 | JS13: 44.27 | JT13: 43.8 | JU13: 43.83 | JV13: 43.6 | JW13: 43.44 | JX13: 43.26 | JY13: 43.14 | JZ13: 43.3 | KA13: 44.13 | KB13: 44.5 | KC13: 45.64 | KD13: 45.8 | KE13: 45.84 | KF13: 45.87 | KG13: 46.13 | KH13: 46.44 | KI13: 46.04 | KJ13: 45.75 | KK13: 45.68 | KL13: 45.79 | KM13: 46.91 | KN13: 46.93 | KO13: 47.67 | KP13: 47.63 | KQ13: 45.77 | KR13: 45.03 | KS13: 44.85 | KT13: 44.43 | KU13: 44.16 | KV13: 43.34 | KW13: 43.21 | KX13: 42.54 | KY13: =KX13-KL13 -> -3.25 | KZ13: =(KX13/KL13)-1 -> -0.070976196
B14: Germany | C14: 33.27 | D14: 32.77 | E14: 32.41 | F14: 32.22 | G14: 32.38 | H14: 32.63 | I14: 33.44 | J14: 34.4 | K14: 36.34 | L14: 36.85 | M14: 37.17 | N14: 36.05 | O14: 33.8 | P14: 32.57 | Q14: 32.17 | R14: 30.95 | S14: 29.71 | T14: 28.92 | U14: 28.85 | V14: 29.34 | W14: 30.51 | X14: 32.16 | Y14: 32.56 | Z14: 31.76 | AA14: 30.9 | AB14: 30.6 | AC14: 29.8 | AD14: 29.06 | AE14: 28.42 | AF14: 27.7 | AG14: 27.75 | AH14: 28.16 | AI14: 29.73 | AJ14: 31.47 | AK14: 31.93 | AL14: 30.74 | AM14: 29.98 | AN14: 29.0801 | AO14: 28.8601 | AP14: 28.2801 | AQ14: 27.9901 | AR14: 27.7801 | AS14: 27.8711 | AT14: 28.42 | AU14: 29.6901 | AV14: 30.9901 | AW14: 31.5001 | AX14: 30.5201 | AY14: 29.53 | AZ14: 29.15 | BA14: 28.82 | BB14: 27.9 | BC14: 27.44 | BD14: 27.26 | BE14: 27.36 | BF14: 28.03 | BG14: 28.77 | BH14: 29.69 | BI14: 30.19 | BJ14: 29.51 | BK14: 27.25 | BL14: 26.75 | BM14: 26.45 | BN14: 26.3 | BO14: 26.15 | BP14: 26.32 | BQ14: 26.35 | BR14: 26.7 | BS14: 27.45 | BT14: 28 | BU14: 28 | BV14: 27.75 | BW14: 27.05 | BX14: 27.15 | BY14: 27.15 | BZ14: 27.4 | CA14: 27.5 | CB14: 29.1 | CC14: 31.85 | CD14: 35 | CE14: 37 | CF14: 40.5 | CG14: 41 | CH14: 40.8 | CI14: 38.5 | CJ14: 37 | CK14: 35.3 | CL14: 34 | CM14: 34 | CN14: 32.8 | CO14: 33.6 | CP14: 34.1 | CQ14: 33.4 | CR14: 31.8 | CS14: 29.8 | CT14: 27.8 | CU14: 26 | CV14: 25.2 | CW14: 24 | CX14: 23 | CY14: 22.4 | CZ14: 22 | DA14: 22 | DB14: 22.18 | DC14: 22.07 | DD14: 23.1 | DE14: 26.64 | DF14: 26 | DG14: 28.4 | DH14: 28.14 | DI14: 27.95 | DJ14: 28.37 | DK14: 29.41 | DL14: 30.08 | DM14: 30.6 | DN14: 31.84 | DO14: 33.37 | DP14: 34.41 | DQ14: 34.65 | DR14: 34.42 | DS14: 33.12 | DT14: 33.2 | DU14: 34.06 | DV14: 34.2 | DW14: 34.44 | DX14: 34.39 | DY14: 34.53 | DZ14: 34.74 | EA14: 35.48 | EB14: 36.43 | EC14: 36.9 | ED14: 35.71 | EE14: 33.75 | EF14: 33.4 | EG14: 32.7 | EH14: 31.95 | EI14: 30.85 | EJ14: 29.15 | EK14: 29.04 | EL14: 29.13 | EM14: 30.84 | EN14: 33.6 | EO14: 34.97 | EP14: 35.02 | EQ14: 34.77 | ER14: 34.58 | ES14: 34.68 | ET14: 34.65 | EU14: 32.99 | EV14: 36.1 | EW14: 37.56 | EX14: 37.7 | EY14: 40 | EZ14: 41.74 | FA14: 42.46 | FB14: 42.24 | FC14: 41.26 | FD14: 40.94 | FE14: 40.55 | FF14: 39.72 | FG14: 38.87 | FH14: 37.97 | FI14: 37.18 | FJ14: 37.09 | FK14: 36.44 | FL14: 35.14 | FM14: 33.99 | FN14: 32.48 | FO14: 30.89 | FP14: 30.82 | FQ14: 30.73 | FR14: 30.75 | FS14: 29.8 | FT14: 28.83 | FU14: 27.94 | FV14: 27.77 | FW14: 28.38 | FX14: 29.43 | FY14: 29.81 | FZ14: 29.75 | GA14: 28.92 | GB14: 28.13 | GC14: 27.31 | GD14: 25.74 | GE14: 23.97 | GF14: 23.18 | GG14: 23.42 | GH14: 24.3 | GI14: 26.37 | GJ14: 30.42 | GK14: 33.14 | GL14: 33.67 | GM14: 34.13 | GN14: 33.97 | GO14: 33.56 | GP14: 33.49 | GQ14: 33.83 | GR14: 34.38 | GS14: 35.89 | GT14: 37.44 | GU14: 39.39 | GV14: 40.34 | GW14: 40.52 | GX14: 39.96 | GY14: 36.76 | GZ14: 34.88 | HA14: 34.21 | HB14: 32.99 | HC14: 32.38 | HD14: 32.56 | HE14: 33.19 | HF14: 33.83 | HG14: 35.43 | HH14: 36.63 | HI14: 37.16 | HJ14: 36.47 | HK14: 35.47 | HL14: 35.22 | HM14: 34.82 | HN14: 34.49 | HO14: 33.99 | HP14: 33.22 | HQ14: 32.93 | HR14: 33.01 | HS14: 33.88 | HT14: 34.65 | HU14: 35.19 | HV14: 35.29 | HW14: 34.92 | HX14: 34.79 | HY14: 34.88 | HZ14: 34.05 | IA14: 32.52 | IB14: 31.72 | IC14: 31.83 | ID14: 32.02 | IE14: 33.25 | IF14: 34.7 | IG14: 35.05 | IH14: 35.11 | II14: 34.71 | IJ14: 34.66 | IK14: 35.58 | IL14: 35.96 | IM14: 35.86 | IN14: 35.98 | IO14: 36.55 | IP14: 36.55 | IQ14: 37.51 | IR14: 39.28 | IS14: 41.07 | IT14: 42.25 | IU14: 43.03 | IV14: 44.25 | IW14: 47.98 | IX14: 49.69 | IY14: 51.73 | IZ14: 51.73 | JA14: 54.4 | JB14: 56.19 | JC14: 58.59 | JD14: 60.56 | JE14: 61.55 | JF14: 61.72 | JG14: 58.29 | JH14: 54.08 | JI14: 49.74 | JJ14: 46.61 | JK14: 44.3 | JL14: 41.97 | JM14: 40.97 | JN14: 40.98 | JO14: 41.35 | JP14: 42.99 | JQ14: 44.47 | JR14: 45.45 | JS14: 45.89 | JT14: 45.66 | JU14: 45.99 | JV14: 45.88 | JW14: 45.7 | JX14: 45.85 | JY14: 46.37 | JZ14: 47.44 | KA14: 49.54 | KB14: 52.7 | KC14: 54.68 | KD14: 55.59 | KE14: 54.65 | KF14: 54.48 | KG14: 54.48 | KH14: 54.37 | KI14: 54.17 | KJ14: 53.86 | KK14: 53.77 | KL14: 54.26 | KM14: 54 | KN14: 52.34 | KO14: 49.33 | KP14: 46.23 | KQ14: 42.5 | KR14: 40.75 | KS14: 40.03 | KT14: 40.54 | KU14: 40.7 | KV14: 40.08 | KW14: 40.14 | KX14: 41.15 | KY14: =KX14-KL14 -> -13.11 | KZ14: =(KX14/KL14)-1 -> -0.24161445
B15: Luxembourg | C15: 34.36 | D15: 32.82 | E15: 31.68 | F15: 30.55 | G15: 30.42 | H15: 31.25 | I15: 32.42 | J15: 34.13 | K15: 37.63 | L15: 38.24 | M15: 39.61 | N15: 38.94 | O15: 36.92391 | P15: 33.908316 | Q15: 32.299004 | R15: 31.093621 | S15: 29.781342 | T15: 29.487159 | U15: 30.279929 | V15: 31.977229 | W15: 35.087297 | X15: 36.674959 | Y15: 36.610211 | Z15: 36.712997 | AA15: 35.3348 | AB15: 33.795 | AC15: 32.0581 | AD15: 31.0301 | AE15: 30.2408 | AF15: 29.1809 | AG15: 29.6739 | AH15: 30.9263 | AI15: 33.5128 | AJ15: 35.4948 | AK15: 35.8242 | AL15: 35.3283 | AM15: 34.3839 | AN15: 32.336 | AO15: 31.5571 | AP15: 31.105 | AQ15: 30.2683 | AR15: 29.6229 | AS15: 30.0687 | AT15: 30.4722 | AU15: 32.5167 | AV15: 34.5595 | AW15: 35.1103 | AX15: 35.2688 | AY15: 33.19 | AZ15: 31.99 | BA15: 30.75 | BB15: 29.19 | BC15: 28.43 | BD15: 28 | BE15: 28.4 | BF15: 29.78 | BG15: 31.15 | BH15: 32.53 | BI15: 33.3 | BJ15: 33.47 | BK15: 31.83 | BL15: 30.18 | BM15: 29.92 | BN15: 28.57 | BO15: 28.56 | BP15: 27.98 | BQ15: 28.52 | BR15: 29.69 | BS15: 31.26 | BT15: 32.55 | BU15: 33.5 | BV15: 33.36 | BW15: 31.75 | BX15: 30.21 | BY15: 29.81 | BZ15: 29.51 | CA15: 30.36 | CB15: 31.6 | CC15: 33.31 | CD15: 37.06 | CE15: 41.25 | CF15: 45.67 | CG15: 46.42 | CH15: 45.97 | CI15: 42.66 | CJ15: 41.74 | CK15: 39.27 | CL15: 37.46 | CM15: 36.44 | CN15: 35.96 | CO15: 36.04 | CP15: 36.66 | CQ15: 37.5 | CR15: 37.92 | CS15: 35.99 | CT15: 34.12 | CU15: 31.56 | CV15: 29.72 | CW15: 28.06 | CX15: 26.95 | CY15: 24.98 | CZ15: 23.98 | DA15: 23.69 | DB15: 23.97 | DC15: 24.69 | DD15: 26.72 | DE15: 28.68 | DF15: 28.81 | DG15: 28.43 | DH15: 27.78 | DI15: 27.58 | DJ15: 28.21 | DK15: 28.63 | DL15: 28.62 | DM15: 29.05 | DN15: 29.91 | DO15: 31.85 | DP15: 32.35 | DQ15: 32.38 | DR15: 32.51 | DS15: 31.82 | DT15: 31.63 | DU15: 31.7 | DV15: 32.04 | DW15: 31.87 | DX15: 31.88 | DY15: 31.86 | DZ15: 32.72 | EA15: 33.89 | EB15: 34.5 | EC15: 35.08 | ED15: 34.53 | EE15: 33.42 | EF15: 33.77 | EG15: 33.14 | EH15: 32.3 | EI15: 29.63 | EJ15: 27.89 | EK15: 27.23 | EL15: 28.01 | EM15: 29.41 | EN15: 31.91 | EO15: 33.12 | EP15: 34.09 | EQ15: 33.54 | ER15: 33.61 | ES15: 34 | ET15: 33.92 | EU15: 34.4 | EV15: 35.41 | EW15: 35.23 | EX15: 36.03 | EY15: 38.38 | EZ15: 40.08 | FA15: 40.99 | FB15: 42.92 | FC15: 40.99 | FD15: 40.39 | FE15: 40.55 | FF15: 40.37 | FG15: 38.75 | FH15: 37.85 | FI15: 36.87 | FJ15: 36.57 | FK15: 36.02 | FL15: 34.56 | FM15: 34.03 | FN15: 33.6 | FO15: 31.01 | FP15: 30.66 | FQ15: 29.95 | FR15: 30.06 | FS15: 29.52 | FT15: 28.8 | FU15: 28.02 | FV15: 28.48 | FW15: 29.55 | FX15: 30.75 | FY15: 30.69 | FZ15: 30.33 | GA15: 29 | GB15: 28.37 | GC15: 28.48 | GD15: 27.59 | GE15: 26.1 | GF15: 25.04 | GG15: 24.72 | GH15: 25.07 | GI15: 26.54 | GJ15: 29.13 | GK15: 31.94 | GL15: 33.97 | GM15: 35.18 | GN15: 34.57 | GO15: 34.41 | GP15: 33.81 | GQ15: 32.98 | GR15: 32.86 | GS15: 33.63 | GT15: 35.02 | GU15: 37.27 | GV15: 38.18 | GW15: 38.69 | GX15: 38.49 | GY15: 34.89 | GZ15: 33.56 | HA15: 31.98 | HB15: 30.81 | HC15: 29.88 | HD15: 30.31 | HE15: 31.36 | HF15: 32.49 | HG15: 34.12 | HH15: 36.01 | HI15: 36.75 | HJ15: 36.11 | HK15: 34.96 | HL15: 34.16 | HM15: 34.44 | HN15: 34.15 | HO15: 33.59 | HP15: 33.06 | HQ15: 32.69 | HR15: 33.11 | HS15: 34.23 | HT15: 34.95 | HU15: 35.78 | HV15: 35.56 | HW15: 35.24 | HX15: 34.49 | HY15: 34.9 | HZ15: 34.44 | IA15: 33.59 | IB15: 33.39 | IC15: 32.96 | ID15: 32.64 | IE15: 33.76 | IF15: 35.4 | IG15: 35.92 | IH15: c | II15: c | IJ15: c | IK15: c | IL15: c | IM15: c | IN15: c | IO15: c | IP15: c | IQ15: c | IR15: c | IS15: c | IT15: c | IU15: c | IV15: c | IW15: c | IX15: c | IY15: c | IZ15: c | JA15: c | JB15: c | JC15: c | JD15: c | JE15: c | JF15: c | JG15: c | JH15: c | JI15: c | JJ15: c | JK15: c | JL15: c | JM15: c | JN15: c | JO15: c | JP15: c | JQ15: c | JR15: c | JS15: c | JT15: c | JU15: c | JV15: c | JW15: c | JX15: c | JY15: c | JZ15: c | KA15: c | KB15: c | KC15: c | KD15: c | KE15: c | KF15: c | KG15: c | KH15: c | KI15: c | KJ15: c | KK15: c | KL15: c | KM15: c | KN15: c | KO15: c | KP15: c | KQ15: c | KR15: c | KS15: c | KT15: c | KU15: c | KV15: c | KW15: c | KX15: c | KY15: =IFERROR("n/a",(KX15-KL15)) -> n/a | KZ15: =IFERROR("n/a",((KX15/KL15)-1)) -> n/a | LF15: c
B16: United Kingdom | C16: 28.03 | D16: 27.86 | E16: 27.61 | F16: 28.82 | G16: 28.3 | H16: 29.82 | I16: 31.69 | J16: 33.29 | K16: 32.27 | L16: 31.85 | M16: 31.49 | N16: 30.69 | O16: 29.6 | P16: 29.07 | Q16: 28.39 | R16: 25.27 | S16: 22.99 | T16: 23.17 | U16: 25.21 | V16: 25.93 | W16: 26.26 | X16: 27.97 | Y16: 27.59 | Z16: 27.16 | AA16: 26.14 | AB16: 25.61 | AC16: 24.75 | AD16: 23.74 | AE16: 21.79 | AF16: 22.84 | AG16: 25.26 | AH16: 26.33 | AI16: 26.83 | AJ16: 27.28 | AK16: 27.8 | AL16: 27.05 | AM16: 27.1101 | AN16: 27.6101 | AO16: 27.5301 | AP16: 25.7801 | AQ16: 24.7611 | AR16: 25.0311 | AS16: 26.8001 | AT16: 26.6201 | AU16: 27.5601 | AV16: 27.2701 | AW16: 27.1901 | AX16: 27.9901 | AY16: 26.04 | AZ16: 25.82 | BA16: 25.9 | BB16: 25.36 | BC16: 24.76 | BD16: 25.03 | BE16: 27.05 | BF16: 26.71 | BG16: 28.3 | BH16: 28.88 | BI16: 28.26 | BJ16: 27.73 | BK16: 26.49 | BL16: 26.24 | BM16: 25.29 | BN16: 24.29 | BO16: 23.83 | BP16: 23.6 | BQ16: 24.23 | BR16: 25.26 | BS16: 26.47 | BT16: 27.2 | BU16: 27.41 | BV16: 27.02 | BW16: 26.41 | BX16: 25.69 | BY16: 25.41 | BZ16: 24.99 | CA16: 24.96 | CB16: 26.07 | CC16: 28.32 | CD16: 29.7 | CE16: 32.28 | CF16: 37 | CG16: 37.08 | CH16: 35.25 | CI16: 33.54 | CJ16: 32.54 | CK16: 31.41 | CL16: 30.69 | CM16: 30.28 | CN16: 30.66 | CO16: 31.8 | CP16: 31.74 | CQ16: 33.2 | CR16: 33.79 | CS16: 31.71 | CT16: 26.9 | CU16: 26.98 | CV16: 26.89 | CW16: 25.79 | CX16: 25.11 | CY16: 22.61 | CZ16: 25.1 | DA16: 25.94 | DB16: 26.21 | DC16: 26.24 | DD16: 25.91 | DE16: 26.92 | DF16: 26.16624 | DG16: 26.71 | DH16: 26.98 | DI16: 25.99 | DJ16: 26.13 | DK16: 26.69 | DL16: 27.96 | DM16: 28.04 | DN16: 29.11 | DO16: 29.27 | DP16: 28.42 | DQ16: 29.68 | DR16: 29.8 | DS16: 29.54 | DT16: 29.91 | DU16: 29.8 | DV16: 29.06 | DW16: 29.17 | DX16: 29.18 | DY16: 29.82 | DZ16: 30.55 | EA16: 31.21 | EB16: 32.39 | EC16: 33.25 | ED16: 33.74 | EE16: 33.8 | EF16: 33.54 | EG16: 33.38 | EH16: 32.86 | EI16: 32.53 | EJ16: 31.53 | EK16: 32.45 | EL16: 32.87 | EM16: 33.59 | EN16: 35.07 | EO16: 36.32 | EP16: 36.02 | EQ16: 35.1 | ER16: 33.87 | ES16: 33.97 | ET16: 34.39 | EU16: 34.15 | EV16: 36.13 | EW16: 35.3 | EX16: 36.12 | EY16: 38 | EZ16: 38.54 | FA16: 40.01 | FB16: 39.72 | FC16: 39.62 | FD16: 39.96 | FE16: 39.33 | FF16: 39.14 | FG16: 38.4 | FH16: 38.32 | FI16: 38.69 | FJ16: 38.08 | FK16: 37.81 | FL16: 36.95 | FM16: 35.63 | FN16: 33.98 | FO16: 33.35 | FP16: 35.56 | FQ16: 33.54 | FR16: 33.04 | FS16: 32.33 | FT16: 31.89 | FU16: 32.87 | FV16: 31.66 | FW16: 31.37 | FX16: 33.05 | FY16: 34.2 | FZ16: 31.99 | GA16: 29 | GB16: 28.64 | GC16: 27.47 | GD16: 26.99 | GE16: 25.2 | GF16: 23.04 | GG16: 24.03 | GH16: 24.36 | GI16: 25.88 | GJ16: 26.35 | GK16: 28.52 | GL16: 30.14 | GM16: 30.39 | GN16: 31.25 | GO16: 30.81 | GP16: 30.81 | GQ16: 30.41 | GR16: 29.64 | GS16: 30.53 | GT16: 30.97 | GU16: 32.82 | GV16: 34.52 | GW16: 34.92 | GX16: 34.79 | GY16: 33.35 | GZ16: 32.31 | HA16: 31.32 | HB16: 30.51 | HC16: 29.63 | HD16: 30.06 | HE16: 31.26 | HF16: 33.09 | HG16: 34.3 | HH16: 34.6 | HI16: 34.8 | HJ16: 32.9 | HK16: 32.51 | HL16: 32.52 | HM16: 32.76 | HN16: 31.84 | HO16: 31.09 | HP16: 30.63 | HQ16: 30.82 | HR16: 30.56 | HS16: 31.82 | HT16: 32.6 | HU16: 33.8 | HV16: 33.7 | HW16: 32.94 | HX16: 33.17 | HY16: 31.11 | HZ16: 30.32 | IA16: 29.32 | IB16: 29.34 | IC16: 29.76 | ID16: 30.25 | IE16: 30.92 | IF16: 31.83 | IG16: 33.07 | IH16: 32.54 | II16: ⴕ | IJ16: ⴕ | IK16: ⴕ | IL16: ⴕ | IM16: ⴕ | IN16: ⴕ | IO16: ⴕ | IP16: ⴕ | IQ16: ⴕ | IR16: ⴕ | IS16: ⴕ | IT16: ⴕ | IU16: ⴕ | IV16: ⴕ | IW16: ⴕ | IX16: ⴕ | IY16: ⴕ | IZ16: ⴕ | JA16: ⴕ | JB16: ⴕ | JC16: ⴕ | JD16: ⴕ | JE16: ⴕ | JF16: ⴕ | JG16: ⴕ | JH16: ⴕ | JI16: ⴕ | JJ16: ⴕ | JK16: ⴕ | JL16: ⴕ | JM16: ⴕ | JN16: ⴕ | JO16: ⴕ | JP16: ⴕ | JQ16: ⴕ | JR16: ⴕ | JS16: ⴕ | JT16: ⴕ | JU16: ⴕ | JV16: ⴕ | JW16: ⴕ | JX16: ⴕ | JY16: ⴕ | JZ16: ⴕ | KA16: ⴕ | KB16: ⴕ | KC16: ⴕ | KD16: ⴕ | KE16: ⴕ | KF16: ⴕ | KG16: ⴕ | KH16: ⴕ | KI16: ⴕ | KJ16: ⴕ | KK16: ⴕ | KL16: ⴕ | KM16: ⴕ | KN16: ⴕ | KO16: ⴕ | KP16: ⴕ | KQ16: ⴕ | KR16: ⴕ | KS16: ⴕ | KT16: ⴕ | KU16: ⴕ | KV16: ⴕ | KW16: ⴕ | KX16: ⴕ | KY16: =IFERROR("n/a",(KX16-KL16)) -> n/a | KZ16: =IFERROR("n/a",((KX16/KL16)-1)) -> n/a | LF16: ⴕ
B17: Netherlands | C17: 32.97 | D17: 32.09 | E17: 30.84 | F17: 31.06 | G17: 31.22 | H17: 32.44 | I17: 31.28 | J17: 36.96 | K17: 37.13 | L17: 37.79 | M17: 38.86 | N17: 36.78 | O17: 33.49 | P17: 32.99 | Q17: 31.04 | R17: 30.42 | S17: 30.25 | T17: 30.27 | U17: 30.34 | V17: 35.02 | W17: 35.12 | X17: 35.49 | Y17: 35.83 | Z17: 33.52 | AA17: 30.61 | AB17: 30.04 | AC17: 28.82 | AD17: 28.82 | AE17: 29.14 | AF17: 29.14 | AG17: 29.6 | AH17: 34.58 | AI17: 34.58 | AJ17: 34.85 | AK17: 35.19 | AL17: 32.91 | AM17: 29.6301 | AN17: 28.1401 | AO17: 26.5701 | AP17: 26.0401 | AQ17: 26.0401 | AR17: 26.0401 | AS17: 30.4701 | AT17: 31.8401 | AU17: 31.9501 | AV17: 32.1401 | AW17: 32.3601 | AX17: 31.7101 | AY17: 28.31 | AZ17: 27.97 | BA17: 26.23 | BB17: 26.27 | BC17: 26.27 | BD17: 26.27 | BE17: 26.44 | BF17: 31.8 | BG17: 31.8 | BH17: 31.8 | BI17: 31.81 | BJ17: 29.27 | BK17: 27.64 | BL17: 27.64 | BM17: 25.73 | BN17: 25.44 | BO17: 25.44 | BP17: 25.29 | BQ17: 25.49 | BR17: 30.92 | BS17: 30.92 | BT17: 30.78 | BU17: 30.78 | BV17: 27.66 | BW17: 27.73 | BX17: 27.93 | BY17: 26.03 | BZ17: 26.34 | CA17: 26.34 | CB17: 27.4 | CC17: 25.6 | CD17: 37.36 | CE17: 41.32 | CF17: 45.09 | CG17: 40 | CH17: 42.73 | CI17: 38.97 | CJ17: 38.83 | CK17: 36.29 | CL17: 35.78 | CM17: 34.5 | CN17: 32.21 | CO17: 32.52 | CP17: 37.99 | CQ17: 37.45 | CR17: 37.13 | CS17: 36.44 | CT17: 32.95 | CU17: 28.64 | CV17: 27.34 | CW17: 22.59 | CX17: 22.6 | CY17: 21.56 | CZ17: 23.2 | DA17: 23.19 | DB17: 27.02 | DC17: 28.06 | DD17: 30.12 | DE17: 33.36 | DF17: 33.61 | DG17: 29.66 | DH17: 28.18 | DI17: 25.27 | DJ17: 26.55 | DK17: 28.84 | DL17: 31.83936 | DM17: 33.75 | DN17: 33.75 | DO17: 33.75 | DP17: 34.65 | DQ17: 35.65 | DR17: 35.65 | DS17: 35.65 | DT17: 35.65 | DU17: 36 | DV17: 36 | DW17: 38 | DX17: 38 | DY17: 38 | DZ17: 37.25 | EA17: 36.25 | EB17: 37 | EC17: 37.25 | ED17: 37.5 | EE17: 36.5 | EF17: 35.75 | EG17: 34.25 | EH17: 33.75 | EI17: 32.75 | EJ17: 32 | EK17: 32 | EL17: 32 | EM17: 32 | EN17: 32.75 | EO17: 35 | EP17: 36.9 | EQ17: 35.7 | ER17: 35 | ES17: 34.5 | ET17: 37 | EU17: 39.5 | EV17: 40 | EW17: 40 | EX17: 40 | EY17: 41.5 | EZ17: 42.25 | FA17: 44 | FB17: 44 | FC17: 43 | FD17: 43 | FE17: 42.5 | FF17: 41.25 | FG17: 42 | FH17: 42 | FI17: 39.5 | FJ17: 39.75 | FK17: 38 | FL17: 37 | FM17: 34.5 | FN17: 30.75 | FO17: 30.25 | FP17: 31.5 | FQ17: 34 | FR17: 33.25 | FS17: 32 | FT17: 30.5 | FU17: 30 | FV17: 28.5 | FW17: 28.5 | FX17: 29 | FY17: 29.75 | FZ17: 30 | GA17: 29.25 | GB17: 29.25 | GC17: 28.5 | GD17: 27.5 | GE17: 25 | GF17: 25 | GG17: 25 | GH17: 25 | GI17: 26.25 | GJ17: 29.25 | GK17: 33 | GL17: 37.5 | GM17: 34.5 | GN17: 35 | GO17: 36 | GP17: 36 | GQ17: 36 | GR17: 36.75 | GS17: 37.25 | GT17: 38.5 | GU17: 40.5 | GV17: 41.75 | GW17: 41.75 | GX17: 41.5 | GY17: 37.5 | GZ17: 35.75 | HA17: 35.5 | HB17: 34.5 | HC17: 34 | HD17: 34.25 | HE17: 35.75 | HF17: 35.75 | HG17: 37 | HH17: 38 | HI17: 37.25 | HJ17: 37.25 | HK17: 36.25 | HL17: 36.5 | HM17: 36.5 | HN17: 36 | HO17: 35.25 | HP17: 35.75 | HQ17: 35 | HR17: 35 | HS17: 35 | HT17: 34.75 | HU17: 35.5 | HV17: 36.41 | HW17: 35.75 | HX17: 36.5 | HY17: 36.25 | HZ17: 35 | IA17: 33 | IB17: 32.5 | IC17: 33 | ID17: 34 | IE17: 33.75 | IF17: 34.25 | IG17: 34.25 | IH17: 35.19 | II17: 34.25 | IJ17: 35 | IK17: 35.25 | IL17: 36 | IM17: 37.5 | IN17: 38 | IO17: 37.5 | IP17: 37.75 | IQ17: 38 | IR17: 39.5 | IS17: 41.25 | IT17: 43.72 | IU17: 45 | IV17: 45 | IW17: 46.5 | IX17: 48.5 | IY17: 52.5 | IZ17: 56.5 | JA17: 60 | JB17: 60 | JC17: 61.25 | JD17: 62.25 | JE17: 62.25 | JF17: 62.51 | JG17: 60 | JH17: 56 | JI17: 50.5 | JJ17: 44.75 | JK17: 43.25 | JL17: 43.25 | JM17: 43.25 | JN17: 43.25 | JO17: 41.45 | JP17: 41 | JQ17: 42.25 | JR17: 46.31 | JS17: 46.31 | JT17: 46 | JU17: 46.5 | JV17: 46.75 | JW17: 47.25 | JX17: 47.75 | JY17: 48 | JZ17: 49.25 | KA17: 51 | KB17: 53.5 | KC17: 55.5 | KD17: 57.35 | KE17: 56 | KF17: 55 | KG17: 53.75 | KH17: 55.25 | KI17: 56.5 | KJ17: 56.75 | KK17: 56.75 | KL17: 56.25 | KM17: 55.75 | KN17: 53 | KO17: 46 | KP17: 43.5 | KQ17: 39 | KR17: 39 | KS17: 39 | KT17: 41.5 | KU17: 41.75 | KV17: 41.5 | KW17: 41.25 | KX17: 42.5 | KY17: =KX17-KL17 -> -13.75 | KZ17: =(KX17/KL17)-1 -> -0.24444444
B18: Denmark | C18: 34.56 | D18: 34.44 | E18: 34.7 | F18: 34.3 | G18: 33.77 | H18: 33.54 | I18: 33.31 | J18: 33.45 | K18: 34.4 | L18: 34.96 | M18: 35.19 | N18: 35.2 | O18: 34.85 | P18: 34.32 | Q18: 34.44 | R18: 34.44 | S18: 33.89 | T18: 33.36 | U18: 33.24 | V18: 33.12 | W18: 34.06 | X18: 34.99 | Y18: 35.14 | Z18: 34.84 | AA18: 34.54 | AB18: 34.34 | AC18: 34.12 | AD18: 33.58 | AE18: 32.66 | AF18: 32.1 | AG18: 31.96 | AH18: 31.94 | AI18: 32.92 | AJ18: 33.08 | AK18: 30.256705 | AL18: 30.236267 | AM18: 30.21158 | AN18: 30.197756 | AO18: 30.201172 | AP18: 29.015861 | AQ18: 31.1808 | AR18: 31.0727 | AS18: 31.0673 | AT18: 30.7942 | AU18: 31.5942 | AV18: 31.4606 | AW18: 31.4885 | AX18: 29.060517 | AY18: 29.03 | AZ18: 29.02 | BA18: 29.01 | BB18: 28.72 | BC18: 28.75 | BD18: 28.75 | BE18: 28.7 | BF18: 28.69 | BG18: 28.7 | BH18: 29.75 | BI18: 29.89 | BJ18: 30.05 | BK18: 30.16 | BL18: 29.74 | BM18: 29.76 | BN18: 28.95 | BO18: 28.42 | BP18: 28.02 | BQ18: 27.62 | BR18: 27.88 | BS18: 28.95 | BT18: 29.36 | BU18: 29.65 | BV18: 29.24 | BW18: 29.11 | BX18: 29.24 | BY18: 28.98 | BZ18: 28.86 | CA18: 28.18 | CB18: 27.65 | CC18: 27.95 | CD18: 29.83 | CE18: 32.77 | CF18: 36.89 | CG18: 40.24 | CH18: 40.1 | CI18: 39.84 | CJ18: 39.58 | CK18: 38.77 | CL18: 36.47 | CM18: 34.98 | CN18: 32.44 | CO18: 35.53 | CP18: 38.87 | CQ18: 39.56 | CR18: 38.47 | CS18: 36.5 | CT18: 35.03 | CU18: 30.47 | CV18: 29.52 | CW18: 27.38 | CX18: 26.31 | CY18: 25.91 | CZ18: 25.65 | DA18: 25.38 | DB18: 25.79 | DC18: 26.6 | DD18: 28.62 | DE18: 28.75 | DF18: 29.96 | DG18: 29.83 | DH18: 29.55 | DI18: 29.16 | DJ18: 28.88 | DK18: 29.56 | DL18: 30.91 | DM18: 31.56 | DN18: 32.21 | DO18: 33.58 | DP18: 34.89 | DQ18: 36.21 | DR18: 36.9 | DS18: 35 | DT18: 34.5 | DU18: 34.5 | DV18: 34.5 | DW18: 35.5 | DX18: 35.5 | DY18: 36 | DZ18: 36.5 | EA18: 36 | EB18: 36.5 | EC18: 37 | ED18: 36.5 | EE18: 36 | EF18: 35 | EG18: 34 | EH18: 34 | EI18: 33 | EJ18: 32.5 | EK18: 32 | EL18: 32 | EM18: 33 | EN18: 35 | EO18: 36.5 | EP18: 35.5 | EQ18: 35.5 | ER18: 35.5 | ES18: 36 | ET18: 36 | EU18: 36.5 | EV18: 38 | EW18: 38 | EX18: 38 | EY18: 40.5 | EZ18: 42.5 | FA18: 43.5 | FB18: 43.5 | FC18: 43 | FD18: 43.5 | FE18: 43.5 | FF18: 43 | FG18: 41 | FH18: 41 | FI18: 39 | FJ18: 38 | FK18: 37.5 | FL18: 36 | FM18: 36 | FN18: 34.5 | FO18: 31 | FP18: 30.98 | FQ18: 31.23 | FR18: 32.82 | FS18: 32.81 | FT18: 30.9 | FU18: 30.9 | FV18: 29.92 | FW18: 29.93 | FX18: 30.58 | FY18: 30.59 | FZ18: 30.69 | GA18: 30.69 | GB18: 29.77 | GC18: 29.42 | GD18: 28.5 | GE18: 27.43 | GF18: 26.21 | GG18: 26.08 | GH18: 26.21 | GI18: 27.39 | GJ18: 29.43 | GK18: 31.45 | GL18: 33.48 | GM18: 35.37 | GN18: 36.45 | GO18: 36.85 | GP18: 35.76 | GQ18: 34.68 | GR18: 34.82 | GS18: 36.58 | GT18: 37.51 | GU18: 38.44 | GV18: 39.23 | GW18: 39.24 | GX18: 37.89 | GY18: 35.86 | GZ18: 33.44 | HA18: 33.29 | HB18: 33.3 | HC18: 34.23 | HD18: 36.25 | HE18: 37.17 | HF18: 37.15 | HG18: 37.95 | HH18: 37.94 | HI18: 37.93 | HJ18: 36.97 | HK18: 34.16 | HL18: 34.17 | HM18: 34.17 | HN18: 34.16 | HO18: 34.15 | HP18: 34.15 | HQ18: 34.16 | HR18: 34.18 | HS18: 34.03 | HT18: 34.01 | HU18: 33.99 | HV18: 34.8 | HW18: 34.79 | HX18: 35.74 | HY18: 35.74 | HZ18: 34.84 | IA18: 34.86 | IB18: 34.07 | IC18: 34.11 | ID18: 34.11 | IE18: 34.67 | IF18: 35.61 | IG18: 35.59 | IH18: 33.73 | II18: 33.74 | IJ18: 34.29 | IK18: 35.91 | IL18: 37.25 | IM18: 37.79 | IN18: 37.52 | IO18: 37.51 | IP18: 36.44 | IQ18: 38.06 | IR18: 39.52 | IS18: 39.53 | IT18: 43.7 | IU18: 43.68 | IV18: 43.68 | IW18: 46.23 | IX18: 46.78 | IY18: 50.67 | IZ18: 55.65 | JA18: 57.78 | JB18: 58.88 | JC18: 58.9 | JD18: 59.96 | JE18: 61.43 | JF18: 61.45 | JG18: 60.36 | JH18: 57.36 | JI18: 53.32 | JJ18: 47.24 | JK18: 43.76 | JL18: 41.75 | JM18: 41.61 | JN18: 41.6 | JO18: 41.58 | JP18: 41.69 | JQ18: 41.7 | JR18: 42.65 | JS18: 45.19 | JT18: 45.21 | JU18: 46.13 | JV18: 46.12 | JW18: 46.65 | JX18: 47.06 | JY18: 47.99 | JZ18: 48.78 | KA18: 49.87 | KB18: 51.75 | KC18: 54.7 | KD18: 55.77 | KE18: 55.76 | KF18: 55.77 | KG18: 55.9 | KH18: 55.73 | KI18: 55.9 | KJ18: 55.9 | KK18: 56.01 | KL18: 56 | KM18: 54.93 | KN18: 53.03 | KO18: 49.95 | KP18: 45.92 | KQ18: 41.9 | KR18: 39.89 | KS18: 39.88 | KT18: 40.01 | KU18: 41.89 | KV18: 41.88 | KW18: 43.48 | KX18: 44.41 | KY18: =KX18-KL18 -> -11.59 | KZ18: =(KX18/KL18)-1 -> -0.20696429
B19: Austria | C19: 31.32 | D19: 31.61 | E19: 31.54 | F19: 31.9 | G19: 31.9 | H19: 32.41 | I19: 32.78 | J19: 33.36 | K19: 34.88 | L19: 35.46 | M19: 36.99 | N19: 36.99 | O19: 35.31 | P19: 34.59 | Q19: 34.06 | R19: 32.08 | S19: 30.08 | T19: 29.49 | U19: 29.23 | V19: 29.23 | W19: 30.48 | X19: 31.17 | Y19: 31.44 | Z19: 32.24 | AA19: 31.47 | AB19: 31.2 | AC19: 31.08 | AD19: 29.73 | AE19: 28.01 | AF19: 27.93 | AG19: 27.25 | AH19: 27.48 | AI19: 28.69 | AJ19: 30.41 | AK19: 31.18 | AL19: 32.49 | AM19: 30.7301 | AN19: 30.0801 | AO19: 30.1101 | AP19: 28.84 | AQ19: 27.85 | AR19: 27.98 | AS19: 28.1 | AT19: 28.14 | AU19: 29.0111 | AV19: 30.7581 | AW19: 31.5651 | AX19: 31.5831 | AY19: 31.017041 | AZ19: 30.28 | BA19: 30.17 | BB19: 28.77 | BC19: 27.85 | BD19: 27.71 | BE19: 27.68 | BF19: 28.27 | BG19: 28.77 | BH19: 30.55 | BI19: 31.71 | BJ19: 31.66 | BK19: 30.7 | BL19: 30.64 | BM19: 30.05 | BN19: 29.15 | BO19: 28.14 | BP19: 28.06 | BQ19: 28.21 | BR19: 29.05 | BS19: 29.72 | BT19: 31 | BU19: 32 | BV19: 32.72 | BW19: 31.397727 | BX19: 31.31 | BY19: 30.68 | BZ19: 29.97 | CA19: 29.51 | CB19: 29.82 | CC19: 31.63 | CD19: 32.93 | CE19: 37.08 | CF19: 38.75 | CG19: 42 | CH19: 42.53 | CI19: 42.46 | CJ19: 42.02 | CK19: 41.52 | CL19: 40.88 | CM19: 39.34 | CN19: 38.19 | CO19: 37.16 | CP19: 37.08 | CQ19: 38.08 | CR19: 38.09 | CS19: 36.27 | CT19: 34.93 | CU19: 33.17 | CV19: 33.14 | CW19: 31.76 | CX19: 29.45 | CY19: 28.08 | CZ19: 25.62 | DA19: 25.27 | DB19: 25.32 | DC19: 27.08 | DD19: 28.15 | DE19: 30.24 | DF19: 30.56 | DG19: 30.89 | DH19: 30.62 | DI19: 30.34 | DJ19: 29.73 | DK19: 29.95 | DL19: 29.67 | DM19: 31.2 | DN19: 31.88 | DO19: 33.32 | DP19: 33.95 | DQ19: 34.57 | DR19: 35.3 | DS19: 34.99 | DT19: 34.62 | DU19: 34.37 | DV19: 34.15 | DW19: 34.63 | DX19: 34.56 | DY19: 34.59 | DZ19: 34.6 | EA19: 35.48 | EB19: 36.74 | EC19: 38.03 | ED19: 38.12 | EE19: 37.17 | EF19: 37.08 | EG19: 36.48 | EH19: 34.6 | EI19: 33.73 | EJ19: 31.71 | EK19: 31.04 | EL19: 30.66 | EM19: 31.72 | EN19: 32.74 | EO19: 34.05 | EP19: 34.86 | EQ19: 35.16 | ER19: 35.37 | ES19: 35.63 | ET19: 35.34 | EU19: 35.93 | EV19: 36.2 | EW19: 36.49 | EX19: 37.52 | EY19: 38.86 | EZ19: 40.35 | FA19: 41.95 | FB19: 42.7 | FC19: 42.6 | FD19: 42.27 | FE19: 42.24 | FF19: 40.56 | FG19: 39.57 | FH19: 38.33 | FI19: 38.21 | FJ19: 38.37 | FK19: 39.02 | FL19: 37.49 | FM19: 37.33 | FN19: 36.72 | FO19: 35.14 | FP19: 34.94 | FQ19: 34.81 | FR19: 33.81 | FS19: 33.17 | FT19: 32.69 | FU19: 31.77 | FV19: 32.04 | FW19: 32.87 | FX19: 34.12 | FY19: 34.38 | FZ19: 34.45 | GA19: 33.22 | GB19: 31.73 | GC19: 31.7 | GD19: 30.78 | GE19: 29.77 | GF19: 29.26 | GG19: 29.37 | GH19: 29.9 | GI19: 29.84 | GJ19: 31.43 | GK19: 33.05 | GL19: 34.7 | GM19: 34.88 | GN19: 34.88 | GO19: 34.83 | GP19: 34.58 | GQ19: 34.68 | GR19: 35.82 | GS19: 36.76 | GT19: 37.7 | GU19: 39.74 | GV19: 40.99 | GW19: 41.44 | GX19: 41.81 | GY19: 40.27 | GZ19: 38.18 | HA19: 36.96 | HB19: 35.81 | HC19: 35.02 | HD19: 34.55 | HE19: 35.33 | HF19: 35.12 | HG19: 36.45 | HH19: 37.86 | HI19: 38.68 | HJ19: 39.2 | HK19: 38.25 | HL19: 38.02 | HM19: 37.64 | HN19: 37.84 | HO19: 37.45 | HP19: 36.33 | HQ19: 35.97 | HR19: 35.45 | HS19: 35.97 | HT19: 36.43 | HU19: 36.95 | HV19: 37.31 | HW19: 36.7 | HX19: 37.29 | HY19: 37.2 | HZ19: 37.19 | IA19: 36.39 | IB19: 36.24 | IC19: 36.24 | ID19: 37.26 | IE19: 38.32 | IF19: 39.36 | IG19: 40.07 | IH19: 41.41 | II19: 39.32 | IJ19: 39.04 | IK19: 38.16 | IL19: 38.12 | IM19: 38.59 | IN19: 38.21 | IO19: 38.83 | IP19: 39.16 | IQ19: 39.85 | IR19: 41.08 | IS19: 42.03 | IT19: 44.16 | IU19: 42.4 | IV19: 43.2 | IW19: 44.26 | IX19: 45.96 | IY19: 47.54 | IZ19: 47.97 | JA19: 51.11 | JB19: 52.37 | JC19: 54.83 | JD19: 57.08 | JE19: 58.88 | JF19: 59.78 | JG19: 58.92 | JH19: 57.46 | JI19: 55.62 | JJ19: 54.48 | JK19: 51.97 | JL19: 50.67 | JM19: 48.73 | JN19: 48.59 | JO19: 47.44 | JP19: 47.88 | JQ19: 48.32 | JR19: 49.42 | JS19: 48.52 | JT19: 48.45 | JU19: 48.93 | JV19: 49.4 | JW19: 48.95 | JX19: 49.2 | JY19: 48.99 | JZ19: 49.31 | KA19: 50.86 | KB19: 52.53 | KC19: 56.26 | KD19: 56.26 | KE19: 55.34 | KF19: 55.68 | KG19: 55.54 | KH19: 55.32 | KI19: 55.65 | KJ19: 55.85 | KK19: 56.41 | KL19: 57.04 | KM19: 57.56 | KN19: 58.47 | KO19: 56.58 | KP19: 56.11 | KQ19: 51.53 | KR19: 48.76 | KS19: 46.74 | KT19: 46.75 | KU19: 45.92 | KV19: 45.18 | KW19: 44.99 | KX19: 45.4 | KY19: =KX19-KL19 -> -11.64 | KZ19: =(KX19/KL19)-1 -> -0.20406732
B20: Sweden | C20: 33.41 | D20: 33.03 | E20: 32.38 | F20: 31.22 | G20: 32.42 | H20: 31.97 | I20: 31.63 | J20: 32.33 | K20: 31.58 | L20: 32.21 | M20: 32.55 | N20: 31.91 | O20: 32.74 | P20: 32.57 | Q20: 32.9 | R20: 32.63 | S20: 32.33 | T20: 32.71 | U20: 32.59 | V20: 32.34 | W20: 33.82 | X20: 34.94 | Y20: 34.7 | Z20: 34.2 | AA20: 33.49 | AB20: 33.7 | AC20: 33.19 | AD20: 33.45 | AE20: 33.33 | AF20: 33.47 | AG20: 33.12 | AH20: 33.36 | AI20: 34.98 | AJ20: 34.98 | AK20: 34.49 | AL20: 33.83 | AM20: 33.0751 | AN20: 32.7148 | AO20: 32.1834 | AP20: 31.5539 | AQ20: 31.6839 | AR20: 31.5215 | AS20: 31.2304 | AT20: 31.2647 | AU20: 32.5782 | AV20: 32.686 | AW20: 32.6959 | AX20: 32.1982 | AY20: 31.63 | AZ20: 31.39 | BA20: 31.38 | BB20: 29.14 | BC20: 28.94 | BD20: 28.81 | BE20: 28.11 | BF20: 28.36 | BG20: 29.06 | BH20: 29.47 | BI20: 28.53 | BJ20: 28.8 | BK20: 28.39 | BL20: 28.86 | BM20: 28.38 | BN20: 28.54 | BO20: 28.04 | BP20: 27.7 | BQ20: 27.52 | BR20: 27.98 | BS20: 29.07 | BT20: 29.43 | BU20: 29.77 | BV20: 30.16 | BW20: 29.3 | BX20: 29.36 | BY20: 28.44 | BZ20: 28.32 | CA20: 28.63 | CB20: 28 | CC20: 28.2 | CD20: 29.72 | CE20: 31.88 | CF20: 36.08 | CG20: 39.01 | CH20: 38.69 | CI20: 37.87 | CJ20: 37.53 | CK20: 38.15 | CL20: 35.72 | CM20: 35.5 | CN20: 33.62 | CO20: 35.38 | CP20: 37.23 | CQ20: 38.16 | CR20: 36.43 | CS20: 34.08 | CT20: 31.9 | CU20: 25.92 | CV20: 26.85 | CW20: 23.48 | CX20: 24.43 | CY20: 24.64 | CZ20: 24.8 | DA20: 24.29 | DB20: 25.75 | DC20: 27.26 | DD20: 28.42 | DE20: 28.67 | DF20: 29.53 | DG20: 28.21 | DH20: 28.7 | DI20: 30.48 | DJ20: 30.2 | DK20: 30.83 | DL20: 32.59 | DM20: 33.28 | DN20: 35.11 | DO20: 36.27 | DP20: 38.2 | DQ20: 39.23 | DR20: 41.04 | DS20: 39.56 | DT20: 39.8 | DU20: 38.96 | DV20: 37.96 | DW20: 39.07 | DX20: 37.35 | DY20: 36.58 | DZ20: 36.75 | EA20: 36.81 | EB20: 36.8 | EC20: 37.21 | ED20: 37.57 | EE20: 37.16 | EF20: 36.71 | EG20: 35.57 | EH20: 35.11 | EI20: 34.26 | EJ20: 34.33 | EK20: 34.67 | EL20: 35.65 | EM20: 35.72 | EN20: 35.53 | EO20: 36.38 | EP20: 38.04 | EQ20: 37.01 | ER20: 37.32 | ES20: 38.66 | ET20: 38.28 | EU20: 38.63 | EV20: 39.32 | EW20: 39.15 | EX20: 39.05 | EY20: 41 | EZ20: 42.45 | FA20: 42.37 | FB20: 41.97 | FC20: 41.87 | FD20: 42.47 | FE20: 42.52 | FF20: 40.48 | FG20: 40.37 | FH20: 39.7 | FI20: 37.92 | FJ20: 36.78 | FK20: 36.76 | FL20: 35.99 | FM20: 35.4 | FN20: 33.47 | FO20: 31.33 | FP20: 30.57 | FQ20: 31.35 | FR20: 31.3 | FS20: 32.33 | FT20: 31.71 | FU20: 30.71 | FV20: 29.76 | FW20: 30.88 | FX20: 32.73 | FY20: 32.83 | FZ20: 32.98 | GA20: 31.98 | GB20: 31.43 | GC20: 31.72 | GD20: 30.89 | GE20: 29.46 | GF20: 27.56 | GG20: 27.24 | GH20: 28.35 | GI20: 29.6 | GJ20: 31.66 | GK20: 33.07 | GL20: 34.79 | GM20: 37 | GN20: 37.9 | GO20: 37.88 | GP20: 36.7 | GQ20: 35.34 | GR20: 34.54 | GS20: 36.59 | GT20: 37.99 | GU20: 40.2 | GV20: 40.87 | GW20: 40.25 | GX20: 40.05 | GY20: 37.56 | GZ20: 35.77 | HA20: 33.46 | HB20: 32.32 | HC20: 31.68 | HD20: 31.63 | HE20: 33.02 | HF20: 33.29 | HG20: 34.7 | HH20: 37.57 | HI20: 37.21 | HJ20: 37.44 | HK20: 35.96 | HL20: 35.17 | HM20: 35.04 | HN20: 35.13 | HO20: 34 | HP20: 34.34 | HQ20: 34.02 | HR20: 33.37 | HS20: 34.3 | HT20: 35.01 | HU20: 35.46 | HV20: 36.08 | HW20: 35.21 | HX20: 34.9 | HY20: 34.9 | HZ20: 34.84 | IA20: 34.52 | IB20: 34.32 | IC20: 33.87 | ID20: 34.06 | IE20: 35.02 | IF20: 36.25 | IG20: 37.88 | IH20: 37.93 | II20: 36.68 | IJ20: 36.77 | IK20: 36.79 | IL20: 38.13 | IM20: 39.33 | IN20: 39.23 | IO20: 37.76 | IP20: 38.75 | IQ20: 39.44 | IR20: 40.96 | IS20: 41.63 | IT20: 43.29 | IU20: 42.9 | IV20: 43.01 | IW20: 44.71 | IX20: 45.97 | IY20: 47.7 | IZ20: 49.77 | JA20: 52.24 | JB20: 53.85 | JC20: 54.85 | JD20: 56.7 | JE20: 58.33 | JF20: 58.43 | JG20: 55.9 | JH20: 54.01 | JI20: 51.06 | JJ20: 46.13 | JK20: 41.75 | JL20: 36.63 | JM20: 36.65 | JN20: 36.41 | JO20: 36.53 | JP20: 38.93 | JQ20: 39.59 | JR20: 41.51 | JS20: 44.25 | JT20: 43.82 | JU20: 44.59 | JV20: 43.67 | JW20: 43.04 | JX20: 43.72 | JY20: 43.88 | JZ20: 44.87 | KA20: 47.72 | KB20: 52 | KC20: 54.3 | KD20: 55.46 | KE20: 55.75 | KF20: 57.79 | KG20: 57.99 | KH20: 57.59 | KI20: 57.35 | KJ20: 55.23 | KK20: 53.85 | KL20: 54.48 | KM20: 56.09 | KN20: 56.43 | KO20: 54.31 | KP20: 50.85 | KQ20: 48.21 | KR20: 46.54 | KS20: 44.51 | KT20: 43.66 | KU20: 44.56 | KV20: 42.96 | KW20: 43.56 | KX20: 44.91 | KY20: =KX20-KL20 -> -9.57 | KZ20: =(KX20/KL20)-1 -> -0.17566079
B21: Italy | C21: 36.8 | D21: 36.8 | E21: 36.8 | F21: 39.17 | G21: 39.17 | H21: 39.17 | I21: 39.17 | J21: 39.17 | K21: 39.17 | L21: 39.17 | M21: 39.17 | N21: 39.17 | O21: 39.17 | P21: 39.33 | Q21: 39.33 | R21: 38.83 | S21: 38.83 | T21: 38.83 | U21: 39 | V21: 39 | W21: 39 | X21: 38.94 | Y21: 37.88 | Z21: 37.59 | AA21: 35.913043 | AB21: 35.613527 | AC21: 35.613527 | AD21: 35.120773 | AE21: 34.94686 | AF21: 34.94686 | AG21: 34.94686 | AH21: 34.94686 | AI21: 34.94686 | AJ21: 34.94686 | AK21: 34.966184 | AL21: 34.985507 | AM21: 34.985607 | AN21: 34.985607 | AO21: 34.985607 | AP21: 34.985607 | AQ21: 34.985607 | AR21: 34.985607 | AS21: 34.9901 | AT21: 34.9901 | AU21: 34.985607 | AV21: 34.985607 | AW21: 35.169182 | AX21: 34.869665 | AY21: 34.34 | AZ21: 34.34 | BA21: 34.34 | BB21: 33.57 | BC21: 33.57 | BD21: 33.57 | BE21: 33.57 | BF21: 33.57 | BG21: 33.57 | BH21: 33.57 | BI21: 33.57 | BJ21: 33.57 | BK21: 32.28 | BL21: 32.28 | BM21: 32.28 | BN21: 32 | BO21: 32 | BP21: 32 | BQ21: 32 | BR21: 32 | BS21: 32 | BT21: 32 | BU21: 32 | BV21: 32 | BW21: 32.8 | BX21: 32.8 | BY21: 32.8 | BZ21: 33.16 | CA21: 33.16 | CB21: 33.16 | CC21: 33.16 | CD21: 33.16 | CE21: 35.16 | CF21: 37.65 | CG21: 37.43 | CH21: 38 | CI21: 38 | CJ21: 38 | CK21: 37.58 | CL21: 37.11 | CM21: 37.51 | CN21: 37.42 | CO21: 37.6 | CP21: 37.66 | CQ21: 37.62 | CR21: 37.12 | CS21: 37.22 | CT21: 35.78 | CU21: 33.73 | CV21: 32.75 | CW21: 31.81 | CX21: 29.64 | CY21: 30.44 | CZ21: 29.95 | DA21: 29.11 | DB21: 29.02 | DC21: 29.24 | DD21: 30.34 | DE21: 30.43 | DF21: 30.36 | DG21: 31.09 | DH21: 31.05 | DI21: 32.87 | DJ21: 32.82 | DK21: 32.82 | DL21: 32.82 | DM21: 35.7 | DN21: 35.97 | DO21: 36.5 | DP21: 34.77 | DQ21: 34.77 | DR21: 34.8 | DS21: 37.46 | DT21: 37.48 | DU21: 37.61 | DV21: 38.38 | DW21: 38.37 | DX21: 38.37 | DY21: 38.8 | DZ21: 38.8 | EA21: 39 | EB21: 39.04 | EC21: 39.07 | ED21: 39.05 | EE21: 38.95 | EF21: 38.9 | EG21: 38.89 | EH21: 35.72 | EI21: 35.51 | EJ21: 35.44 | EK21: 35.82 | EL21: 36.12 | EM21: 36.43 | EN21: 36.81 | EO21: 37.05 | EP21: 38.04 | EQ21: 37.84 | ER21: 37.84 | ES21: 37.84 | ET21: 37.95 | EU21: 38.16 | EV21: 38.32 | EW21: 38.53 | EX21: 39.52 | EY21: 39.82 | EZ21: 39.92 | FA21: 40.06 | FB21: 40.09 | FC21: 40.35 | FD21: 41.24 | FE21: 41.79 | FF21: 41.61 | FG21: 41.21 | FH21: 41.21 | FI21: 39.89 | FJ21: 39.73 | FK21: 39.17 | FL21: 36.77 | FM21: 36.77 | FN21: 35.97 | FO21: 35.54 | FP21: 35.43 | FQ21: 35.46 | FR21: 34.79 | FS21: 34.75 | FT21: 34.85 | FU21: 34.49 | FV21: 34.24 | FW21: 33.76 | FX21: 33.93 | FY21: 34.07 | FZ21: 34.75 | GA21: 34.38 | GB21: 34.09 | GC21: 32.14 | GD21: 31.49 | GE21: 31.07 | GF21: 30.63 | GG21: 30.63 | GH21: 30.47 | GI21: 31.32 | GJ21: 31.32 | GK21: 31.99 | GL21: 34.34 | GM21: 36.25 | GN21: 36.43 | GO21: 36.64 | GP21: 36.32 | GQ21: 36.62 | GR21: 36.62 | GS21: 36.78 | GT21: 37.15 | GU21: 37.7 | GV21: 37.68 | GW21: 38.02 | GX21: 38.08 | GY21: 36.57 | GZ21: 35.98 | HA21: 35.81 | HB21: 35.24 | HC21: 34.89 | HD21: 34.86 | HE21: 35.25 | HF21: 35.26 | HG21: 35.44 | HH21: 36.81 | HI21: 37.08 | HJ21: 37.2 | HK21: 39.51 | HL21: 39.65 | HM21: 39.32 | HN21: 39.07 | HO21: 39.09 | HP21: 39.09 | HQ21: 39.16 | HR21: 39.58 | HS21: 39.69 | HT21: 39.69 | HU21: 39.23 | HV21: 38.7 | HW21: 37.49 | HX21: 37.51 | HY21: 36.61 | HZ21: 35.61 | IA21: 36.06 | IB21: 34.64 | IC21: 34.64 | ID21: 34.56 | IE21: 34.98 | IF21: 35.49 | IG21: 35.82 | IH21: 35.9 | II21: 35.97 | IJ21: 36.07 | IK21: 36 | IL21: 36 | IM21: 35.96 | IN21: 35.96 | IO21: 37.21 | IP21: 37.25 | IQ21: 37.25 | IR21: 37.33 | IS21: 38.98 | IT21: 39.5 | IU21: 39.89 | IV21: 40.56 | IW21: 40.56 | IX21: 45.93 | IY21: 47.17 | IZ21: 48.19 | JA21: 48.19 | JB21: 50.98 | JC21: 54.34 | JD21: 55.35 | JE21: 55.35 | JF21: 57.4 | JG21: 57.17 | JH21: 57.4 | JI21: 54.86 | JJ21: 53.73 | JK21: 51.6 | JL21: 51.6 | JM21: 51.05 | JN21: 49.46 | JO21: 48.68 | JP21: 48.33 | JQ21: 48.55 | JR21: 49.78 | JS21: 48.58 | JT21: 49.55 | JU21: 49.71 | JV21: 49.55 | JW21: 50 | JX21: 49.7 | JY21: 50.28 | JZ21: 52.04 | KA21: 52.62 | KB21: 52.85 | KC21: 54.91 | KD21: 56.06 | KE21: 57.11 | KF21: 57.11 | KG21: 57.63 | KH21: 57.58 | KI21: 57.58 | KJ21: 58.13 | KK21: 58.27 | KL21: 58.25 | KM21: 58 | KN21: 55.84 | KO21: 54.59 | KP21: 53.49 | KQ21: 48.57 | KR21: 47.49 | KS21: 47.14 | KT21: 45.53 | KU21: 45.43 | KV21: 45.58 | KW21: 46.2 | KX21: 46.27 | KY21: =KX21-KL21 -> -11.98 | KZ21: =(KX21/KL21)-1 -> -0.20566524
B22: Finland | C22: 36.07 | D22: 36.3 | E22: 32.24 | F22: 32.45 | G22: 31.61 | H22: 31.41 | I22: 33.72 | J22: 36.73 | K22: 38.36 | L22: 38.82 | M22: 38.98 | N22: 39.37 | O22: 36.47 | P22: 36.15 | Q22: 33.07 | R22: 33 | S22: 32.68 | T22: 32.49 | U22: 35.32 | V22: 37.29 | W22: 38.84 | X22: 39.8 | Y22: 40.04 | Z22: 39.83 | AA22: 36.46 | AB22: 36.24 | AC22: 33.08 | AD22: 32.98 | AE22: 32.86 | AF22: 32.7 | AG22: 35.29 | AH22: 36.88 | AI22: 38.85 | AJ22: 39.53 | AK22: 39.74 | AL22: 39.82 | AM22: 35.7301 | AN22: 35.5601 | AO22: 32.5001 | AP22: 32.3401 | AQ22: 32.0501 | AR22: 32.8301 | AS22: 36.5701 | AT22: 37.3401 | AU22: 38.6701 | AV22: 37.4401 | AW22: 37.5901 | AX22: 35.7901 | AY22: 34.35 | AZ22: 33.98 | BA22: 31.17 | BB22: 31.02 | BC22: 30.68 | BD22: 31.31 | BE22: 34.93 | BF22: 36.07 | BG22: 37.74 | BH22: 38.27 | BI22: 38.41 | BJ22: 36.7 | BK22: 35.6 | BL22: 35.47 | BM22: 32.58 | BN22: 32.38 | BO22: 31.95 | BP22: 32.7 | BQ22: 36.38 | BR22: 37.38 | BS22: 38.9 | BT22: 39.6 | BU22: 39.93 | BV22: 38.26 | BW22: 36.6 | BX22: 36.65 | BY22: 33.71 | BZ22: 33.5 | CA22: 33.32 | CB22: 34 | CC22: 37.7 | CD22: 38.64 | CE22: 40.24 | CF22: 42.82 | CG22: 42.96 | CH22: 40.95 | CI22: 42.15 | CJ22: 41.92 | CK22: 38.95 | CL22: 38.84 | CM22: 43.42 | CN22: 44.17 | CO22: 47.98 | CP22: 49 | CQ22: 50.63 | CR22: 51.17 | CS22: 51.1 | CT22: 49.08 | CU22: 46.91 | CV22: 46.81 | CW22: 37.42 | CX22: 37.37 | CY22: 37.01 | CZ22: 37.69 | DA22: 36.68 | DB22: 37.61 | DC22: 39.1 | DD22: 40.01 | DE22: 40.37 | DF22: 38.29 | DG22: 36.22 | DH22: 36.06 | DI22: 33.05 | DJ22: 32.86 | DK22: 32.4 | DL22: 33.12 | DM22: 36.7 | DN22: 41.67 | DO22: 41 | DP22: 42.04 | DQ22: 42.47 | DR22: 40.58 | DS22: 40.9 | DT22: 40.67 | DU22: 38.68 | DV22: 40.53 | DW22: 40.37 | DX22: 41.93 | DY22: 41.57 | DZ22: 45.33 | EA22: 45.91 | EB22: 46.67 | EC22: 45.03 | ED22: 44.84 | EE22: 45.18 | EF22: 45.41 | EG22: 43.35 | EH22: 43.17 | EI22: 42.93 | EJ22: 44.56 | EK22: 44.28 | EL22: 46.12 | EM22: 46.68 | EN22: 47.16 | EO22: 45.45 | EP22: 45.29 | EQ22: 45.09 | ER22: 44.99 | ES22: 43.23 | ET22: 43.34 | EU22: 42.91 | EV22: 44.22 | EW22: 44.17 | EX22: 47.97 | EY22: 48.66 | EZ22: 49.5 | FA22: 47.86 | FB22: 48.57 | FC22: 45.57 | FD22: 45.51 | FE22: 43.48 | FF22: 43.56 | FG22: 43.35 | FH22: 44.87 | FI22: 44.6 | FJ22: 46.37 | FK22: 43.81 | FL22: 44.69 | FM22: 42.86 | FN22: 42.61 | FO22: 41.78 | FP22: 36.98 | FQ22: 36.72 | FR22: 36.62 | FS22: 36.51 | FT22: 36.45 | FU22: 36.29 | FV22: 36.8 | FW22: 37.71 | FX22: 38.06 | FY22: 38.7 | FZ22: 38.51 | GA22: 38.07 | GB22: 37.83 | GC22: 37.55 | GD22: 37.46 | GE22: 37.12 | GF22: 36.64 | GG22: 35.37 | GH22: 35.64 | GI22: 36.48 | GJ22: 37.4 | GK22: 37.83 | GL22: 37.55 | GM22: 37.41 | GN22: 37.28 | GO22: 37.17 | GP22: 37.08 | GQ22: 36.94 | GR22: 36.76 | GS22: 37.5 | GT22: 37.66 | GU22: 38.22 | GV22: 38.88 | GW22: 38.96 | GX22: 38.78 | GY22: 39.22 | GZ22: 39.27 | HA22: 39.32 | HB22: 39.04 | HC22: 36.41 | HD22: 36.1 | HE22: 35.86 | HF22: 36 | HG22: 37.6 | HH22: 38.87 | HI22: 38.74 | HJ22: 38.57 | HK22: 38.6 | HL22: 38.29 | HM22: 37.94 | HN22: 37.85 | HO22: 37.41 | HP22: 36.96 | HQ22: 37.62 | HR22: 37.94 | HS22: 38.69 | HT22: 39.84 | HU22: 39.74 | HV22: 39.02 | HW22: 38.81 | HX22: 38.94 | HY22: 38.98 | HZ22: 38.94 | IA22: 38.71 | IB22: 37.77 | IC22: 37.51 | ID22: 37.83 | IE22: 39.06 | IF22: 39.74 | IG22: 39.89 | IH22: 39.58 | II22: 38.84 | IJ22: 38.98 | IK22: 39.46 | IL22: 38.64 | IM22: 38.02 | IN22: 37.27 | IO22: 37.02 | IP22: 37.83 | IQ22: 40.26 | IR22: 40.6 | IS22: 42.03 | IT22: 41.91 | IU22: 42.38 | IV22: 42.15 | IW22: 43.93 | IX22: 46.01 | IY22: 46.99 | IZ22: 47.39 | JA22: 49.26 | JB22: 50.12 | JC22: 52.84 | JD22: 55.41 | JE22: 55.58 | JF22: 55.18 | JG22: 54.79 | JH22: 55.07 | JI22: 55.22 | JJ22: 54.73 | JK22: 52.5 | JL22: 51.56 | JM22: 51.15 | JN22: 51.31 | JO22: 49.5 | JP22: 50.66 | JQ22: 51.53 | JR22: 50.79 | JS22: 49.78 | JT22: 47.57 | JU22: 47.3 | JV22: 47.07 | JW22: 46.39 | JX22: 45.24 | JY22: 45.07 | JZ22: 45.62 | KA22: 48.68 | KB22: 51.54 | KC22: 51.32 | KD22: 50.8 | KE22: 51.04 | KF22: 50.79 | KG22: 51.46 | KH22: 51.49 | KI22: 51.66 | KJ22: 52.4 | KK22: 51.83 | KL22: 52.17 | KM22: 53.67 | KN22: 55.38 | KO22: 55.37 | KP22: 54.83 | KQ22: 54.98 | KR22: 54.9 | KS22: 54.24 | KT22: 51.33 | KU22: 50.74 | KV22: 49.86 | KW22: 47.4 | KX22: 47.72 | KY22: =KX22-KL22 -> -4.45 | KZ22: =(KX22/KL22)-1 -> -0.085298064
B23: Greece | C23: 33 | D23: 33 | E23: 32.46 | F23: 32.46 | G23: 33.16 | H23: 32.91 | I23: 33.22 | J23: 33.15 | K23: 32.87 | L23: 32.88 | M23: 33.45 | N23: 33.4 | O23: 33.61 | P23: 33.79 | Q23: 33.87 | R23: 33.8 | S23: 33.91 | T23: 33.62 | U23: 34.1 | V23: 34.1 | W23: 34.43 | X23: 34.46 | Y23: 34.44 | Z23: 34.07 | AA23: 33.95 | AB23: 34.28 | AC23: 34.18 | AD23: 34.46 | AE23: 34.49 | AF23: 34.39 | AG23: 34.47 | AH23: 34.55 | AI23: 34.5 | AJ23: 34.6 | AK23: 34.5 | AL23: 34.47 | AM23: 34.5259 | AN23: 34.6641 | AO23: 35.0955 | AP23: 34.9617 | AQ23: 35.0003 | AR23: 35.0023 | AS23: 34.9912 | AT23: 35.0121 | AU23: 36.7101 | AV23: 39.7101 | AW23: 36.7501 | AX23: 36.8201 | AY23: 37.04 | AZ23: 37.24 | BA23: 37 | BB23: 37.12 | BC23: 37.02 | BD23: 35 | BE23: 36.859105 | BF23: 35.12 | BG23: 35.26 | BH23: 35.51 | BI23: 35.76 | BJ23: 34.71 | BK23: 35.33 | BL23: 35.46 | BM23: 35.39 | BN23: 35.22 | BO23: 34.71 | BP23: 34.55 | BQ23: 34.56 | BR23: 34.54 | BS23: 34.54 | BT23: 34.96 | BU23: 35.03 | BV23: 35.21 | BW23: 35.2 | BX23: 35.27 | BY23: 35.09 | BZ23: 35.23 | CA23: 35.37 | CB23: 36.26 | CC23: 36.7 | CD23: 38.09 | CE23: 40.58 | CF23: 44.1 | CG23: 45.84 | CH23: 46.36 | CI23: 46.34 | CJ23: 45.26 | CK23: 44.28 | CL23: 43.8 | CM23: 42.88 | CN23: 43.15 | CO23: 42.95 | CP23: 42.89 | CQ23: 42.72 | CR23: 41.85 | CS23: 41.26 | CT23: 40.98 | CU23: 40.63 | CV23: 39.78 | CW23: 38.64 | CX23: 37.97 | CY23: 37.34 | CZ23: 37.2 | DA23: 36.87 | DB23: 36.6 | DC23: 36.75 | DD23: 36.69 | DE23: 36.84 | DF23: 36.97 | DG23: 37.13 | DH23: 37.44 | DI23: 36.805 | DJ23: 37.11 | DK23: 36.47 | DL23: 36.47 | DM23: 36.27 | DN23: 36.79 | DO23: 37.22 | DP23: 38.11 | DQ23: 38.78 | DR23: 38.97 | DS23: 39.8 | DT23: 40.77 | DU23: 41.34 | DV23: 41.45 | DW23: 40.77 | DX23: 42.15 | DY23: 42.18 | DZ23: 44.31 | EA23: 45.16 | EB23: 46.34 | EC23: 46.23 | ED23: 47.39 | EE23: 47.16 | EF23: 46.71 | EG23: 45.87 | EH23: 45.03 | EI23: 44.69 | EJ23: 43.65 | EK23: 43.89 | EL23: 44.79 | EM23: 43.71 | EN23: 45.33 | EO23: 45.12 | EP23: 44.98 | EQ23: 45.49 | ER23: 44.54 | ES23: 44.35 | ET23: 44.05 | EU23: 43.59 | EV23: 43.53 | EW23: 44.02 | EX23: 44.51 | EY23: 44.05 | EZ23: 44.9 | FA23: 44.95 | FB23: 45.11 | FC23: 45.24 | FD23: 45.4 | FE23: 44.38 | FF23: 42.93 | FG23: 42.73 | FH23: 42.34 | FI23: 42.36 | FJ23: 42.31 | FK23: 42.63 | FL23: 42.22 | FM23: 42.77 | FN23: 42.89 | FO23: 42.57 | FP23: 42.5 | FQ23: 42.28 | FR23: 41.28 | FS23: 41.79 | FT23: 41.58 | FU23: 41.54 | FV23: 41.58 | FW23: 41.8 | FX23: 41.86 | FY23: 41.93 | FZ23: 41.36 | GA23: 41.59 | GB23: 40.63 | GC23: 38.92 | GD23: 38 | GE23: 37.56 | GF23: 37.35 | GG23: 37.52 | GH23: 37.89 | GI23: 38.28 | GJ23: 38.64 | GK23: 38.65 | GL23: 38.8 | GM23: 38.71 | GN23: 37.37 | GO23: 37.93 | GP23: 37.96 | GQ23: 37.9 | GR23: 38.02 | GS23: 38.02 | GT23: 38.83 | GU23: 39.34 | GV23: 40.04 | GW23: 40.6 | GX23: 40.74 | GY23: 40.48 | GZ23: 40.37 | HA23: 39.98 | HB23: 39.4 | HC23: 39.17 | HD23: 39.51 | HE23: 39.53 | HF23: 39.59 | HG23: 39.83 | HH23: 39.61 | HI23: 39.25 | HJ23: 38.74 | HK23: 38.88 | HL23: 38.88 | HM23: 38.29 | HN23: 38.23 | HO23: 37.86 | HP23: 38.09 | HQ23: 37.93 | HR23: 37.93 | HS23: 38.72 | HT23: 38.21 | HU23: 38.48 | HV23: 38.89 | HW23: 38.82 | HX23: 38.85 | HY23: 38.77 | HZ23: 38.76 | IA23: 38.48 | IB23: 38.51 | IC23: 38.48 | ID23: 38.51 | IE23: 38.56 | IF23: 38.58 | IG23: 38.64 | IH23: 38.88 | II23: 38.55 | IJ23: 38.67 | IK23: 38.86 | IL23: 38.76 | IM23: 38.72 | IN23: 38.74 | IO23: 37.83 | IP23: 38.92 | IQ23: 39.56 | IR23: 40.75 | IS23: 41.34 | IT23: 42.99 | IU23: 44.22 | IV23: 45.46 | IW23: 46.79 | IX23: 47.95 | IY23: 49.6 | IZ23: 51.9 | JA23: 54.43 | JB23: 56.09 | JC23: 58.12 | JD23: 58.96 | JE23: 59.61 | JF23: 57.3 | JG23: 57.75 | JH23: 56.12 | JI23: 54.25 | JJ23: 52.38 | JK23: 50.53 | JL23: 49.85 | JM23: 49.98 | JN23: 51.48 | JO23: 51.02 | JP23: 51.83 | JQ23: 52.36 | JR23: 52.59 | JS23: 52.67 | JT23: 52.62 | JU23: 52.47 | JV23: 52.25 | JW23: 52.38 | JX23: 52.11 | JY23: 52.8 | JZ23: 53.11 | KA23: 53.85 | KB23: 55.17 | KC23: 54.45 | KD23: 54.37 | KE23: 55 | KF23: 54.99 | KG23: 55.28 | KH23: 54.61 | KI23: 54.22 | KJ23: 55.64 | KK23: 55.73 | KL23: 55.79 | KM23: 55.95 | KN23: 56.02 | KO23: 55.93 | KP23: 55.68 | KQ23: 55.24 | KR23: 55.08 | KS23: 54.71 | KT23: 54.72 | KU23: 54.77 | KV23: 56.64 | KW23: 55.18 | KX23: 55.23 | KY23: =KX23-KL23 -> -0.56 | KZ23: =(KX23/KL23)-1 -> -0.010037641
B25: Average EU15 | C25: =AVERAGE(C17:C23) -> 34.018571 | D25: =AVERAGE(D17:D23) -> 33.895714 | E25: =AVERAGE(E17:E23) -> 32.994286 | F25: =AVERAGE(F17:F23) -> 33.222857 | G25: =AVERAGE(G17:G23) -> 33.321429 | H25: =AVERAGE(H17:H23) -> 33.407143 | I25: =AVERAGE(I17:I23) -> 33.587143 | J25: =AVERAGE(J17:J23) -> 35.021429 | ... N25: =AVERAGE(N17:N23) -> 36.117143 | O25: 33.272823 | P25: 32.509303 | Q25: 31.850011 | R25: 31.136538 | S25: 30.537356 | T25: 30.321775 | U25: 30.786418 | V25: 31.530824 | W25: 32.42293 | X25: 33.165422 | Y25: 32.974979 | Z25: 32.919167 | AA25: 32.081856 | AB25: 31.614568 | AC25: 30.658775 | AD25: 30.059392 | AE25: 29.529177 | AF25: 29.403184 | AG25: 29.894051 | AH25: 30.899544 | AI25: 31.922644 | AJ25: 32.880111 | AK25: 33.002473 | AL25: 32.498161 | AM25: 31.928859 | AN25: 31.342604 | AO25: 30.681572 | AP25: 29.976918 | AQ25: 29.814107 | AR25: 29.770514 | AS25: 30.643293 | AT25: 31.0876 | AU25: 32.136447 | AV25: 32.880047 | AW25: 32.937325 | AX25: 32.448079 | AY25: 31.155803 | AZ25: 30.756667 | BA25: 29.974 | BB25: 29.115333 | BC25: 28.794 | BD25: 28.613333 | BE25: 29.188607 | BF25: 29.981333 | BG25: 30.693333 | BH25: 31.437333 | BI25: 31.549333 | BJ25: 31.115333 | BK25: 30.166 | BL25: 29.834667 | BM25: 28.956667 | BN25: 28.319333 | BO25: 28.052667 | BP25: 27.930667 | BQ25: 28.312667 | BR25: 29.435333 | BS25: 30.135333 | BT25: 30.659333 | BU25: 30.962 | BV25: 30.776 | BW25: 30.246515 | BX25: 29.99 | BY25: 29.194 | BZ25: 29.033333 | CA25: 29.338 | CB25: 30.336 | CC25: 31.788667 | CD25: 34.496 | CE25: 37.447333 | CF25: 40.702 | CG25: 41.506 | CH25: 41.212 | CI25: 40.4 | CJ25: 39.67 | CK25: 38.34 | CL25: 36.79 | CM25: 36.34 | CN25: 35.34 | CO25: 36.12 | CP25: 37.14 | CQ25: 37.37 | CR25: 36.78 | CS25: 35.62 | CT25: 34.07 | CU25: 31.701333 | CV25: 30.966667 | CW25: 28.604667 | CX25: 27.208667 | CY25: 26.686667 | CZ25: 26.623333 | DA25: 26.595333 | DB25: 27.174667 | DC25: 28.162667 | DD25: 29.266 | DE25: 30.335333 | DF25: 30.302416 | DG25: 30.206667 | DH25: 29.970667 | DI25: 29.485667 | DJ25: 29.554667 | DK25: 30.082667 | DL25: 30.827957 | DM25: 31.746667 | DN25: 32.76 | DO25: 33.852 | DP25: 34.450667 | DQ25: 34.855333 | DR25: 34.966667 | DS25: 34.521333 | DT25: 34.678667 | DU25: 34.446667 | DV25: 34.314 | DW25: 34.537333 | DX25: 34.953333 | DY25: 35.133333 | DZ25: 35.711333 | EA25: 36.355333 | EB25: 36.826 | EC25: 37.017333 | ED25: 36.784 | EE25: 36.277333 | EF25: 36.08 | EG25: 35.096 | EH25: 34.010667 | EI25: 33.111333 | EJ25: 32.618 | EK25: 32.552 | EL25: 33.053333 | EM25: 33.908667 | EN25: 35.088 | EO25: 35.889333 | EP25: 36.078667 | EQ25: 36.025333 | ER25: 35.822 | ES25: 35.882667 | ET25: 35.983333 | EU25: 36.138 | EV25: 36.962667
B26: Weighted average EU15 | C26: 32.682572 | D26: 32.179191 | E26: 31.342144 | F26: 31.179349 | G26: 31.081059 | H26: 31.484298 | I26: 32.407736 | J26: 33.843123 | K26: 34.707531 | L26: 35.090794 | M26: 35.467663 | N26: 34.809417 | O26: 33.38681 | P26: 32.446554 | Q26: 31.50542 | R26: 30.047756 | S26: 29.318543 | T26: 29.12535 | U26: 29.787798 | V26: 30.889439 | W26: 31.703432 | X26: 32.67706 | Y26: 32.733219 | Z26: 32.209389 | AA26: 31.118592 | AB26: 30.620853 | AC26: 29.594748 | AD26: 28.799658 | AE26: 28.301607 | AF26: 28.18269 | AG26: 28.938836 | AH26: 30.135044 | AI26: 31.16246 | AJ26: 32.056794 | AK26: 32.260769 | AL26: 31.267424 | AM26: 31.015537 | AN26: 30.418804 | AO26: 29.791034 | AP26: 28.789495 | AQ26: 28.596146 | AR26: 28.545188 | AS26: 29.723629 | AT26: 30.490187 | AU26: 31.386139 | AV26: 31.859289 | AW26: 32.085087 | AX26: 31.552308 | AY26: 30.295907 | AZ26: 29.920567 | BA26: 29.196483 | BB26: 28.208478 | BC26: 27.870016 | BD26: 27.918416 | BE26: 28.573632 | BF26: 29.773512 | BG26: 30.452753 | BH26: 30.957332 | BI26: 30.99717 | BJ26: 30.472612 | BK26: 29.144285 | BL26: 28.782293 | BM26: 27.829341 | BN26: 26.994582 | BO26: 26.788481 | BP26: 26.868959 | BQ26: 27.281345 | BR26: 28.676512 | BS26: 29.369299 | BT26: 29.729279 | BU26: 29.911351 | BV26: 29.364995 | BW26: 29.089039 | BX26: 28.888779 | BY26: 28.109924 | BZ26: 27.727457 | CA26: 27.892082 | CB26: 29.065759 | CC26: 30.945471 | CD26: 33.958949 | CE26: 36.379889 | CF26: 39.844386 | CG26: 39.859604 | CH26: 39.51502 | CI26: 39.021724 | CJ26: 38.185962 | CK26: 36.752578 | CL26: 34.779442 | CM26: 34.404385 | CN26: 33.755233 | CO26: 34.672688 | CP26: 35.860578 | CQ26: 36.058309 | CR26: 34.767139 | CS26: 33.675138 | CT26: 31.750268 | CU26: 30.367631 | CV26: 29.563102 | CW26: 27.377495 | CX26: 25.067478 | CY26: 24.978433 | CZ26: 25.211267 | DA26: 25.550443 | DB26: 26.349342 | DC26: 27.012418 | DD26: 27.592047 | DE26: 29.016849 | DF26: 28.790641 | DG26: 29.443273 | DH26: 29.025026 | DI26: 28.380759 | DJ26: 28.460615 | DK26: 29.197729 | DL26: 30.288358 | DM26: 31.366584 | DN26: 32.577019 | DO26: 33.429152 | DP26: 33.549457 | DQ26: 33.854376 | DR26: 33.783102 | DS26: 33.615792 | DT26: 33.709268 | DU26: 33.6443 | DV26: 33.281382 | DW26: 33.612779 | DX26: 34.321927 | DY26: 34.825646 | DZ26: 35.083162 | EA26: 35.631031 | EB26: 35.693871 | EC26: 35.877522 | ED26: 35.402409 | EE26: 35.027688 | EF26: 34.831175 | EG26: 33.876838 | EH26: 32.476113 | EI26: 31.737441 | EJ26: 31.535182 | EK26: 31.66564 | EL26: 31.822187 | EM26: 32.729938 | EN26: 33.805006 | EO26: 34.725455 | EP26: 34.766418 | EQ26: 34.89 | ER26: 34.66 | ES26: 34.58 | ET26: 34.72 | EU26: 34.8 | EV26: 36.53 | EW26: 37.16 | EX26: 37.68 | EY26: 39.28 | EZ26: 40.17 | FA26: 40.91 | FB26: 40.83 | FC26: 40.75 | FD26: 40.68 | FE26: 39.93 | FF26: 38.82 | FG26: 38.21 | FH26: 38.37 | FI26: 37.76 | FJ26: 37.91 | FK26: 37.47 | FL26: 36.17 | FM26: 35.12 | FN26: 33.55 | FO26: 32.41 | FP26: 32.54 | FQ26: 32.15 | FR26: 31.93 | FS26: 31.3 | FT26: 30.79 | FU26: 30.58 | FV26: 30.56 | FW26: 30.8 | FX26: 31.41 | FY26: 31.6 | FZ26: 31.21 | GA26: 30.15 | GB26: 29.64 | GC26: 28.83 | GD26: 27.97 | GE26: 26.73 | GF26: 26.05 | GG26: 26.18 | GH26: 26.86 | GI26: 28.23 | GJ26: 30.34 | GK26: 32.31 | GL26: 33.53 | GM26: 33.96 | GN26: 33.86 | GO26: 33.58 | GP26: 33.64 | GQ26: 33.42 | GR26: 33.57 | GS26: 34.7 | GT26: 35.83 | GU26: 37.46 | GV26: 38.11 | GW26: 38.3 | GX26: 37.9 | GY26: 35.9 | GZ26: 34.73 | HA26: 33.85 | HB26: 32.91 | HC26: 32.41 | HD26: 32.66 | HE26: 33.42 | HF26: 34.12 | HG26: 35.44 | HH26: 36.44 | HI26: 36.63 | HJ26: 35.96 | HK26: 35.41 | HL26: 35.36 | HM26: 34.66 | HN26: 34.74 | HO26: 34.21 | HP26: 33.83 | HQ26: 33.98 | HR26: 34.16 | HS26: 34.99 | HT26: 35.44 | KY26: n/a | KZ26: n/a
B28: Czech Rep. | O28: 25.05 | P28: 25.21 | Q28: 25.47 | R28: 26.32 | S28: 25.97 | T28: 25.97 | U28: 26.34 | V28: 25.33 | W28: 25.93 | X28: 25.57 | Y28: 25.58 | Z28: 25.22 | AA28: 24.8 | AB28: 24.59 | AC28: 24.32 | AD28: 24.08 | AE28: 23.95 | AF28: 23.84 | AG28: 23.37 | AH28: 23.04 | AI28: 23.14 | AJ28: 23.56 | AK28: 23.66 | AL28: 23.55 | AM28: 23.51 | AN28: 23.38 | AO28: 23.5 | AP28: 23.77 | AQ28: 24.33 | AR28: 24.61 | AS28: 24.79 | AT28: 24.72 | AU28: 24.99 | AV28: 25.48 | AW28: 25.86 | AX28: 26.51 | AY28: 27.05 | AZ28: 27.4 | BA28: 27.6 | BB28: 27.05 | BC28: 26.81 | BD28: 26.84 | BE28: 26.36 | BF28: 26.88 | BG28: 27.2 | BH28: 26.91 | BI28: 27.28 | BJ28: 27.49 | BK28: 27.56 | BL28: 27.63 | BM28: 27.36 | BN28: 27.16 | BO28: 27 | BP28: 26.62 | BQ28: 26.01 | BR28: 26.833558 | BS28: 26.11 | BT28: 26.4 | BU28: 26.82 | BV28: 27.2 | BW28: 27.32 | BX28: 26.9 | BY28: 27.03 | BZ28: 27.08 | CA28: 26.9 | CB28: 26.57 | CC28: 27.06 | CD28: 28.24 | CE28: 29.95 | CF28: 33.38 | CG28: 36.35 | CH28: 36.96 | CI28: 37.54 | CJ28: 38.3 | CK28: 37.45 | CL28: 35.71 | CM28: 33.9 | CN28: 34.26 | CO28: 33.41 | CP28: 31.62 | CQ28: 30.74 | CR28: 29.31 | CS28: 27.55 | CT28: 25.46 | CU28: 23.04 | CV28: 21.12 | CW28: 21.74 | CX28: 22.04 | CY28: 21.92 | CZ28: 21.81 | DA28: 22.25 | DB28: 22.42 | DC28: 23 | DD28: 23.24 | DE28: 24.1 | DF28: 24.88 | DG28: 25.71 | DH28: 26.52 | DI28: 27.29 | DJ28: 27.82 | DK28: 27.9 | DL28: 27.76 | DM28: 28.35 | DN28: 28.13 | DO28: 30.1 | DP28: 27.6 | DQ28: 31.18 | DR28: 31.02 | DS28: 32.19 | DT28: 32.71 | DU28: 32.71 | DV28: 33 | DW28: 33.02 | DX28: 33.15 | DY28: 33.16 | DZ28: 33.16 | EA28: 32.86 | EB28: 32.65 | EC28: 32.01 | ED28: 31.98 | EE28: 31.84 | EF28: 32.27 | EG28: 32.14 | EH28: 30.71 | EI28: 28.96 | EJ28: 27.73 | EK28: 27.51 | EL28: 28.06 | EM28: 28.72 | EN28: 29.19 | EO28: 29.49 | EP28: 30.1 | EQ28: 32 | ER28: 31.4 | ES28: 31.75 | ET28: 31.8 | EU28: 32.03 | EV28: 32.02 | EW28: 32.23 | EX28: 32.79 | EY28: 33.94 | EZ28: 35.06 | FA28: 33.57 | FB28: 33.57 | FC28: 34.24 | FD28: 34.47 | FE28: 34.64 | FF28: 34.46 | FG28: 34.11 | FH28: 33.73 | FI28: 33.54 | FJ28: 32.54 | FK28: 31.99 | FL28: 31.57 | FM28: 31.19 | FN28: 31.13 | FO28: 29.76 | FP28: 29.57 | FQ28: 29.55 | FR28: 28.9 | FS28: 27.57 | FT28: 26.6 | FU28: 25.87 | FV28: 25.32 | FW28: 25.42 | FX28: 26.01 | FY28: 26.4 | FZ28: 26.7 | GA28: 26.36 | GB28: 25.48 | GC28: 24.53 | GD28: 23.56 | GE28: 22.49 | GF28: 22.03 | GG28: 21.96 | GH28: 22.34 | GI28: 23.13 | GJ28: 24.36 | GK28: 25.68 | GL28: 27.02 | GM28: 27.9 | GN28: 28.79 | GO28: 29.26 | GP28: 29.88 | GQ28: 30.42 | GR28: 31.02 | GS28: 31.54 | GT28: 32.08 | GU28: 33.08 | GV28: 34.37 | GW28: 35.33 | GX28: 35.4 | GY28: 34.48 | GZ28: 33.82 | HA28: 32.82 | HB28: 32.05 | HC28: 31.21 | HD28: 30.78 | HE28: 30.79 | HF28: 31.17 | HG28: 31.96 | HH28: 32.82 | HI28: 33.54 | HJ28: 34.5 | HK28: 34.66 | HL28: 34.17 | HM28: 34.21 | HN28: 33.71 | HO28: 33.42 | HP28: 32.99 | HQ28: 32.83 | HR28: 32.39 | HS28: 32.56 | HT28: 33.27 | HU28: 33.95 | HV28: 34.25 | HW28: 34.58 | HX28: 34.48 | HY28: 32.43 | HZ28: 30.82 | IA28: 29.87 | IB28: 30.24 | IC28: 30.26 | ID28: 30.74 | IE28: 30.49 | IF28: 30.64 | IG28: 31.99 | IH28: 32.51 | II28: 32.76 | IJ28: 33.17 | IK28: 32.86 | IL28: 33.25 | IM28: 33.81 | IN28: 34.03 | IO28: 33.61 | IP28: 34.1 | IQ28: 34.79 | IR28: 35.42 | IS28: 36.93 | IT28: 38 | IU28: 39.82 | IV28: 40.91 | IW28: 40.63 | IX28: 42.86 | IY28: 43.48 | IZ28: 44.46 | JA28: 45.99 | JB28: 47.1 | JC28: 48.63 | JD28: 50.5 | JE28: 52.89 | JF28: 54.28 | JG28: 54.33 | JH28: 52.88 | JI28: 49.89 | JJ28: 48.45 | JK28: 45.78 | JL28: 43.16 | JM28: 41.03 | JN28: 40.04 | JO28: 39.92 | JP28: 40.71 | JQ28: 41.99 | JR28: 43.31 | JS28: 43.34 | JT28: 42.5 | JU28: 42.46 | JV28: 42.84 | JW28: 43.63 | JX28: 43.9 | JY28: 43.21 | JZ28: 43.78 | KA28: 44.95 | KB28: 46.36 | KC28: 49.02 | KD28: 49.61 | KE28: 50 | KF28: 50.79 | KG28: 51.32 | KH28: 51.81 | KI28: 52.23 | KJ28: 52.52 | KK28: 53.21 | KL28: 53.82 | KM28: 54.41 | KN28: 54.11 | KO28: 52.74 | KP28: 48.74 | KQ28: 45.66 | KR28: 43.2 | KS28: 40.91 | KT28: 39.91 | KU28: 39.29 | KV28: 39.29 | KW28: 39.16 | KX28: 39.57 | KY28: =KX28-KL28 -> -14.25 | KZ28: =(KX28/KL28)-1 -> -0.26477146
B29: Estonia | AA29: 17.78 | AB29: 17.54 | AC29: 17.59 | AD29: 17.43 | AE29: 17.54 | AF29: 17.74 | AG29: 17.74 | AH29: 17.56 | AI29: 18.26 | AJ29: 19.9 | AK29: 20.85 | AL29: 22.2 | AM29: 21.0701 | AN29: 22.3301 | AO29: 25.0301 | AP29: 24.7401 | AQ29: 24.4501 | AR29: 24.2501 | AS29: 24.0401 | AT29: 24.5301 | AU29: 24.4801 | AV29: 23.8301 | AW29: 23.8601 | AX29: 24.6101 | AY29: 25.8 | AZ29: 25.81 | BA29: 25.98 | BB29: 25.55 | BC29: 25.32 | BD29: 25.21 | BE29: 25.04 | BF29: 25.11 | BG29: 25.22 | BH29: 25.26 | BI29: 25.32 | BJ29: 25.35 | BK29: 24.63 | BL29: 25.02 | BM29: 24.54 | BN29: 24.31 | BO29: 24.15 | BP29: 23.93 | BQ29: 23.74 | BR29: 23.94 | BS29: 24.02 | BT29: 24.46 | BU29: 24.82 | BV29: 24.38 | BW29: 24.63 | BX29: 24.250613 | BY29: 24.69 | BZ29: 24.72 | CA29: 24.75 | CB29: 24.71 | CC29: 25.62 | CD29: 26.22 | CE29: 27.95 | CF29: 30.75 | CG29: 31.57 | CH29: 32.96 | CI29: 33.46 | CJ29: 33.61 | CK29: 33.55 | CL29: 31.18 | CM29: 29.16 | CN29: 28.89 | CO29: 28.13 | CP29: 28.06 | CQ29: 28.44 | CR29: 27.81 | CS29: 27.53 | CT29: 26.4 | CU29: 24.27 | CV29: 22.91 | CW29: 21.1 | CX29: 20.2 | CY29: 19.76 | CZ29: 19.37 | DA29: 19.05 | DB29: 19.38 | DC29: 19.77 | DD29: 20.77 | DE29: 22.66 | DF29: 23.42 | DG29: 25.44 | DH29: 25.88 | DI29: 25.88 | DJ29: 26.22 | DK29: 26.73 | DL29: 27.55 | DM29: 27.42 | DN29: 27.58 | DO29: 29.46 | DP29: 29.9 | DQ29: 30 | DR29: 30.77 | DS29: 31 | DT29: 31.4 | DU29: 32.4 | DV29: 32.9 | DW29: 32.9 | DX29: 32.7 | DY29: 32.81 | DZ29: 32.49 | EA29: 32.46 | EB29: 32.04 | EC29: 32.04 | ED29: 32 | EE29: 32.73 | EF29: 32.88 | EG29: 32.7 | EH29: 31.33 | EI29: 29.64 | EJ29: 28.52 | EK29: 27.33 | EL29: 27.37 | EM29: 27.77 | EN29: 28.54 | EO29: 29.99 | EP29: 31.71 | EQ29: 32.19 | ER29: 32.52 | ES29: 32.97 | ET29: 32.54 | EU29: 32.65 | EV29: 32.79 | EW29: 33.08 | EX29: 33.32 | EY29: 34.49 | EZ29: 34.6 | FA29: 35.4 | FB29: 37.5 | FC29: 39.52 | FD29: 40.12 | FE29: 40.33 | FF29: 39.63 | FG29: 36.75 | FH29: 32.8 | FI29: 32.31 | FJ29: 29.88 | FK29: 25.15 | FL29: 25.54 | FM29: 25.36 | FN29: 24.95 | FO29: 24.13 | FP29: 23.97 | FQ29: 25.12 | FR29: 24.93 | FS29: 24.43 | FT29: 23.26 | FU29: 23.89 | FV29: 22.36 | FW29: 22.6 | FX29: 22.87 | FY29: 23.56 | FZ29: 23.44 | GA29: 23.43 | GB29: 23.2 | GC29: 22.74 | GD29: 21.92 | GE29: 21.19 | GF29: 20.24 | GG29: 20.04 | GH29: 20.75 | GI29: 23.3 | GJ29: 26.39 | GK29: 29.61 | GL29: 32.34 | GM29: 32.66 | GN29: 32.55 | GO29: 32.13 | GP29: 31.06 | GQ29: 30.76 | GR29: 31.55 | GS29: 32.78 | GT29: 32.94 | GU29: 33.97 | GV29: 34.4 | GW29: 34.17 | GX29: 33.17 | GY29: 31.86 | GZ29: 30.24 | HA29: 29.97 | HB29: 29.64 | HC29: 29.23 | HD29: 29.65 | HE29: 30.18 | HF29: 30.34 | HG29: 31.61 | HH29: 31.8 | HI29: 32.29 | HJ29: 32.11 | HK29: 31.71 | HL29: 32.03 | HM29: 31.57 | HN29: 31.71 | HO29: 31.08 | HP29: 30.47 | HQ29: 30.34 | HR29: 30.06 | HS29: 30.3 | HT29: 30.54 | HU29: 30.89 | HV29: 31.32 | HW29: 31.3 | HX29: 31.44 | HY29: 31.42 | HZ29: 30.35 | IA29: 28.42 | IB29: 27.47 | IC29: 27.71 | ID29: 27.58 | IE29: 28.36 | IF29: 28.9 | IG29: 29.5 | IH29: 29.6 | II29: 29.66 | IJ29: 29.92 | IK29: 30.47 | IL29: 31.08 | IM29: 31.28 | IN29: 31.04 | IO29: 30.82 | IP29: 31 | IQ29: 31.78 | IR29: 32.71 | IS29: 34.1 | IT29: 35.78 | IU29: 38.67 | IV29: 40.3 | IW29: 41.21 | IX29: 42.64 | IY29: 43.88 | IZ29: 45.78 | JA29: 46.74 | JB29: 48.02 | JC29: 50.05 | JD29: 51.89 | JE29: 53.21 | JF29: 54.42 | JG29: 52.22 | JH29: 49.18 | JI29: 47.73 | JJ29: 45.21 | JK29: 42.61 | JL29: 40.96 | JM29: 40.43 | JN29: 39.73 | JO29: 40.35 | JP29: 41.14 | JQ29: 42.06 | JR29: 42.69 | JS29: 42.66 | JT29: 42.66 | JU29: 42.87 | JV29: 42.24 | JW29: 42.01 | JX29: 41.42 | JY29: 41.26 | JZ29: 41.42 | KA29: 42.56 | KB29: 44.71 | KC29: 46.61 | KD29: 48.02 | KE29: 50.85 | KF29: 52.45 | KG29: 51.88 | KH29: 51.89 | KI29: 51.4 | KJ29: 50.75 | KK29: 50.08 | KL29: 49.83 | KM29: 50.37 | KN29: 50.82 | KO29: 50.48 | KP29: 50 | KQ29: 45.69 | KR29: 43.86 | KS29: 40.64 | KT29: 40.02 | KU29: 39.39 | KV29: 38.95 | KW29: 38.32 | KX29: 38.37 | KY29: =KX29-KL29 -> -11.46 | KZ29: =(KX29/KL29)-1 -> -0.22998194
B30: Cyprus | AA30: 36.39 | AB30: 36.13 | AC30: 36.14 | AD30: 37.02 | AE30: 36.41 | AF30: 35.99 | AG30: 36.53 | AH30: 36.47 | AI30: 36.9 | AJ30: 37.38 | AK30: 37.75 | AL30: 37.75 | AM30: 37.6501 | AN30: 37.7501 | AO30: 37.3801 | AP30: 40.5301 | AQ30: 40.4301 | AR30: 40.3501 | AS30: 39.0601 | AT30: 40.6701 | AU30: 40.7701 | AV30: 39.3501 | AW30: 39.4701 | AX30: 41.7201 | AY30: 39.86 | AZ30: 39.86 | BA30: 39.16 | BB30: 38.92 | BC30: 37.9 | BD30: 39.18 | BE30: 40.32 | BF30: 40.32 | BG30: 40.5 | BH30: 40.79 | BI30: 43.2 | BJ30: 41.14 | BK30: 41.12 | BL30: 40.85 | BM30: 40.57 | BN30: 40.57 | BO30: 40.33 | BP30: 40.28 | BQ30: 40.48 | BR30: 38.9 | BS30: 38.88 | BT30: 40.55 | BU30: 40.86 | BV30: 41.11 | BW30: 41 | BX30: 40.9 | BY30: 40.48 | BZ30: 41 | CA30: 40.63 | CB30: 41.72 | CC30: 40.4 | CD30: 40.4 | CE30: 41.9 | CF30: 42.23 | CG30: 43.26 | CH30: 43.52 | CI30: 49.46 | CJ30: 48.96 | CK30: 48.9 | CL30: 48.4 | CM30: 48.73 | CN30: 48.54 | CO30: 48.32 | CP30: 50.47 | CQ30: 50.75 | CR30: 50.88 | CS30: 51.05 | CT30: 51.07 | CU30: 51.31 | CV30: 51.85 | CW30: 51.87 | CX30: 50.94 | CY30: 50.76 | CZ30: 50.68 | DA30: 50.63 | DB30: 50.58 | DC30: 50.69 | DD30: 50.78 | DE30: 51.15 | DF30: 51.75 | DG30: 51.44 | DH30: 51.52 | DI30: 51.43 | DJ30: 50.61 | DK30: 50.46 | DL30: 50.67 | DM30: 51.44 | DN30: 51.37 | DO30: 51.31 | DP30: 51.46 | DQ30: 51.76 | DR30: 51.68 | DS30: 51.07 | DT30: 52.02 | DU30: 52.17 | DV30: 52.1 | DW30: 52.09 | DX30: 51.3 | DY30: 51.05 | DZ30: 50.91 | EA30: 51.53 | EB30: 53.02 | EC30: 53.85 | ED30: 53.72 | EE30: 53.47 | EF30: 53.33 | EG30: 53.21 | EH30: 52.53 | EI30: 52.08 | EJ30: 51.91 | EK30: 51.97 | EL30: 51.83 | EM30: 52.56 | EN30: 52.97 | EO30: 53.17 | EP30: 53.22 | EQ30: 58.86 | ER30: 57.81 | ES30: 57.83 | ET30: 57.6 | EU30: 56.8 | EV30: 56.8 | EW30: 56.34 | EX30: 56.23 | EY30: 57.07 | EZ30: 58.39 | FA30: 58.18 | FB30: 58.32 | FC30: 57.78 | FD30: 57.58 | FE30: 57.44 | FF30: 56.47 | FG30: 55.86 | FH30: 55.64 | FI30: 54.56 | FJ30: 54.89 | FK30: 55.62 | FL30: 57.02 | FM30: 57.62 | FN30: 57.46 | FO30: 57.8 | FP30: 57.29 | FQ30: 56.65 | FR30: 56.65 | FS30: 55.47 | FT30: 55.78 | FU30: 55.81 | FV30: 54.97 | FW30: 55.47 | FX30: 56.45 | FY30: 57.55 | FZ30: 58.13 | GA30: 58.49 | GB30: 57.52 | GC30: 56.32 | GD30: 54.74 | GE30: 54.71 | GF30: 55 | GG30: 54.97 | GH30: 54.85 | GI30: 55.12 | GJ30: 56.16 | GK30: 56.81 | GL30: 57.33 | GM30: 57.14 | GN30: 56.28 | GO30: 55.27 | GP30: 55.12 | GQ30: 54.42 | GR30: 54.67 | GS30: 55.3 | GT30: 55.96 | GU30: 56.58 | GV30: 57.14 | GW30: 56.77 | GX30: 55.96 | GY30: 55.69 | GZ30: 54.92 | HA30: 54.09 | HB30: 54.02 | HC30: 54.37 | HD30: 55.49 | HE30: 56.67 | HF30: 56.68 | HG30: 56.83 | HH30: 56.9 | HI30: 57.82 | HJ30: 58.11 | HK30: 58.07 | HL30: 58.16 | HM30: 57.89 | HN30: 57.6 | HO30: 57.14 | HP30: 56.79 | HQ30: 57.01 | HR30: 56.92 | HS30: 57.2 | HT30: 57.98 | HU30: 58.33 | HV30: 58.45 | HW30: 58.57 | HX30: 58.52 | HY30: 58.17 | HZ30: 57.83 | IA30: 57.51 | IB30: 57.73 | IC30: 56.82 | ID30: 57.15 | IE30: 56.73 | IF30: 58 | IG30: 58.5 | IH30: 58.75 | II30: 58.67 | IJ30: 58.8 | IK30: 58.18 | IL30: 57.78 | IM30: 57.22 | IN30: 57.3 | IO30: 56.97 | IP30: 57.48 | IQ30: 57.83 | IR30: 58.49 | IS30: 58.47 | IT30: 58.47 | IU30: 58.22 | IV30: 58.36 | IW30: 57.68 | IX30: 57.52 | IY30: 57.52 | IZ30: 57.04 | JA30: 57.26 | JB30: 62.09 | JC30: 62.9 | JD30: 63.9 | JE30: 64.42 | JF30: 64.33 | JG30: 65.06 | JH30: 65.36 | JI30: 64.69 | JJ30: 64.26 | JK30: 63.95 | JL30: 63.59 | JM30: 63.56 | JN30: 63.54 | JO30: 63.89 | JP30: 63.81 | JQ30: 64.16 | JR30: 64.9 | JS30: 64.91 | JT30: 65.02 | JU30: 64.61 | JV30: 63.76 | JW30: 63.74 | JX30: 63.62 | JY30: 63.15 | JZ30: 63.27 | KA30: 63.79 | KB30: 65.83 | KC30: 66.02 | KD30: 66.08 | KE30: 66.82 | KF30: 66.64 | KG30: 66.96 | KH30: 66.06 | KI30: 67.4 | KJ30: 65.7 | KK30: 64.8 | KL30: 63.8 | KM30: 64.45 | KN30: 66.74 | KO30: 65.89 | KP30: 66.7 | KQ30: 66.93 | KR30: 67.01 | KS30: 67.62 | KT30: 66.82 | KU30: 66.07 | KV30: 66.12 | KW30: 66.55 | KX30: 65.45 | KY30: =KX30-KL30 -> 1.65 | KZ30: =(KX30/KL30)-1 -> 0.025862069
B31: Latvia | AA31: 13.63 | AB31: 13.91 | AC31: 13.83 | AD31: 13.73 | AE31: 13.32 | AF31: 13.13 | AG31: 13.15 | AH31: 13.24 | AI31: 12.98 | AJ31: 13.3 | AK31: 13.66 | AL31: 14.31 | AM31: 14.7201 | AN31: 16.2801 | AO31: 17.5301 | AP31: 17.8101 | AQ31: 17.5701 | AR31: 17.7501 | AS31: 17.8001 | AT31: 17.9801 | AU31: 17.9801 | AV31: 17.9101 | AW31: 17.7001 | AX31: 18.2301 | AY31: 18.85 | AZ31: 18.63 | BA31: 19.02 | BB31: 19.95 | BC31: 20.23 | BD31: 21.97 | BE31: 21.85 | BF31: 21.91 | BG31: 22.25 | BH31: 22.89 | BI31: 23.56 | BJ31: 23.31 | BK31: 24.02 | BL31: 24.09 | BM31: 23.99 | BN31: 23.95 | BO31: 23.55 | BP31: 23.25 | BQ31: 22.77 | BR31: 22.61 | BS31: 22.82 | BT31: 23.19 | BU31: 23.7 | BV31: 24.02 | BW31: 23.92 | BX31: 24.03 | BY31: 23.68 | BZ31: 24.064803 | CA31: 24.12 | CB31: 23.84 | CC31: 23.83 | CD31: 25.43 | CE31: 27.45 | CF31: 30.07 | CG31: 32.39 | CH31: 33.88 | CI31: 34.05 | CJ31: 34.19 | CK31: 32.06 | CL31: 28.46 | CM31: 26.7 | CN31: 25.7 | CO31: 25.69 | CP31: 25.28 | CQ31: 25.53 | CR31: 25.45 | CS31: 24.94 | CT31: 23.58 | CU31: 23.02 | CV31: 21.33 | CW31: 18.9 | CX31: 16.85 | CY31: 15.71 | CZ31: 15.54 | DA31: 15.83 | DB31: 15.95 | DC31: 16.44 | DD31: 18.31 | DE31: 21.87 | DF31: 24.11 | DG31: 24.45 | DH31: 24.33 | DI31: 24.45 | DJ31: 24.37 | DK31: 24.42 | DL31: 24.37 | DM31: 24.21 | DN31: 24.42 | DO31: 25.34 | DP31: 26.42 | DQ31: 26.94 | DR31: 27.65 | DS31: 28.19 | DT31: 29.28 | DU31: 29.82 | DV31: 30.47 | DW31: 29.8 | DX31: 28.91 | DY31: 28.74 | DZ31: 28.67 | EA31: 28.86 | EB31: 29.4 | EC31: 29.87 | ED31: 30.21 | EE31: 30.46 | EF31: 30.38 | EG31: 30.27 | EH31: 29.46 | EI31: 27.43 | EJ31: 25.58 | EK31: 25.06 | EL31: 25 | EM31: 25.38 | EN31: 26.52 | EO31: 27.55 | EP31: 28.51 | EQ31: 28.95 | ER31: 29.22 | ES31: 29.45 | ET31: 29.62 | EU31: 29.67 | EV31: 29.38 | EW31: 29.49 | EX31: 30.2 | EY31: 31.47 | EZ31: 32.57 | FA31: 33.18 | FB31: 33.6 | FC31: 34.2 | FD31: 34.84 | FE31: 35.15 | FF31: 34.17 | FG31: 31.76 | FH31: 29.59 | FI31: 29.32 | FJ31: 27.21 | FK31: 23.36 | FL31: 23.33 | FM31: 23.84 | FN31: 24.25 | FO31: 22.79 | FP31: 22.06 | FQ31: 22.36 | FR31: 22.74 | FS31: 22.41 | FT31: 21.33 | FU31: 21.04 | FV31: 20.4 | FW31: 20.35 | FX31: 20.97 | FY31: 21.78 | FZ31: 21.96 | GA31: 22 | GB31: 21.42 | GC31: 20.7 | GD31: 19.49 | GE31: 18.24 | GF31: 17.78 | GG31: 17.71 | GH31: 18.64 | GI31: 21.14 | GJ31: 24.89 | GK31: 28.26 | GL31: 30.41 | GM31: 31.01 | GN31: 30 | GO31: 29.5 | GP31: 29.23 | GQ31: 28.82 | GR31: 29.15 | GS31: 29.81 | GT31: 30.05 | GU31: 31.79 | GV31: 32.69 | GW31: 32.73 | GX31: 32.59 | GY31: 30.72 | GZ31: 28.18 | HA31: 27.48 | HB31: 26.93 | HC31: 26.74 | HD31: 26.98 | HE31: 27.65 | HF31: 27.97 | HG31: 28.95 | HH31: 29.34 | HI31: 29.65 | HJ31: 29.99 | HK31: 30.21 | HL31: 30.3 | HM31: 30.34 | HN31: 30.26 | HO31: 29.35 | HP31: 28.53 | HQ31: 28.44 | HR31: 28.37 | HS31: 28.41 | HT31: 28.68 | HU31: 29.7 | HV31: 30.1 | HW31: 30.21 | HX31: 30.65 | HY31: 30.72 | HZ31: 28.53 | IA31: 25.6 | IB31: 25.5 | IC31: 26.48 | ID31: 26.91 | IE31: 27.55 | IF31: 28.29 | IG31: 28.89 | IH31: 29.54 | II31: 29.18 | IJ31: 29.64 | IK31: 29.97 | IL31: 30.53 | IM31: 30.41 | IN31: 30.41 | IO31: 30.43 | IP31: 30.92 | IQ31: 31.87 | IR31: 33.15 | IS31: 35.85 | IT31: 39.71 | IU31: 41.72 | IV31: 42.67 | IW31: 43.44 | IX31: 45.21 | IY31: 47.26 | IZ31: 48.6 | JA31: 49.61 | JB31: 49.77 | JC31: 49.26 | JD31: 49.21 | JE31: 49.05 | JF31: 48.33 | JG31: 42.89 | JH31: 34.01 | JI31: 34.37 | JJ31: 34.72 | JK31: 34.39 | JL31: 33.89 | JM31: 34.08 | JN31: 36 | JO31: 34.17 | JP31: 35.25 | JQ31: 36.81 | JR31: 38.35 | JS31: 39.32 | JT31: 39.37 | JU31: 39.5 | JV31: 39.27 | JW31: 39.1 | JX31: 38.88 | JY31: 38.64 | JZ31: 38.56 | KA31: 39.7 | KB31: 42.5 | KC31: 45.72 | KD31: 48.26 | KE31: 48.63 | KF31: 49.02 | KG31: 48.7 | KH31: 48.57 | KI31: 48.32 | KJ31: 47.86 | KK31: 47.53 | KL31: 47.56 | KM31: 47.83 | KN31: 47.09 | KO31: 46.14 | KP31: 45.02 | KQ31: 42.76 | KR31: 40.51 | KS31: 38.91 | KT31: 38.64 | KU31: 38.02 | KV31: 37.59 | KW31: 37.13 | KX31: 37.32 | KY31: =KX31-KL31 -> -10.24 | KZ31: =(KX31/KL31)-1 -> -0.21530698
B32: Lithuania | AA32: 15.4 | AB32: 15.5 | AC32: 15 | AD32: 11.2 | AE32: 11 | AF32: 13.6 | AG32: 13 | AH32: 13.2 | AI32: 13.3 | AJ32: 13.5 | AK32: 16.1 | AL32: 16.4 | AM32: 15.2101 | AN32: 15.0501 | AO32: 15.2501 | AP32: 14.9801 | AQ32: 15.8101 | AR32: 16.9601 | AS32: 16.6601 | AT32: 16.6201 | AU32: 17.8101 | AV32: 18.6101 | AW32: 19.2901 | AX32: 20.2901 | AY32: 20.6 | AZ32: 20.9 | BA32: 20.9 | BB32: 19.9 | BC32: 18.9 | BD32: 18.37 | BE32: 17.9 | BF32: 18.24 | BG32: 19.29 | BH32: 20.48 | BI32: 21.05 | BJ32: 21.3 | BK32: 21.65 | BL32: 21.47 | BM32: 21.54 | BN32: 20.48 | BO32: 19.66 | BP32: 19.12 | BQ32: 18.12 | BR32: 18.61 | BS32: 19.52 | BT32: 20.8 | BU32: 21.6 | BV32: 21.79 | BW32: 21.79 | BX32: 22.28 | BY32: 22.01 | BZ32: 21.7 | CA32: 21.24 | CB32: 20.37 | CC32: 20.8 | CD32: 21.19 | CE32: 24.18 | CF32: 30.08 | CG32: 33.34 | CH32: 33.28 | CI32: 33.11 | CJ32: 32.21 | CK32: 29.25 | CL32: 26.12 | CM32: 24.07 | CN32: 23.17 | CO32: 22.96 | CP32: 22.71 | CQ32: 23.72 | CR32: 23.86 | CS32: 22.75 | CT32: 21.48 | CU32: 19.4 | CV32: 18.45 | CW32: 17.19 | CX32: 16.66 | CY32: 15.69 | CZ32: 15.66 | DA32: 15.31 | DB32: 15.57 | DC32: 16.5 | DD32: 19.89 | DE32: 23.34 | DF32: 25.18 | DG32: 24.71 | DH32: 24.18 | DI32: 24.07 | DJ32: 23.5 | DK32: 23.55 | DL32: 23.45 | DM32: 22.55 | DN32: 22.87 | DO32: 25.54 | DP32: 28.67 | DQ32: 28.94 | DR32: 29.63 | DS32: 29.17 | DT32: 29.84 | DU32: 30.46 | DV32: 30.44 | DW32: 29.14 | DX32: 26.62 | DY32: 25.96 | DZ32: 26.23 | EA32: 27.8 | EB32: 29.67 | EC32: 30.23 | ED32: 30.1 | EE32: 29.89 | EF32: 30.35 | EG32: 29.28 | EH32: 27.01 | EI32: 23.24 | EJ32: 22.53 | EK32: 21.97 | EL32: 22.34 | EM32: 24.48 | EN32: 27.82 | EO32: 29.16 | EP32: 30.25 | EQ32: 30.41 | ER32: 30.3 | ES32: 30.47 | ET32: 28.93 | EU32: 28.82 | EV32: 28.59 | EW32: 29.25 | EX32: 30.41 | EY32: 33.82 | EZ32: 36.45 | FA32: 36.31 | FB32: 36.27 | FC32: 36.45 | FD32: 37 | FE32: 36.21 | FF32: 32.67 | FG32: 27.74 | FH32: 26.14 | FI32: 26.07 | FJ32: 24.27 | FK32: 22.78 | FL32: 24.37 | FM32: 25.33 | FN32: 25.14 | FO32: 22.91 | FP32: 22.23 | FQ32: 23.27 | FR32: 23.22 | FS32: 21.5 | FT32: 20.71 | FU32: 19.95 | FV32: 19.08 | FW32: 20.12 | FX32: 22.06 | FY32: 22.84 | FZ32: 22.14 | GA32: 22.57 | GB32: 21.42 | GC32: 20.73 | GD32: 19.38 | GE32: 17.94 | GF32: 16.91 | GG32: 16.92 | GH32: 17.86 | GI32: 21.17 | GJ32: 25.88 | GK32: 28.88 | GL32: 29.91 | GM32: 30.32 | GN32: 29.71 | GO32: 28.59 | GP32: 27.73 | GQ32: 26.79 | GR32: 26.64 | GS32: 27.74 | GT32: 28.65 | GU32: 31.49 | GV32: 33.99 | GW32: 33.2 | GX32: 32.23 | GY32: 30.76 | GZ32: 29.38 | HA32: 28.72 | HB32: 26.83 | HC32: 25.96 | HD32: 25.59 | HE32: 25.79 | HF32: 25.74 | HG32: 28.15 | HH32: 30.76 | HI32: 31.66 | HJ32: 31.39 | HK32: 30.61 | HL32: 30.66 | HM32: 30.56 | HN32: 30.14 | HO32: 28.09 | HP32: 26.43 | HQ32: 26.21 | HR32: 26.13 | HS32: 27.52 | HT32: 29.36 | HU32: 30.21 | HV32: 30.62 | HW32: 30.84 | HX32: 31.15 | HY32: 31.09 | HZ32: 28.21 | IA32: 25.37 | IB32: 24.73 | IC32: 25.49 | ID32: 26.16 | IE32: 28.15 | IF32: 30.53 | IG32: 31.52 | IH32: 31.62 | II32: 31.41 | IJ32: 31.97 | IK32: 32.18 | IL32: 31.92 | IM32: 31.25 | IN32: 30.12 | IO32: 29.16 | IP32: 30.97 | IQ32: 33.9 | IR32: 37.47 | IS32: 40.1 | IT32: 42.85 | IU32: 44.23 | IV32: 45.94 | IW32: 47.62 | IX32: 51.04 | IY32: 52.72 | IZ32: 51.88 | JA32: 51.24 | JB32: 51.23 | JC32: 52.65 | JD32: 55.25 | JE32: 54.62 | JF32: 50.94 | JG32: 44.37 | JH32: 36.84 | JI32: 38.17 | JJ32: 37.92 | JK32: 35.78 | JL32: 34.44 | JM32: 34.1 | JN32: 33.87 | JO32: 35.16 | JP32: 38.93 | JQ32: 41.96 | JR32: 43.67 | JS32: 43.94 | JT32: 42.22 | JU32: 42.34 | JV32: 40.23 | JW32: 38.39 | JX32: 37.26 | JY32: 37.01 | JZ32: 39.04 | KA32: 42.95 | KB32: 51.3 | KC32: 56.66 | KD32: 58.04 | KE32: 54.89 | KF32: 55.01 | KG32: 52.94 | KH32: 52.17 | KI32: 50.92 | KJ32: 50.01 | KK32: 48.89 | KL32: 49.07 | KM32: 50.11 | KN32: 49.24 | KO32: 47.41 | KP32: 43.19 | KQ32: 40.4 | KR32: 38.22 | KS32: 37.12 | KT32: 37.46 | KU32: 35.96 | KV32: 34.8 | KW32: 35.4 | KX32: 36.1 | KY32: =KX32-KL32 -> -12.97 | KZ32: =(KX32/KL32)-1 -> -0.26431628
B33: Hungary | O33: 28.526903 | P33: 28.549136 | Q33: 28.601193 | R33: 28.684058 | S33: 28.511075 | T33: 28.284784 | U33: 27.865597 | V33: 27.957603 | W33: 28.455451 | X33: 28.772636 | Y33: 29.519412 | Z33: 29.792011 | AA33: 29.152627 | AB33: 28.598238 | AC33: 28.45684 | AD33: 28.368419 | AE33: 28.110505 | AF33: 26.212626 | AG33: 25.806696 | AH33: 26.202034 | AI33: 27.131449 | AJ33: 27.724127 | AK33: 27.118121 | AL33: 25.780011 | AM33: 23.331668 | AN33: 23.443003 | AO33: 24.414895 | AP33: 24.699593 | AQ33: 24.645231 | AR33: 24.338097 | AS33: 24.130717 | AT33: 24.32399 | AU33: 25.208046 | AV33: 26.235456 | AW33: 26.695568 | AX33: 26.733216 | AY33: 26.86 | AZ33: 27.29 | BA33: 26.89 | BB33: 25.86 | BC33: 24.63 | BD33: 24.29 | BE33: 24.09 | BF33: 25.556033 | BG33: 24.66 | BH33: 24.99 | BI33: 25.46 | BJ33: 25.55 | BK33: 25.4 | BL33: 24.8 | BM33: 24.15 | BN33: 23.06 | BO33: 23.15 | BP33: 22.28 | BQ33: 21.64 | BR33: 22.08 | BS33: 22.2 | BT33: 23.7 | BU33: 25.19 | BV33: 25.63 | BW33: 30.81 | BX33: 26.45 | BY33: 26.63 | BZ33: 26.98 | CA33: 26.54 | CB33: 26.04 | CC33: 26.56 | CD33: 26.61 | CE33: 28.43 | CF33: 31.51 | CG33: 32.59 | CH33: 33.64 | CI33: 36.87 | CJ33: 35.8 | CK33: 34.53 | CL33: 33.48 | CM33: 32.42 | CN33: 32.28 | CO33: 33.09 | CP33: 31.93 | CQ33: 31.57 | CR33: 29.27 | CS33: 28.09 | CT33: 26.76 | CU33: 23.57 | CV33: 21.22 | CW33: 20.4 | CX33: 19.85 | CY33: 20.39 | CZ33: 19.8 | DA33: 20.17 | DB33: 20.5 | DC33: 21.28 | DD33: 23 | DE33: 23.62 | DF33: 23.88 | DG33: 24.6 | DH33: 25.125 | DI33: 25.64 | DJ33: 25.63 | DK33: 24.34 | DL33: 23.82 | DM33: 24.29 | DN33: 25.31 | DO33: 26.66 | DP33: 28.97 | DQ33: 29.03 | DR33: 28.99 | DS33: 29.77 | DT33: 30.92 | DU33: 31.15 | DV33: 32.15 | DW33: 31.79 | DX33: 31.58 | DY33: 31.52 | DZ33: 31.13 | EA33: 30.23 | EB33: 30.06 | EC33: 29.66 | ED33: 30.05 | EE33: 30.08 | EF33: 31.78 | EG33: 31.29 | EH33: 29.68 | EI33: 28.48 | EJ33: 27.6 | EK33: 27.66 | EL33: 28.45 | EM33: 28.69 | EN33: 30.65 | EO33: 31.68 | EP33: 31.98 | EQ33: 31.33 | ER33: 31.53 | ES33: 30.56 | ET33: 30.87 | EU33: 31.38 | EV33: 31.32 | EW33: 31.54 | EX33: 31.55 | EY33: 32.98 | EZ33: 34.82 | FA33: 35.04 | FB33: 35.3 | FC33: 35.73 | FD33: 35.23 | FE33: 35.09 | FF33: 35.03 | FG33: 34.43 | FH33: 33.69 | FI33: 32.35 | FJ33: 31.8 | FK33: 32.08 | FL33: 32.14 | FM33: 32.2 | FN33: 31.41 | FO33: 28.64 | FP33: 28.78 | FQ33: 28.75 | FR33: 27.66 | FS33: 25.68 | FT33: 24.29 | FU33: 23.9 | FV33: 24.03 | FW33: 24.23 | FX33: 24.99 | FY33: 25.21 | FZ33: 25.02 | GA33: 25.11 | GB33: 24.49 | GC33: 23.7 | GD33: 22.34 | GE33: 21.71 | GF33: 20.98 | GG33: 20.96 | GH33: 22.07 | GI33: 23.42 | GJ33: 25.28 | GK33: 27.14 | GL33: 28.39 | GM33: 29.53 | GN33: 29.78 | GO33: 29.56 | GP33: 29.62 | GQ33: 29.5 | GR33: 29.51 | GS33: 29.88 | GT33: 30.47 | GU33: 31.17 | GV33: 31.93 | GW33: 32.32 | GX33: 32.45 | GY33: 32.13 | GZ33: 31.52 | HA33: 30.74 | HB33: 29.91 | HC33: 28.9 | HD33: 28.07 | HE33: 28.04 | HF33: 28.33 | HG33: 28.69 | HH33: 29.57 | HI33: 30.29 | HJ33: 30.78 | HK33: 31.08 | HL33: 31.43 | HM33: 31.48 | HN33: 30.87 | HO33: 30.34 | HP33: 30.08 | HQ33: 29.83 | HR33: 30.13 | HS33: 30.24 | HT33: 31.63 | HU33: 31.99 | HV33: 32.64 | HW33: 32.55 | HX33: 31.99 | HY33: 31.08 | HZ33: 29.72 | IA33: 29.37 | IB33: 29.12 | IC33: 28.59 | ID33: 28.83 | IE33: 28.52 | IF33: 29.4 | IG33: 30.27 | IH33: 30.7 | II33: 30.78 | IJ33: 30.93 | IK33: 30.57 | IL33: 30.98 | IM33: 31.2 | IN33: 31.16 | IO33: 30.57 | IP33: 31.11 | IQ33: 32.01 | IR33: 32.28 | IS33: 32.98 | IT33: 33.94 | IU33: 36.01 | IV33: 37.28 | IW33: 37.02 | IX33: 38.89 | IY33: 39.68 | IZ33: 40.42 | JA33: 42.42 | JB33: 45.22 | JC33: 47.9 | JD33: 48.92 | JE33: 52.51 | JF33: 54.55 | JG33: 56.49 | JH33: 56.32 | JI33: 53.06 | JJ33: 50.04 | JK33: 46.27 | JL33: 43.7 | JM33: 40.44 | JN33: 39.32 | JO33: 39.8 | JP33: 40.64 | JQ33: 42.08 | JR33: 42.43 | JS33: 43.11 | JT33: 42.4 | JU33: 42.06 | JV33: 42.32 | JW33: 42.52 | JX33: 41.61 | JY33: 41.81 | JZ33: 42.24 | KA33: 43.87 | KB33: 45.5 | KC33: 46.96 | KD33: 48.77 | KE33: 50.27 | KF33: 51.73 | KG33: 50.96 | KH33: 50.01 | KI33: 49.73 | KJ33: 49.57 | KK33: 49.71 | KL33: 50.11 | KM33: 51.04 | KN33: 50.95 | KO33: 51.01 | KP33: 49.25 | KQ33: 42.64 | KR33: 40.77 | KS33: 37.69 | KT33: 37.5 | KU33: 37.36 | KV33: 36.5 | KW33: 35.25 | KX33: 35.38 | KY33: =KX33-KL33 -> -14.73 | KZ33: =(KX33/KL33)-1 -> -0.2939533
B34: Malta | C34: 37.78 | D34: 37.43 | E34: 37.46 | F34: 37.38 | G34: 37.56 | H34: 38.31 | I34: 38.98 | J34: 39.23 | K34: 39.72 | L34: 40.46 | M34: 39.96 | N34: 40.29 | O34: 40.25 | P34: 39.6 | Q34: 40.56 | R34: 40.33 | S34: 39.42 | T34: 39.2 | U34: 39.44 | V34: 40.41 | W34: 40.89 | X34: 41.11 | Y34: 40.99 | Z34: 40.64 | AA34: 41.728759 | AB34: 41.22302 | AC34: 43.060196 | AD34: 42.781523 | AE34: 41.852614 | AF34: 41.759723 | AG34: 39.69 | AH34: 40.38 | AI34: 40.42 | AJ34: 41.34 | AK34: 40.82 | AL34: 40.25 | AM34: 40.4301 | AN34: 39.9401 | AO34: 41.7201 | AP34: 41.4501 | AQ34: 40.5501 | AR34: 40.4601 | AS34: 40.3201 | AT34: 39.9501 | AU34: 39.3601 | AV34: 39.3601 | AW34: 38.4401 | AX34: 37.9101 | AY34: 38.62 | AZ34: 38.75 | BA34: 37.29 | BB34: 37.45 | BC34: 32.84 | BD34: 33.31 | BE34: 33.54 | BF34: 33.77 | BG34: 34.24 | BH34: 34.71 | BI34: 32.419338 | BJ34: 32.188897 | DN34: 41.82 | DO34: 42.58 | DP34: 42.58 | DQ34: 47.05 | DR34: 46.07 | DS34: 45.09 | DT34: 43.44 | DU34: 47.01 | DV34: 47.01 | DW34: 47.84 | DX34: 48.34 | DY34: 48.76 | DZ34: 48.9 | EA34: 48.84 | EB34: 48.38 | EC34: 48.26 | ED34: 46.61 | EE34: 46.39 | EF34: 46.09 | EG34: 44.02 | EH34: 43.92 | EI34: 44.41 | EJ34: 48.15 | EK34: 49.38 | EL34: 50.38 | EM34: 50.38 | EN34: 52.58 | EO34: 55.5 | EP34: 54.24 | EQ34: 52.62 | ER34: 52.41 | ES34: 52.16 | ET34: 51.92 | EU34: 52.72 | EV34: 54.91 | EW34: 56.07 | EX34: 53.62 | EY34: 52.33 | EZ34: 51.24 | FA34: 49.66 | FB34: 48.71 | FC34: 46.58 | FD34: 46.34 | FE34: 45.78 | FF34: 45.68 | FG34: 46.21 | FH34: 46.21 | FI34: 46.85 | FJ34: 49.12 | FK34: 49.12 | FL34: 47.61 | FM34: 47.43 | FN34: 46.36 | FO34: 46.17 | FP34: 45.68 | FQ34: 45.4 | FR34: 44.44 | FS34: 43.93 | FT34: 44.96 | FU34: 46.49 | FV34: 48.2 | FW34: 49.6 | FX34: 49.34 | FY34: 49.26 | FZ34: 47.95 | GA34: 46.14 | GB34: 44.12 | GC34: 43.66 | GD34: 42.94 | GE34: 43.97 | GF34: 45.03 | GG34: 45.82 | GH34: 46.3 | GI34: 47.68 | GJ34: 48.92 | GK34: 47.51 | GL34: 46.46 | GM34: 47.16 | GN34: 45.59 | GO34: 45.07 | GP34: 44.87 | GQ34: 44.81 | GR34: 45.17 | GS34: 46.73 | GT34: 50.85 | GU34: 53.35 | GV34: 53.12 | GW34: 51.17 | GX34: 49.16 | GY34: 46.97 | GZ34: 46.72 | HA34: 46.35 | HB34: 46.79 | HC34: 49.13 | HD34: 50.03 | HE34: 51.57 | HF34: 53.21 | HG34: 53.64 | HH34: 51.56 | HI34: 51.55 | HJ34: 49.55 | HK34: 48.22 | HL34: 46.95 | HM34: 46.71 | HN34: 45.55 | HO34: 45.74 | HP34: 49.07 | HQ34: 50.55 | HR34: 51.6 | HS34: 52.12 | HT34: 52.1 | HU34: 53.78 | HV34: 52.36 | HW34: 49.47 | HX34: 49.06 | HY34: 48.88 | HZ34: 49.14 | IA34: 48.99 | IB34: 50.48 | IC34: 50.18 | ID34: 50.83 | IE34: 51.57 | IF34: 52.48 | IG34: 51.89 | IH34: 51.37 | II34: 53.03 | IJ34: 51.46 | IK34: 55.71 | IL34: 55.58 | IM34: 54.77 | IN34: 56.35 | IO34: 57.33 | IP34: 57.45 | IQ34: 60.04 | IR34: 62.76 | IS34: 62.5 | IT34: 62.26 | IU34: 62 | IV34: 61.92 | IW34: 63.54 | IX34: 62.51 | IY34: 61.97 | IZ34: 61.9 | JA34: 61.68 | JB34: 61.9 | JC34: 63.36 | JD34: 62.95 | JE34: 62.67 | JF34: 61.67 | JG34: 61.04 | JH34: 60.55 | JI34: 61.27 | JJ34: 61.76 | JK34: 62.2 | JL34: 56.18 | JM34: 56.41 | JN34: 56.08 | JO34: 57.25 | JP34: 56.61 | JQ34: 56.4 | JR34: 55.74 | JS34: 56.32 | JT34: 55.77 | JU34: 55.75 | JV34: 56.1 | JW34: 56.11 | JX34: 61.94 | JY34: 61.81 | JZ34: 62.45 | KA34: 62.29 | KB34: 62.17 | KC34: 61.33 | KD34: 59.25 | KE34: 60.94 | KF34: 61.75 | KG34: 60.71 | KH34: 60.81 | KI34: 61.58 | KJ34: 63.09 | KK34: 63.39 | KL34: 64.66 | KM34: 64.13 | KN34: 63.83 | KO34: 62.86 | KP34: 63.74 | KQ34: 63.36 | KR34: 63.25 | KS34: 63.66 | KT34: 63.66 | KU34: 63.66 | KV34: 63.66 | KW34: 63.66 | KX34: 63.66 | KY34: =KX34-KL34 -> -1 | KZ34: =(KX34/KL34)-1 -> -0.015465512
B35: Poland | AA35: 17.7 | AB35: 17.1 | AC35: 16.4 | AD35: 16.33 | AE35: 15.5 | AF35: 14.8 | AG35: 14.6 | AH35: 14.9 | AI35: 15 | AJ35: 15.3 | AK35: 16.2 | AL35: 16.6 | AM35: 16.4001 | AN35: 16.0001 | AO35: 16.3001 | AP35: 16.5001 | AQ35: 16.9001 | AR35: 17.8001 | AS35: 18.7001 | AT35: 19.1001 | AU35: 19.7001 | AV35: 23.4001 | AW35: 24.7001 | AX35: 25.5001 | AY35: 25.6 | AZ35: 26.2 | BA35: 25.4 | BB35: 24 | BC35: 23.73 | BD35: 23.96 | BE35: 23.57 | BF35: 23.82 | BG35: 24.97 | BH35: 25.28 | BI35: 25.4 | BJ35: 26.91 | BK35: 26.62 | BL35: 26.41 | BM35: 25.87 | BN35: 25.16 | BO35: 24.94 | BP35: 24 | BQ35: 23.93 | BR35: 24.56 | BS35: 24.61 | BT35: 25.48 | BU35: 26.66 | BV35: 26.81 | BW35: 26.49 | BX35: 26.52 | BY35: 26.62 | BZ35: 26.94 | CA35: 27.26 | CB35: 27.02 | CC35: 28.09 | CD35: 28.84 | CE35: 30.9 | CF35: 33.47 | CG35: 35.69 | CH35: 36.7 | CI35: 34.3 | CJ35: 33.8 | CK35: 33.22 | CL35: 32.43 | CM35: 31.46 | CN35: 30.73 | CO35: 31.14 | CP35: 30.32 | CQ35: 29.46 | CR35: 27.16 | CS35: 25.78 | CT35: 24.02 | CU35: 22.27 | CV35: 20.28 | CW35: 20.46 | CX35: 21.05 | CY35: 21.02 | CZ35: 20.54 | DA35: 21.33 | DB35: 22.45 | DC35: 22.73 | DD35: 23.18 | DE35: 25.23 | DF35: 25.73 | DG35: 26.02 | DH35: 26.6 | DI35: 26.92 | DJ35: 26.91 | DK35: 25.81 | DL35: 25.61 | DM35: 25.82 | DN35: 27.19 | DO35: 28.2 | DP35: 28.94 | DQ35: 30.1 | DR35: 29.79 | DS35: 30.02 | DT35: 30.26 | DU35: 30.28 | DV35: 30.24 | DW35: 30.24 | DX35: 29.9 | DY35: 30.08 | DZ35: 29.13 | EA35: 27.98 | EB35: 28.33 | EC35: 28.91 | ED35: 28.74 | EE35: 28.82 | EF35: 30.34 | EG35: 30.25 | EH35: 28.79 | EI35: 27.46 | EJ35: 26.84 | EK35: 27.34 | EL35: 28.19 | EM35: 28.13 | EN35: 28.95 | EO35: 29.73 | EP35: 30.1 | EQ35: 29.75 | ER35: 29.63 | ES35: 30.02 | ET35: 30.26 | EU35: 30.03 | EV35: 29.48 | EW35: 30.21 | EX35: 31.17 | EY35: 32.64 | EZ35: 34.07 | FA35: 36.55 | FB35: 37.17 | FC35: 35.8 | FD35: 35.6 | FE35: 35.16 | FF35: 33.83 | FG35: 32.94 | FH35: 32.43 | FI35: 32.04 | FJ35: 30.18 | FK35: 29.74 | FL35: 29.64 | FM35: 29.61 | FN35: 29.98 | FO35: 28.55 | FP35: 29.09 | FQ35: 29.57 | FR35: 29.35 | FS35: 28.23 | FT35: 26.98 | FU35: 26.96 | FV35: 26.54 | FW35: 26.56 | FX35: 27.31 | FY35: 27.41 | FZ35: 27.39 | GA35: 26.09 | GB35: 26.21 | GC35: 25.66 | GD35: 23.88 | GE35: 23.35 | GF35: 23.14 | GG35: 23.29 | GH35: 24.95 | GI35: 26.41 | GJ35: 28.3 | GK35: 29.62 | GL35: 30.67 | GM35: 30.21 | GN35: 30.57 | GO35: 30.52 | GP35: 30.66 | GQ35: 30.95 | GR35: 31.25 | GS35: 31.61 | GT35: 32.57 | GU35: 33.71 | GV35: 34.46 | GW35: 35.8 | GX35: 36.07 | GY35: 34.02 | GZ35: 32.95 | HA35: 32.41 | HB35: 31.96 | HC35: 30.69 | HD35: 30.4 | HE35: 30.38 | HF35: 30.72 | HG35: 31.6 | HH35: 32.57 | HI35: 32.85 | HJ35: 33.2 | HK35: 32.48 | HL35: 32.23 | HM35: 32.39 | HN35: 31.77 | HO35: 31.49 | HP35: 31.02 | HQ35: 30.78 | HR35: 30.12 | HS35: 30.41 | HT35: 31.42 | HU35: 32.85 | HV35: 33.33 | HW35: 32.76 | HX35: 32.54 | HY35: 31.17 | HZ35: 29.55 | IA35: 29.4 | IB35: 29.62 | IC35: 29.84 | ID35: 30.79 | IE35: 31.38 | IF35: 32.51 | IG35: 34.51 | IH35: 34.69 | II35: 32.91 | IJ35: 33 | IK35: 32.84 | IL35: 33.1 | IM35: 33.34 | IN35: 33.22 | IO35: 32.68 | IP35: 33.39 | IQ35: 34.52 | IR35: 36.1 | IS35: 38.17 | IT35: 40.18 | IU35: 40.09 | IV35: 40.62 | IW35: 41.44 | IX35: 45.17 | IY35: 46.49 | IZ35: 49.24 | JA35: 49.5 | JB35: 50.88 | JC35: 53.18 | JD35: 54.73 | JE35: 58.36 | JF35: 59.39 | JG35: 51.59 | JH35: 48.06 | JI35: 47.66 | JJ35: 46.72 | JK35: 45.62 | JL35: 43.12 | JM35: 42.16 | JN35: 41.72 | JO35: 41.09 | JP35: 43.74 | JQ35: 47.74 | JR35: 49.44 | JS35: 47.64 | JT35: 47.65 | JU35: 47.83 | JV35: 47.58 | JW35: 46.28 | JX35: 45.52 | JY35: 45.84 | JZ35: 47.41 | KA35: 49.42 | KB35: 51.66 | KC35: 55.58 | KD35: 61.67 | KE35: 53.83 | KF35: 54.65 | KG35: 54.77 | KH35: 53.56 | KI35: 53.48 | KJ35: 53.12 | KK35: 52.78 | KL35: 53.36 | KM35: 52.93 | KN35: 52.81 | KO35: 50.76 | KP35: 47.58 | KQ35: 45.23 | KR35: 44.67 | KS35: 43.45 | KT35: 43.5 | KU35: 43.16 | KV35: 41.19 | KW35: 40.23 | KX35: 41.45 | KY35: =KX35-KL35 -> -11.91 | KZ35: =(KX35/KL35)-1 -> -0.2232009
B36: Slovenia | AA36: 30.12 | AB36: 30.01 | AC36: 29.82 | AD36: 29.6 | AE36: 29.4 | AF36: 28.82 | AG36: 28.86 | AH36: 28.51 | AI36: 29.04 | AJ36: 29.54 | AK36: 29.78 | AL36: 29.69 | AM36: 29.5301 | AN36: 29.4001 | AO36: 29.2901 | AP36: 28.6801 | AQ36: 28.5111 | AR36: 27.6411 | AS36: 27.4701 | AT36: 27.4501 | AU36: 27.7101 | AV36: 28.1301 | AW36: 28.5301 | AX36: 28.0401 | AY36: 26.44 | AZ36: 26.59 | BA36: 26.5 | BB36: 26.25 | BC36: 26.03 | BD36: 25.88 | BE36: 25.46 | BF36: 25.58 | BG36: 25.88 | BH36: 26.42 | BI36: 26.536631 | BJ36: 27 | BK36: 26.78 | BL36: 26.55 | BM36: 26.77 | BN36: 26.01 | BO36: 26.03 | BP36: 25.81 | BQ36: 25.54 | BR36: 25.8 | BS36: 26.41 | BT36: 26.92 | BU36: 27.21 | BV36: 27.27 | BW36: 27.29 | BX36: 27.14 | BY36: 27.1 | BZ36: 26.74 | CA36: 26.46 | CB36: 26.23 | CC36: 26.55 | CD36: 27.05 | CE36: 28.4 | CF36: 29.54 | CG36: 31.58 | CH36: 32.29 | CI36: 33.41 | CJ36: 33.54 | CK36: 33.3 | CL36: 32.92 | CM36: 32.78 | CN36: 32.37 | CO36: 32.42 | CP36: 32.42 | CQ36: 32.95 | CR36: 33.28 | CS36: 33.3 | CT36: 33.04 | CU36: 30.41 | CV36: 29.23 | CW36: 28.09 | CX36: 25.97 | CY36: 24.71 | CZ36: 24.18 | DA36: 24.08 | DB36: 24.08 | DC36: 24.41 | DD36: 24.69 | DE36: 25.51 | DF36: 25.41 | DG36: 25.72 | DH36: 25.79 | DI36: 26.09 | DJ36: 26.35 | DK36: 26.21 | DL36: 26.29 | DM36: 26.2 | DN36: 26.61 | DO36: 27.49 | DP36: 28.09 | DQ36: 28.5 | DR36: 28.85 | DS36: 28.78 | DT36: 28.86 | DU36: 29.24 | DV36: 30.11 | DW36: 30.1 | DX36: 30.03 | DY36: 30.14 | DZ36: 30.24 | EA36: 30.69 | EB36: 32.04 | EC36: 32.75 | ED36: 32.7 | EE36: 32.42 | EF36: 32.27 | EG36: 31.44 | EH36: 30.49 | EI36: 29.75 | EJ36: 29.01 | EK36: 28.11 | EL36: 28.19 | EM36: 29.13 | EN36: 29.81 | EO36: 30.39 | EP36: 30.71 | EQ36: 30.76 | ER36: 30.75 | ES36: 30.92 | ET36: 31.1 | EU36: 31.12 | EV36: 31.14 | EW36: 31.23 | EX36: 31.68 | EY36: 33.05 | EZ36: 34.53 | FA36: 35.23 | FB36: 36.12 | FC36: 37.22 | FD36: 37.29 | FE36: 36.99 | FF36: 36.56 | FG36: 35.61 | FH36: 34.67 | FI36: 34.27 | FJ36: 33.79 | FK36: 33.46 | FL36: 32.39 | FM36: 32.03 | FN36: 31.72 | FO36: 29.65 | FP36: 29.16 | FQ36: 28.89 | FR36: 28.52 | FS36: 28 | FT36: 27.65 | FU36: 27.25 | FV36: 27.36 | FW36: 28.02 | FX36: 28.52 | FY36: 28.65 | FZ36: 28.33 | GA36: 27.45 | GB36: 26.65 | GC36: 25.13 | GD36: 23.64 | GE36: 23.46 | GF36: 23.16 | GG36: 23.34 | GH36: 24.15 | GI36: 24.76 | GJ36: 26.09 | GK36: 27.35 | GL36: 28.18 | GM36: 28.58 | GN36: 28.55 | GO36: 28.68 | GP36: 28.66 | GQ36: 28.47 | GR36: 28.97 | GS36: 29.85 | GT36: 30.56 | GU36: 32.38 | GV36: 32.95 | GW36: 33.22 | GX36: 32.97 | GY36: 31.1 | GZ36: 29.88 | HA36: 29.22 | HB36: 28.58 | HC36: 28.74 | HD36: 29.18 | HE36: 29.78 | HF36: 29.89 | HG36: 30.96 | HH36: 31.98 | HI36: 32.38 | HJ36: 31.95 | HK36: 32.56 | HL36: 32.18 | HM36: 32.27 | HN36: 32.4 | HO36: 32.1 | HP36: 31.62 | HQ36: 31.74 | HR36: 32.02 | HS36: 32.65 | HT36: 33.65 | HU36: 34.05 | HV36: 34.16 | HW36: 33.68 | HX36: 32.97 | HY36: 32.63 | HZ36: 30.72 | IA36: 30 | IB36: 30.1 | IC36: 30.16 | ID36: 30.26 | IE36: 30.97 | IF36: 31.68 | IG36: 32.3 | IH36: 31.34 | II36: 31.95 | IJ36: 31.65 | IK36: 31.57 | IL36: 31.72 | IM36: 31.48 | IN36: 31.19 | IO36: 31.54 | IP36: 32.18 | IQ36: 33 | IR36: 33.9 | IS36: 34.79 | IT36: 35.33 | IU36: 35.93 | IV36: 36.87 | IW36: 38.16 | IX36: 40.63 | IY36: 42.14 | IZ36: 43.92 | JA36: 45.72 | JB36: 47.86 | JC36: 50.88 | JD36: 53.6 | JE36: 54.95 | JF36: 55.4 | JG36: 53.73 | JH36: 51.49 | JI36: 48.78 | JJ36: 46.08 | JK36: 43.75 | JL36: 42.53 | JM36: 42.12 | JN36: 42.73 | JO36: 42.76 | JP36: 43.55 | JQ36: 44.73 | JR36: 45.84 | JS36: 45.22 | JT36: 44.78 | JU36: 44.35 | JV36: 44.48 | JW36: 43.7 | JX36: 43.7 | JY36: 43.66 | JZ36: 43.58 | KA36: 44.78 | KB36: 46.78 | KC36: 50.2 | KD36: 50.2 | KE36: 50.39 | KF36: 49.6 | KG36: 49.16 | KH36: 48.97 | KI36: 48.58 | KJ36: 48.85 | KK36: 50.11 | KL36: 50.52 | KM36: 50.47 | KN36: 50.05 | KO36: 49.17 | KP36: 47.27 | KQ36: 44.26 | KR36: 41.39 | KS36: 39.86 | KT36: 38.87 | KU36: 37.86 | KV36: 38.01 | KW36: 38.51 | KX36: 38.86 | KY36: =KX36-KL36 -> -11.66 | KZ36: =(KX36/KL36)-1 -> -0.23079968
B37: Slovakia | AA37: 22.279843 | AB37: 22.123365 | AC37: 21.79478 | AD37: 21.384978 | AE37: 21.32 | AF37: 21.08 | AG37: 21.1 | AH37: 21.01 | AI37: 21.23 | AJ37: 21.49 | AK37: 21.72 | AL37: 21.79 | AM37: 22.3101 | AN37: 22.4501 | AO37: 22.7601 | AP37: 22.8201 | AQ37: 22.2601 | AR37: 22.6101 | AS37: 22.6801 | AT37: 22.6101 | AU37: 22.8701 | AV37: 23.3501 | AW37: 23.8801 | AX37: 24.4301 | AY37: 25.07 | AZ37: 25.57 | BA37: 25.4 | BB37: 24.29 | BC37: 24.33 | BD37: 24.38 | BE37: 23.85 | BF37: 23.89 | BG37: 24.37 | BH37: 24.04 | BI37: 24.45 | BJ37: 25.15 | BK37: 25.11 | BL37: 25.11 | BM37: 25.28 | BN37: 24.78 | BO37: 24.61 | BP37: 24.29 | BQ37: 23.73 | BR37: 24.18 | BS37: 24.74 | BT37: 25.3 | BU37: 26.22 | BV37: 27.06 | BW37: 30.375 | BX37: 27.45 | BY37: 28.24 | BZ37: 27.77 | CA37: 27.57 | CB37: 27.15 | CC37: 27.75 | CD37: 27.82 | CE37: 28.91 | CF37: 30.9 | CG37: 32.68 | CH37: 31.935758 | CI37: 35.22 | CJ37: 35.22 | CK37: 35.61 | CL37: 33.87 | CM37: 33.44 | CN37: 33.28 | CO37: 32.32 | CP37: 31.61 | CQ37: 31.24 | CR37: 30.45 | CS37: 27.99 | CT37: 27.3 | CU37: 24.39 | CV37: 21.39 | CW37: 18.72 | CX37: 17.68 | CY37: 17.67 | CZ37: 18 | DA37: 18.6 | DB37: 19.54 | DC37: 20.96 | DD37: 23.24 | DE37: 25.16 | DF37: 25.99 | DG37: 25.84 | DH37: 26.14 | DI37: 26.08 | DJ37: 26.03 | DK37: 26.09 | DL37: 26.35 | DM37: 26.59 | DN37: 26.96 | DO37: 27.93 | DP37: 29.27 | DQ37: 29.93 | DR37: 30.57 | DS37: 30.86 | DT37: 31.21 | DU37: 31.21 | DV37: 31.79 | DW37: 31.64 | DX37: 31.61 | DY37: 31.39 | DZ37: 31.58 | EA37: 31.65 | EB37: 32.01 | EC37: 32.31 | ED37: 32.21 | EE37: 31.72 | EF37: 31.63 | EG37: 30.84 | EH37: 29.75 | EI37: 28.83 | EJ37: 27.69 | EK37: 27.18 | EL37: 27.24 | EM37: 28.06 | EN37: 29.33 | EO37: 30.43 | EP37: 31.03 | EQ37: 31.4 | ER37: 31.66 | ES37: 31.73 | ET37: 31.78 | EU37: 31.54 | EV37: 31.72 | EW37: 32.02 | EX37: 32.28 | EY37: 33.3 | EZ37: 34.41 | FA37: 35.03 | FB37: 35.55 | FC37: 35.8 | FD37: 35.95 | FE37: 35.8 | FF37: 35.05 | FG37: 34.47 | FH37: 33.63 | FI37: 33.18 | FJ37: 32.84 | FK37: 32.63 | FL37: 32.49 | FM37: 32.06 | FN37: 31.79 | FO37: 30.79 | FP37: 29.92 | FQ37: 29.41 | FR37: 29.08 | FS37: 27.89 | FT37: 27 | FU37: 26.43 | FV37: 26.25 | FW37: 26.63 | FX37: 27.08 | FY37: 27.41 | FZ37: 27.43 | GA37: 27.53 | GB37: 26.87 | GC37: 25.89 | GD37: 24.72 | GE37: 23.67 | GF37: 23.17 | GG37: 23.12 | GH37: 23.39 | GI37: 24.21 | GJ37: 25.78 | GK37: 27.05 | GL37: 28.29 | GM37: 29.15 | GN37: 29.52 | GO37: 29.51 | GP37: 29.79 | GQ37: 29.86 | GR37: 29.99 | GS37: 30.49 | GT37: 30.91 | GU37: 31.97 | GV37: 33.06 | GW37: 33.61 | GX37: 33.97 | GY37: 33.71 | GZ37: 33.02 | HA37: 32.42 | HB37: 31.35 | HC37: 30.65 | HD37: 30.59 | HE37: 30.77 | HF37: 30.82 | HG37: 31.71 | HH37: 32.45 | HI37: 32.92 | HJ37: 33.16 | HK37: 33.26 | HL37: 33.03 | HM37: 32.78 | HN37: 32.6 | HO37: 32.61 | HP37: 32.18 | HQ37: 31.99 | HR37: 31.67 | HS37: 32.26 | HT37: 32.68 | HU37: 33.03 | HV37: 33.13 | HW37: 33.23 | HX37: 33.28 | HY37: 33.21 | HZ37: 32.89 | IA37: 32.08 | IB37: 31.84 | IC37: 31.62 | ID37: 31.59 | IE37: 31.75 | IF37: 32.38 | IG37: 32.39 | IH37: 32.38 | II37: 32.17 | IJ37: 31.96 | IK37: 32.22 | IL37: 32.24 | IM37: 31.99 | IN37: 31.82 | IO37: 31.62 | IP37: 31.81 | IQ37: 32.75 | IR37: 33.57 | IS37: 34.53 | IT37: 35.47 | IU37: 37.18 | IV37: 38.1 | IW37: 38.84 | IX37: 39.64 | IY37: 40.38 | IZ37: 41.86 | JA37: 43.6 | JB37: 45.28 | JC37: 47.12 | JD37: 49.33 | JE37: 50.78 | JF37: 51.38 | JG37: 51.05 | JH37: 49.7 | JI37: 48.47 | JJ37: 46.31 | JK37: 44.42 | JL37: 42.51 | JM37: 41.17 | JN37: 40.84 | JO37: 40.87 | JP37: 41.74 | JQ37: 43.18 | JR37: 44.09 | JS37: 44 | JT37: 44.11 | JU37: 42.82 | JV37: 42.07 | JW37: 41.82 | JX37: 41.58 | JY37: 41.7 | JZ37: 41.87 | KA37: 42.92 | KB37: 44.44 | KC37: 45.76 | KD37: 46.78 | KE37: 47.2 | KF37: 47.83 | KG37: 48 | KH37: 48.29 | KI37: 48.75 | KJ37: 48.94 | KK37: 49.49 | KL37: 49.68 | KM37: 49.76 | KN37: 49.17 | KO37: 47.63 | KP37: 45.7 | KQ37: 43.59 | KR37: 41.1 | KS37: 38.93 | KT37: 37.61 | KU37: 36.9 | KV37: 36.63 | KW37: 36.69 | KX37: 37.32 | KY37: =KX37-KL37 -> -12.36 | KZ37: =(KX37/KL37)-1 -> -0.24879227
B39: Average EU10 | AA39: 24.898123 | AB39: 24.672462 | AC39: 24.641182 | AD39: 24.192492 | AE39: 23.840312 | AF39: 23.697235 | AG39: 23.38467 | AH39: 23.451203 | AI39: 23.740145 | AJ39: 24.303413 | AK39: 24.765812 | AL39: 24.832001 | AM39: 24.416247 | AN39: 24.60238 | AO39: 25.317569 | AP39: 25.598039 | AQ39: 25.545703 | AR39: 25.67699 | AS39: 25.565152 | AT39: 25.795479 | AU39: 26.087885 | AV39: 26.565626 | AW39: 26.842637 | AX39: 27.397402 | AY39: 27.475 | AZ39: 27.7 | BA39: 27.414 | BB39: 26.922 | BC39: 26.072 | BD39: 26.339 | BE39: 26.198 | BF39: 26.507603 | BG39: 26.858 | BH39: 27.177 | BI39: 27.467597 | BJ39: 27.53889 | BK39: 26.987778 | BL39: 26.881111 | BM39: 26.674444 | BN39: 26.164444 | BO39: 25.935556 | BP39: 25.508889 | BQ39: 25.106667 | BR39: 25.279284 | BS39: 25.478889 | BT39: 26.311111 | BU39: 27.008889 | BV39: 27.252222 | BW39: 28.180556 | BX39: 27.324513 | BY39: 27.386667 | BZ39: 27.443867 | CA39: 27.274444 | CB39: 27.072222 | CC39: 27.406667 | CD39: 27.977778 | CE39: 29.785556 | CF39: 32.436667 | CG39: 34.383333 | CH39: 35.018418 | CI39: 36.38 | CJ39: 36.18 | CK39: 35.32 | CL39: 33.62 | CM39: 32.52 | CN39: 32.14 | CO39: 31.94 | CP39: 31.6 | CQ39: 31.6 | CR39: 30.83 | CS39: 29.89 | CT39: 28.79 | CU39: 26.85 | CV39: 25.31 | CW39: 24.27 | CX39: 23.47 | CY39: 23.07 | CZ39: 22.84 | DA39: 23.027778 | DB39: 23.385556 | DC39: 23.975556 | DD39: 25.233333 | DE39: 26.96 | DF39: 27.816667 | DG39: 28.214444 | DH39: 28.453889 | DI39: 28.65 | DJ39: 28.604444 | DK39: 28.39 | DL39: 28.43 | DM39: 28.541111 | DN39: 28.937778 | DO39: 30.225556 | DP39: 31.035556 | DQ39: 31.82 | DR39: 32.11 | DS39: 32.338889 | DT39: 32.944444 | DU39: 33.271111 | DV39: 33.688889 | DW39: 33.413333 | DX39: 32.866667 | DY39: 32.761111 | DZ39: 32.615556 | EA39: 32.673333 | EB39: 33.246667 | EC39: 33.514444 | ED39: 33.523333 | EE39: 33.492222 | EF39: 33.914444 | EG39: 33.491111 | EH39: 32.194444 | EI39: 30.652222 | EJ39: 29.712222 | EK39: 29.347778 | EL39: 29.63 | EM39: 30.324444 | EN39: 31.531111 | EO39: 32.398889 | EP39: 33.067778 | EQ39: 33.961111 | ER39: 33.868889 | ES39: 33.966667 | ET39: 33.833333 | EU39: 33.782222 | EV39: 33.693333
B40: Weighted average EU10 | AA40: 20.249305 | AB40: 19.835332 | AC40: 19.344846 | AD40: 18.983882 | AE40: 18.453943 | AF40: 18.025243 | AG40: 17.779634 | AH40: 17.923029 | AI40: 18.128708 | AJ40: 18.513352 | AK40: 19.198749 | AL40: 19.362723 | AM40: 18.949746 | AN40: 18.797506 | AO40: 19.205714 | AP40: 19.366734 | AQ40: 19.664555 | AR40: 20.231135 | AS40: 20.692401 | AT40: 20.943135 | AU40: 21.487713 | AV40: 23.725623 | AW40: 24.612604 | AX40: 25.279866 | AY40: 25.463111 | AZ40: 25.924538 | BA40: 25.480587 | BB40: 24.423606 | BC40: 24.05393 | BD40: 24.169785 | BE40: 23.796968 | BF40: 24.170898 | BG40: 24.88363 | BH40: 25.139928 | BI40: 25.402448 | BJ40: 26.311182 | BK40: 26.23891 | BL40: 26.082914 | BM40: 25.696035 | BN40: 25.038473 | BO40: 24.760643 | BP40: 23.943417 | BQ40: 23.623748 | BR40: 24.140779 | BS40: 24.2 | BT40: 25.061786 | BU40: 26.116765 | BV40: 26.365812 | BW40: 26.957042 | BX40: 26.367304 | BY40: 26.485839 | BZ40: 26.625911 | CA40: 26.629371 | CB40: 26.200064 | CC40: 26.974232 | CD40: 27.634512 | CE40: 29.602632 | CF40: 32.576974 | CG40: 34.826588 | CH40: 35.6078 | CI40: 35.093794 | CJ40: 34.846596 | CK40: 34.044417 | CL40: 32.685275 | CM40: 31.413886 | CN40: 30.721276 | CO40: 30.794105 | CP40: 29.927634 | CQ40: 29.402549 | CR40: 27.832642 | CS40: 26.649762 | CT40: 25.110189 | CU40: 22.990953 | CV40: 21.081622 | CW40: 20.753804 | CX40: 20.766316 | CY40: 20.60976 | CZ40: 20.273498 | DA40: 20.778475 | DB40: 21.490881 | DC40: 21.991506 | DD40: 22.929299 | DE40: 24.763488 | DF40: 25.46514 | DG40: 25.850551 | DH40: 26.306508 | DI40: 26.636612 | DJ40: 26.673525 | DK40: 26.02714 | DL40: 25.891448 | DM40: 26.068832 | DN40: 26.927002 | DO40: 28.257958 | DP40: 28.894927 | DQ40: 30.121294 | DR40: 30.070688 | DS40: 30.444462 | DT40: 30.888994 | DU40: 31.044065 | DV40: 31.261357 | DW40: 31.095232 | DX40: 30.674972 | DY40: 30.696659 | DZ40: 30.200517 | EA40: 29.640803 | EB40: 29.994977 | EC40: 30.258103 | ED40: 30.194545 | EE40: 30.195568 | EF40: 31.217903 | EG40: 30.936958 | EH40: 29.476115 | EI40: 27.914777 | EJ40: 27.086338 | EK40: 27.154305 | EL40: 27.777906 | EM40: 28.14848 | EN40: 29.253036 | EO40: 30.070843 | EP40: 30.600879 | EQ40: 30.77 | ER40: 30.65 | ES40: 30.85 | ET40: 30.89 | EU40: 30.83 | EV40: 30.54 | EW40: 31.01 | EX40: 31.75 | EY40: 33.27 | EZ40: 34.7 | FA40: 36.24 | FB40: 36.81 | FC40: 36.283228 | KY40: n/a | KZ40: n/a
B42: Average EU25* | C42: 33.023125 | D42: 32.638125 | E42: 31.9 | F42: 31.794375 | G42: 31.845625 | H42: 32.08375 | I42: 32.808125 | J42: 33.925625 | K42: 34.774375 | L42: 35.265 | M42: 35.6825 | N42: 35.199375 | AA42: 29.208363 | AB42: 28.837726 | AC42: 28.251738 | AD42: 27.712632 | AE42: 27.253631 | AF42: 27.120804 | AG42: 27.290298 | AH42: 27.920208 | AI42: 28.649644 | AJ42: 29.449431 | AK42: 29.707808 | AL42: 29.431697 | AM42: 28.923814 | AN42: 28.646515 | AO42: 28.535971 | AP42: 28.225366 | AQ42: 28.106746 | AR42: 28.133104 | AS42: 28.612037 | AT42: 28.970752 | AU42: 29.717022 | AV42: 30.354279 | AW42: 30.49945 | AX42: 30.427808 | AY42: 29.683482 | AZ42: 29.534 | BA42: 28.95 | BB42: 28.238 | BC42: 27.7052 | BD42: 27.7036 | BE42: 27.992364 | BF42: 28.591841 | BG42: 29.1592 | BH42: 29.7332 | BI42: 29.916639 | BJ42: 29.684756 | BK42: 28.974167 | BL42: 28.727083 | BM42: 28.100833 | BN42: 27.51125 | BO42: 27.25875 | BP42: 27.0225 | BQ42: 27.110417 | BR42: 27.876815 | BS42: 28.389167 | BT42: 29.02875 | BU42: 29.479583 | BV42: 29.454583 | BW42: 29.188509 | BX42: 28.721625 | BY42: 28.2488 | BZ42: 28.138192 | CA42: 28.2528 | CB42: 28.822 | CC42: 29.8848 | CD42: 31.8368 | CE42: 34.322 | CF42: 37.2184 | CG42: 38.5668 | CH42: 38.60503 | CI42: 38.73 | CJ42: 38.1 | CK42: 36.98 | CL42: 35.44 | CM42: 34.73 | CN42: 33.97 | CO42: 34.36 | CP42: 34.92 | CQ42: 35.07 | CR42: 34.43 | CS42: 33.45 | CT42: 32.04
B43: Weighted Average EU25 | O43: 33.38 | P43: 32.45 | Q43: 31.51 | R43: 30.05 | S43: 29.32 | T43: 29.13 | U43: 29.79 | V43: 30.89 | W43: 31.7 | X43: 32.66 | Y43: 32.73 | Z43: 32.19 | AA43: 29.758012 | AB43: 29.270759 | AC43: 28.3117 | AD43: 27.570953 | AE43: 27.06891 | AF43: 26.911216 | AG43: 27.541966 | AH43: 28.606386 | AI43: 29.53094 | AJ43: 30.361472 | AK43: 30.625711 | AL43: 29.777234 | AM43: 29.511219 | AN43: 28.969904 | AO43: 28.471295 | AP43: 27.614701 | AQ43: 27.482588 | AR43: 27.508623 | AS43: 28.597649 | AT43: 29.299896 | AU43: 30.15204 | AV43: 30.845213 | AW43: 31.153445 | AX43: 30.770283 | AY43: 29.694315 | AZ43: 29.423136 | BA43: 28.733924 | BB43: 27.737333 | BC43: 27.394985 | BD43: 27.451781 | BE43: 27.979027 | BF43: 29.076091 | BG43: 29.759501 | BH43: 30.233175 | BI43: 30.300732 | BJ43: 29.954592 | BK43: 28.799853 | BL43: 28.462443 | BM43: 27.575364 | BN43: 26.760886 | BO43: 26.5326 | BP43: 26.470001 | BQ43: 26.773874 | BR43: 28.038264 | BS43: 28.636772 | BT43: 29.101512 | BU43: 29.437953 | BV43: 28.991161 | BW43: 28.836291 | BX43: 28.590009 | BY43: 27.916571 | BZ43: 27.595855 | CA43: 27.732747 | CB43: 28.674963 | CC43: 30.394484 | CD43: 33.069003 | CE43: 35.419503 | CF43: 38.866937 | CG43: 39.231704 | CH43: 39.028004 | CI43: 38.556069 | CJ43: 37.79028 | CK43: 36.430162 | CL43: 34.529252 | CM43: 34.02703 | CN43: 33.341491 | CO43: 34.134556 | CP43: 35.025721 | CQ43: 35.115141 | CR43: 33.834466 | CS43: 32.79868 | CT43: 30.922614
B45: Bulgaria | CU45: 29.25 | CV45: 27.78 | CW45: 24.62 | CX45: 24.4 | CY45: 24.31 | CZ45: 23.89 | DA45: 24.42 | DB45: 24.43 | DC45: 24.16 | DD45: 24.92 | DE45: 26.52 | DF45: 25.68 | DG45: 26.97 | DH45: 26.26 | DI45: 26.72 | DJ45: 25.92 | DK45: 25.72 | DL45: 25.49 | DM45: 25.46 | DN45: 26.83 | DO45: 28.44 | DP45: 30.4 | DQ45: 31.51 | DR45: 31.67 | DS45: 32.24 | DT45: 32.41 | DU45: 32.67 | DV45: 32.49 | DW45: 32.21 | DX45: 32.14 | DY45: 32.06 | DZ45: 32.2 | EA45: 32.72 | EB45: 33.41 | EC45: 33.69 | ED45: 33.9 | EE45: 33.1 | EF45: 32.29 | EG45: 31.69 | EH45: 29.45 | EI45: 29.25 | EJ45: 28.22 | EK45: 28.09 | EL45: 28.58 | EM45: 29.58 | EN45: 30.93 | EO45: 31.5 | EP45: 33.02 | EQ45: 34 | ER45: 32.99 | ES45: 33.68 | ET45: 33.7 | EU45: 33.04 | EV45: 29.82 | EW45: 32.76 | EX45: 33.26 | EY45: 33.78 | EZ45: 35.05 | FA45: 35.54 | FB45: 36.46 | FC45: 36.93 | FD45: 36.4 | FE45: 37.02 | FF45: 35.73 | FG45: 34.89 | FH45: 34.03 | FI45: 33.94 | FJ45: 33.84 | FK45: 33.57 | FL45: 33.45 | FM45: 32.58 | FN45: 32.53 | FO45: 31.72 | FP45: 31.14 | FQ45: 30.67 | FR45: 28.49 | FS45: 26.62 | FT45: 26.56 | FU45: 26.19 | FV45: 27.22 | FW45: 27.85 | FX45: 28.44 | FY45: 28.75 | FZ45: 28.85 | GA45: 28.66 | GB45: 28.17 | GC45: 27.29 | GD45: 25.72 | GE45: 24.73 | GF45: 24.6 | GG45: 25.03 | GH45: 25.88 | GI45: 27.14 | GJ45: 28.91 | GK45: 29.85 | GL45: 30.66 | GM45: 30.94 | GN45: 30.95 | GO45: 30.88 | GP45: 30 | GQ45: 29.33 | GR45: 28.98 | GS45: 29.31 | GT45: 29.84 | GU45: 30.6 | GV45: 31.27 | GW45: 31.84 | GX45: 32.29 | GY45: 31.99 | GZ45: 30.77 | HA45: 30.03 | HB45: 29.12 | HC45: 29.07 | HD45: 29.04 | HE45: 29.36 | HF45: 29.38 | HG45: 29.72 | HH45: 30.3 | HI45: 30.43 | HJ45: 30.83 | HK45: 30.94 | HL45: 30.93 | HM45: 30.76 | HN45: 29.96 | HO45: 29.72 | HP45: 29.44 | HQ45: 29.66 | HR45: 29.78 | HS45: 30.3 | HT45: 31.02 | HU45: 31.54 | HV45: 31.75 | HW45: 31.96 | HX45: 32 | HY45: 32 | HZ45: 31.33 | IA45: 31.2 | IB45: 30.98 | IC45: 30.94 | ID45: 31.16 | IE45: 31.16 | IF45: 31.77 | IG45: 32.14 | IH45: 32.47 | II45: 32.54 | IJ45: 32.66 | IK45: 32.68 | IL45: 32.43 | IM45: 32.44 | IN45: 32.43 | IO45: 32.51 | IP45: 32.65 | IQ45: 33.4 | IR45: 34.61 | IS45: 35.67 | IT45: 36.77 | IU45: 37.61 | IV45: 37.99 | IW45: 38.57 | IX45: 39.69 | IY45: 40.14 | IZ45: 40.82 | JA45: 42.12 | JB45: 43.32 | JC45: 45.87 | JD45: 50.06 | JE45: 51.23 | JF45: 51.75 | JG45: 51.16 | JH45: 49.45 | JI45: 47.57 | JJ45: 43.63 | JK45: 42.28 | JL45: 40.97 | JM45: 41.42 | JN45: 41.46 | JO45: 41.76 | JP45: 42.14 | JQ45: 42.46 | JR45: 44.09 | JS45: 44.77 | JT45: 44.66 | JU45: 44.14 | JV45: 43.54 | JW45: 43.11 | JX45: 42.96 | JY45: 43.23 | JZ45: 43.65 | KA45: 45.31 | KB45: 46.78 | KC45: 47.24 | KD45: 48.36 | KE45: 48.47 | KF45: 48.17 | KG45: 48.23 | KH45: 47.37 | KI45: 46.73 | KJ45: 46.92 | KK45: 47.52 | KL45: 47.58 | KM45: 48.1 | KN45: 48.37 | KO45: 48.27 | KP45: 47.65 | KQ45: 47.6 | KR45: 44.8 | KS45: 43.86 | KT45: 42.17 | KU45: 40.88 | KV45: 40.33 | KW45: 41.34 | KX45: 42.25 | KY45: =KX45-KL45 -> -5.33 | KZ45: =(KX45/KL45)-1 -> -0.11202186
B46: Romania | CU46: 23.2 | CV46: 22 | CW46: 20 | CX46: 20 | CY46: 20.84 | CZ46: 19.02 | DA46: 18.75 | DB46: 18.46 | DC46: 19.05 | DD46: 18.97 | DE46: 21 | DF46: 23 | DG46: 25.35 | DH46: 25.01 | DI46: 24.95 | DJ46: 23.25 | DK46: 22.28 | DL46: 21.53 | DM46: 21.2 | DN46: 21.17 | DO46: 23.92 | DP46: 25.46 | DQ46: 26.32 | DR46: 26.55 | DS46: 27.45 | DT46: 27.54 | DU46: 28.57 | DV46: 29.27 | DW46: 28.45 | DX46: 26.71 | DY46: 26.65 | DZ46: 27.05 | EA46: 27.32 | EB46: 29.9 | EC46: 29.4 | ED46: 30.04 | EE46: 30.04 | EF46: 29.88 | EG46: 28.86 | EH46: 27.19 | EI46: 25.46 | EJ46: 24.72 | EK46: 24.18 | EL46: 24.79 | EM46: 26.21 | EN46: 27.64 | EO46: 28.88 | EP46: 29.84 | EQ46: 30.82 | ER46: 30.56 | ES46: 30.74 | ET46: 29.22 | EU46: 28.87 | EV46: 27.12 | EW46: 27.81 | EX46: 27.77 | EY46: 29.51 | EZ46: 31.25 | FA46: 32.52 | FB46: 33.78 | FC46: 33.06 | FD46: 32.34 | FE46: 31.44 | FF46: 31.58 | FG46: 29.87 | FH46: 29.15 | FI46: 28.85 | FJ46: 29.05 | FK46: 29.19 | FL46: 30.62 | FM46: 31.04 | FN46: 30.35 | FO46: 30.01 | FP46: 28.53 | FQ46: 27.28 | FR46: 26.99 | FS46: 24.53 | FT46: 23.56 | FU46: 23.64 | FV46: 24.21 | FW46: 25.27 | FX46: 26.96 | FY46: 27.8 | FZ46: 27.01 | GA46: 27.56 | GB46: 27.01 | GC46: 26.27 | GD46: 24.63 | GE46: 21.68 | GF46: 21.79 | GG46: 22.67 | GH46: 23.59 | GI46: 25.27 | GJ46: 27.9 | GK46: 29.35 | GL46: 30.46 | GM46: 30.82 | GN46: 30.16 | GO46: 29.66 | GP46: 28.79 | GQ46: 26.9 | GR46: 26.28 | GS46: 26.66 | GT46: 26.91 | GU46: 29.46 | GV46: 31.37 | GW46: 31.29 | GX46: 31.97 | GY46: 32.11 | GZ46: 31.94 | HA46: 30.7 | HB46: 29.68 | HC46: 28.32 | HD46: 28.21 | HE46: 28.45 | HF46: 29 | HG46: 28.82 | HH46: 30.52 | HI46: 31.62 | HJ46: 32.01 | HK46: 31.46 | HL46: 31.37 | HM46: 31.04 | HN46: 30.22 | HO46: 28.7 | HP46: 28.29 | HQ46: 28.43 | HR46: 28.96 | HS46: 29.77 | HT46: 31.65 | HU46: 32.68 | HV46: 32.98 | HW46: 32.48 | HX46: 32.85 | HY46: 32.33 | HZ46: 31.74 | IA46: 29.89 | IB46: 29.19 | IC46: 29.7 | ID46: 29.73 | IE46: 30.05 | IF46: 32.21 | IG46: 32.5 | IH46: 32.43 | II46: 32.44 | IJ46: 32.7 | IK46: 33.03 | IL46: 30.76 | IM46: 31.21 | IN46: 30.28 | IO46: 30.42 | IP46: 31.34 | IQ46: 32.3 | IR46: 33.49 | IS46: 35.39 | IT46: 35.92 | IU46: 40.41 | IV46: 39.63 | IW46: 40.74 | IX46: 42.41 | IY46: 42.4 | IZ46: 44.58 | JA46: 49.1 | JB46: 46.07 | JC46: 53.02 | JD46: 53.82 | JE46: 58.48 | JF46: 58.56 | JG46: 58.27 | JH46: 56.85 | JI46: 53.56 | JJ46: 48.05 | JK46: 35.14 | JL46: 42.18 | JM46: 44.43 | JN46: 44.98 | JO46: 41.68 | JP46: 44.18 | JQ46: 44.77 | JR46: 44.86 | JS46: 45.83 | JT46: 45.87 | JU46: 45.67 | JV46: 42.11 | JW46: 41.81 | JX46: 41.23 | JY46: 41.36 | JZ46: 44.97 | KA46: 45.96 | KB46: 49.28 | KC46: 46.7 | KD46: 50.62 | KE46: 49.84 | KF46: 48.48 | KG46: 47.26 | KH46: 44.72 | KI46: 43.97 | KJ46: 41.07 | KK46: 40.93 | KL46: 44.16 | KM46: 43.81 | KN46: 44.13 | KO46: 45.04 | KP46: 45.41 | KQ46: 45.56 | KR46: 45.74 | KS46: 42.23 | KT46: 40.05 | KU46: 38.44 | KV46: 36.67 | KW46: 34.62 | KX46: 36.58 | KY46: =KX46-KL46 -> -7.58 | KZ46: =(KX46/KL46)-1 -> -0.17164855
B48: Average EU27 | CU48: 29.601923 | CV48: 28.540769 | CW48: 26.621538 | CX48: 25.529615 | CY48: 25.118462 | CZ48: 24.916923 | DA48: 24.975 | DB48: 25.422308 | DC48: 26.208846 | DD48: 27.306923 | DE48: 28.661154 | DF48: 28.983317 | DG48: 29.205769 | DH48: 29.112115 | DI48: 28.915577 | DJ48: 28.843462 | DK48: 29.028846 | DL48: 29.434975 | DM48: 29.989615 | DN48: 31.172593 | DO48: 32.398148 | DP48: 33.177963 | DQ48: 33.855185 | DR48: 33.99037 | DS48: 33.838889 | DT48: 34.076667 | DU48: 34.236667 | DV48: 34.321481 | DW48: 34.343704 | DX48: 34.344074 | DY48: 34.419259 | DZ48: 34.717037 | EA48: 35.121111 | EB48: 35.677778 | EC48: 35.860741 | ED48: 35.704444
B49: Weighted average EU27 | CU49: 29.369747 | CV49: 28.417635 | CW49: 26.465333 | CX49: 24.479485 | CY49: 24.388148 | CZ49: 24.530622 | DA49: 24.887886 | DB49: 25.66393 | DC49: 26.300578 | DD49: 26.922478 | DE49: 28.404703 | DF49: 28.308877 | DG49: 28.942473 | DH49: 28.634871 | DI49: 28.125236 | DJ49: 28.182582 | DK49: 28.726037 | DL49: 29.640061 | DM49: 30.587407 | DN49: 31.743975 | DO49: 32.674559 | DP49: 32.881979 | DQ49: 33.312989 | DR49: 33.247777 | DS49: 33.160065 | DT49: 33.298888 | DU49: 33.271363 | DV49: 32.990997 | DW49: 33.247453 | DX49: 33.790974 | DY49: 34.225898 | DZ49: 34.387244 | EA49: 34.791256 | EB49: 34.912045 | EC49: 35.10174 | ED49: 34.690722 | EE49: 34.364311 | EF49: 34.320703 | EG49: 33.454095 | EH49: 32.039191 | EI49: 31.191406 | EJ49: 30.900725 | EK49: 31.017164 | EL49: 31.23845 | EM49: 32.081431 | EN49: 33.164219 | EO49: 34.071767 | EP49: 34.189807 | EQ49: 34.33 | ER49: 34.11 | ES49: 34.07 | ET49: 34.19 | EU49: 34.25 | EV49: 35.68 | EW49: 36.32 | EX49: 36.87 | EY49: 38.44 | EZ49: 39.44 | FA49: 40.22 | FB49: 40.24 | FC49: 40.032326 | KY49: n/a | KZ49: n/a
B51: Croatia | EW51: 34.54 | EX51: 34.35 | EY51: 36.02 | EZ51: 36.49 | FA51: 37.04 | FB51: 37.76 | FC51: 37.21 | FD51: 37.21 | FE51: 36.64 | FF51: 36.64 | FG51: 36.31 | FH51: 35.69 | FI51: 34.06 | FJ51: 33.97 | FK51: 34.56 | FL51: 34.62 | FM51: 34.78 | FN51: 34.97 | FO51: 34.54 | FP51: 34 | FQ51: 34.01 | FR51: 33.27 | FS51: 32.92 | FT51: 32.24 | FU51: 30.78 | FV51: 31.05 | FW51: 31.68 | FX51: 32.04 | FY51: 32.19 | FZ51: 31.92 | GA51: 31.9 | GB51: 30.16 | GC51: 30.24 | GD51: 29.1 | GE51: 28.7 | GF51: 28.25 | GG51: 27.89 | GH51: 28.37 | GI51: 28.86 | GJ51: 30.13 | GK51: 30.71 | GL51: 31.3 | GM51: 31.69 | GN51: 31.85 | GO51: 31.37 | GP51: 31.06 | GQ51: 30.87 | GR51: 30.54 | GS51: 30.67 | GT51: 29.95 | GU51: 30.84 | GV51: 32.24 | GW51: 32.34 | GX51: 33.12 | GY51: 33.21 | GZ51: 33.4 | HA51: 33.08 | HB51: 32.33 | HC51: 31.83 | HD51: 31.6 | HE51: 32.16 | HF51: 31.65 | HG51: 33 | HH51: 33.84 | HI51: 33.69 | HJ51: 34.34 | HK51: 33.96 | HL51: 33.7 | HM51: 33.33 | HN51: 33.26 | HO51: 33.28 | HP51: 32.52 | HQ51: 32.44 | HR51: 32.41 | HS51: 32.95 | HT51: 33.65 | HU51: 34.06 | HV51: 34.35 | HW51: 34.44 | HX51: 34.01 | HY51: 33.29 | HZ51: 33.03 | IA51: 32.89 | IB51: 32.63 | IC51: 32.49 | ID51: 32.39 | IE51: 32.84 | IF51: 33.56 | IG51: 33.99 | IH51: 34.43 | II51: 33.87 | IJ51: 33.75 | IK51: 33.79 | IL51: 33.45 | IM51: 33.19 | IN51: 32.79 | IO51: 32.49 | IP51: 32.73 | IQ51: 34.24 | IR51: 35.07 | IS51: 35.04 | IT51: 35.23 | IU51: 36.14 | IV51: 35.96 | IW51: 37.66 | IX51: 38.93 | IY51: 39.81 | IZ51: 41.09 | JA51: 41.18 | JB51: 43.22 | JC51: 44.28 | JD51: 49.38 | JE51: 48.41 | JF51: 55.89 | JG51: 51.67 | JH51: 51.47 | JI51: 51.11 | JJ51: 50.68 | JK51: 50.33 | JL51: 49.69 | JM51: 49.27 | JN51: 48.68 | JO51: 48.42 | JP51: 48.77 | JQ51: 48.78 | JR51: 49.26 | JS51: 48.82 | JT51: 48.39 | JU51: 48.16 | JV51: 47.83 | JW51: 47.6 | JX51: 47.07 | JY51: 46.56 | JZ51: 46.96 | KA51: 47.67 | KB51: 49.16 | KC51: 49.56 | KD51: 49.65 | KE51: 49.75 | KF51: 49.65 | KG51: 49.16 | KH51: 48.95 | KI51: 48.66 | KJ51: 48.44 | KK51: 48.07 | KL51: 48.51 | KM51: 49.52 | KN51: 50.73 | KO51: 50.74 | KP51: 51 | KQ51: 50.61 | KR51: 49.66 | KS51: 48.94 | KT51: 48.85 | KU51: 48.43 | KV51: 47.89 | KW51: 47.64 | KX51: 47.56 | KY51: =KX51-KL51 -> -0.95 | KZ51: =(KX51/KL51)-1 -> -0.019583591
B53: Weighted average EU28 | EW53: 36.31 | EX53: 36.86 | EY53: 38.44 | EZ53: 39.4 | FA53: 40.21 | FB53: 40.21 | FC53: 40.08 | FD53: 40.01 | FE53: 39.32 | FF53: 38.22 | FG53: 37.53 | FH53: 37.56 | FI53: 36.97 | FJ53: 36.92 | FK53: 36.45 | FL53: 35.34 | FM53: 34.43 | FN53: 33.08 | FO53: 31.87 | FP53: 31.99 | FQ53: 31.69 | FR53: 31.45 | FS53: 30.73 | FT53: 30.14 | FU53: 29.92 | FV53: 29.86 | FW53: 30.1 | FX53: 30.74 | FY53: 30.94 | FZ53: 30.6 | GA53: 29.59 | GB53: 29.11 | GC53: 28.31 | GD53: 27.37 | GE53: 26.19 | GF53: 25.55 | GG53: 25.68 | GH53: 26.43 | GI53: 27.82 | GJ53: 29.93 | GK53: 31.84 | GL53: 33.06 | GM53: 33.44 | GN53: 33.38 | GO53: 33.12 | GP53: 33.17 | GQ53: 32.97 | GR53: 33.13 | GS53: 34.17 | GT53: 35.25 | GU53: 36.83 | GV53: 37.53 | GW53: 37.8 | GX53: 37.48 | GY53: 35.56 | GZ53: 34.41 | HA53: 33.57 | HB53: 32.66 | HC53: 32.09 | HD53: 32.27 | HE53: 32.94 | HF53: 33.57 | HG53: 34.83 | HH53: 35.83 | HI53: 36.07 | HJ53: 35.54 | HK53: 35.02 | HL53: 34.94 | HM53: 34.35 | HN53: 34.34 | HO53: 33.83 | HP53: 33.42 | HQ53: 33.52 | HR53: 33.63 | HS53: 34.39 | HT53: 34.92 | HU53: 35.31 | HV53: 35.32 | HW53: 34.93 | KY53: n/a | KZ53: n/a
B54: EU+UK | HX54: 34.98 | HY54: 34.14 | HZ54: 33.09 | IA54: 32.58 | IB54: 32.22 | IC54: 32.56 | ID54: 32.79 | IE54: 33.68 | IF54: 34.73 | IG54: 35.18 | IH54: 35.05 | II54: n/a | IJ54: n/a | IK54: n/a | IL54: n/a | IM54: n/a | IN54: n/a | IO54: n/a | IP54: n/a | IQ54: n/a | IR54: n/a | IS54: n/a | IT54: n/a | IU54: n/a | IV54: n/a | IW54: n/a | IX54: n/a | IY54: n/a | IZ54: n/a | JA54: n/a | JB54: n/a | JC54: n/a | JD54: n/a | JE54: n/a | JF54: n/a | JG54: n/a | JH54: n/a | JI54: n/a | JJ54: n/a | JK54: n/a | JL54: n/a | JM54: n/a | JN54: n/a | JO54: n/a | JP54: n/a | JQ54: n/a | JR54: n/a | JS54: n/a | JT54: n/a | JU54: n/a | JV54: n/a | JW54: n/a | JX54: n/a | JY54: n/a | JZ54: n/a | KA54: n/a | KB54: n/a | KC54: n/a | KD54: n/a | KE54: n/a | KF54: n/a | KG54: n/a | KH54: n/a | KI54: n/a | KJ54: n/a | KK54: n/a | KL54: n/a | KM54: n/a | KN54: n/a | KO54: n/a | KP54: n/a | KQ54: n/a | KR54: n/a | KS54: n/a | KT54: n/a | KU54: n/a | KV54: n/a | KW54: n/a | KX54: n/a | KY54: n/a | KZ54: n/a
B56: EU (ex UK) | HE56: 33.12 | HF56: 33.63 | HG56: 34.89 | HH56: 35.97 | HI56: 36.21 | HJ56: 35.83 | HK56: 35.31 | HL56: 35.23 | HM56: 34.79 | HN56: 34.58 | HO56: 34.23 | HP56: 34.03 | HQ56: 33.82 | HR56: 34.02 | HS56: 34.7 | HT56: 35.23 | HU56: 35.64 | HV56: 35.77 | HW56: 35.23 | HX56: 35.22 | HY56: 34.62 | HZ56: 33.62 | IA56: 33.02 | IB56: 32.5 | IC56: 32.78 | ID56: 33.11 | IE56: 33.95 | IF56: 35.07 | IG56: 35.33 | IH56: 35.39 | II56: 34.87 | IJ56: 34.97 | IK56: 35.17 | IL56: 35.52 | IM56: 35.72 | IN56: 35.77 | IO56: 35.99 | IP56: 36.41 | IQ56: 37.29 | IR56: 38.68 | IS56: 40.03 | IT56: 41.28 | IU56: 41.81 | IV56: 42.5 | IW56: 43.92 | IX56: 46.23 | IY56: 47.99 | IZ56: 49.4 | JA56: 51.08 | JB56: 52.37 | JC56: 54.53 | JD56: 56.64 | JE56: 57.77 | JF56: 58.25 | JG56: 55.72 | JH56: 53.32 | JI56: 50.3 | JJ56: 47.56 | JK56: 45.35 | JL56: 44.27 | JM56: 43.73 | JN56: 43.54 | JO56: 43.33 | JP56: 44.33 | JQ56: 45.46 | JR56: 46.61 | JS56: 46.48 | JT56: 46.42 | JU56: 46.46 | JV56: 46.14 | JW56: 46.01 | JX56: 46.13 | JY56: 46.55 | JZ56: 47.63 | KA56: 49.62 | KB56: 51.78 | KC56: 53.61 | KD56: 54.75 | KE56: 53.7 | KF56: 53.77 | KG56: 53.19 | KH56: 53.02 | KI56: 52.99 | KJ56: 52.89 | KK56: 52.85 | KL56: 53.22 | KM56: 53.4 | KN56: 52.4 | KO56: 50.08 | KP56: 47.98 | KQ56: 45.17 | KR56: 43.9 | KS56: 42.91 | KT56: 42.78 | KU56: 42.6 | KV56: 41.85 | KW56: 41.79 | KX56: 42.75 | KY56: =KX56-KL56 -> -10.47 | KZ56: =(KX56/KL56)-1 -> -0.19673055
B58: Figures in bold are DG Agri estimated prices | AY58: 27.59 | AZ58: 29.12
B59: Figures in blue are estimated prices by the Member State | AY59: 27.69 | AZ59: 28.95
B60: Figures in red are estimated prices based on national statistics
AY62: 26.94 | AZ62: 27.77
AY63: 26.14 | AZ63: 28.08
AY64: 26.44 | AZ64: 28.6
AY65: 27.16 | AZ65: 29.14
AY66: 27.99 | AZ66: 29.63
AY67: 27.85 | AZ67: 29.43

Sheet MMO yearly average
A2: EU farmgate milk prices
A3: Source: DG Agri/Milk Market Observatory
A4: Units: kg, litres
A5: Last updated: 28/04/2026
C8: 2001 | E8: 2002 | G8: 2003 | I8: 2004 | K8: 2005 | M8: 2006 | O8: 2007 | Q8: 2008 | S8: 2009 | U8: 2010 | W8: 2011 | Y8: 2012 | AA8: 2013 | AC8: 2014 | AE8: 2015 | AG8: 2016 | AI8: 2017 | AK8: 2018 | AM8: 2019 | AO8: 2020 | AQ8: 2021 | AS8: 2022 | AU8: 2023 | AW8: 2024 | AY8: 2025 | BW8: Jan | BX8: Feb | BY8: Mar | BZ8: Apr | CA8: May | CB8: Jun | CC8: Jul | CD8: Aug | CE8: Sep | CF8: Oct | CG8: Nov | CH8: Dec | CI8: Jan | CJ8: Feb
B9: Country | C9: Euro/100kg | D9: ppl | E9: Euro/100kg | F9: ppl | G9: Euro/100kg | H9: ppl | I9: Euro/100kg | J9: ppl | K9: Euro/100kg | L9: ppl | M9: Euro/100kg | N9: ppl | O9: Euro/100kg | P9: ppl | Q9: Euro/100kg | R9: ppl | S9: Euro/100kg | T9: ppl | U9: Euro/100kg | V9: ppl | W9: Euro/100kg | X9: ppl | Y9: Euro/100kg | Z9: ppl | AA9: Euro/100kg | AB9: ppl | AC9: Euro/100kg | AD9: ppl | AE9: Euro/100kg | AF9: ppl | AG9: Euro/100kg | AH9: ppl | AI9: Euro/100kg | AJ9: ppl | AK9: Euro/100kg | AL9: ppl | AM9: Euro/100kg | AN9: ppl | AO9: Euro/100kg | AP9: ppl | AQ9: Euro/100kg | AR9: ppl | AS9: Euro/100kg | AT9: ppl | AU9: Euro/100kg | AV9: ppl | AW9: Euro/100kg | AX9: ppl | AY9: Euro/100kg | AZ9: ppl
B10: Italy | C10: =AVERAGE('MMO - Euro100kg'!C21:N21) -> 38.5775 | D10: =AVERAGE('MMO - ppl conversion'!C17:N17) -> 24.698847 | E10: =AVERAGE('MMO - Euro100kg'!O21:Z21) -> 38.810833 | F10: =AVERAGE('MMO - ppl conversion'!O17:Z17) -> 25.120467 | G10: =AVERAGE('MMO - Euro100kg'!AA21:AL21) -> 35.15781 | H10: =AVERAGE('MMO - ppl conversion'!AA17:AL17) -> 25.0523 | I10: =AVERAGE('MMO - Euro100kg'!AM21:AX21) -> 34.991992 | J10: =AVERAGE('MMO - ppl conversion'!AM17:AX17) -> 24.442515 | K10: =AVERAGE('MMO - Euro100kg'!AY21:BJ21) -> 33.7625 | L10: =AVERAGE('MMO - ppl conversion'!AY17:BJ17) -> 23.771867 | M10: =AVERAGE('MMO - Euro100kg'!BK21:BV21) -> 32.07 | N10: =AVERAGE('MMO - ppl conversion'!BK17:BV17) -> 22.521786 | O10: =AVERAGE('MMO - Euro100kg'!BW21:CH21) -> 34.37 | P10: =AVERAGE('MMO - ppl conversion'!BW17:CH17) -> 24.254298 | Q10: =AVERAGE('MMO - Euro100kg'!CI21:CT21) -> 37.385 | R10: =AVERAGE('MMO - ppl conversion'!CI17:CT17) -> 30.623651 | S10: =AVERAGE('MMO - Euro100kg'!CU21:DF21) -> 30.568333 | T10: =AVERAGE('MMO - ppl conversion'!CU17:DF17) -> 28.080555 | U10: =AVERAGE('MMO - Euro100kg'!DG21:DR21) -> 33.831667 | V10: =AVERAGE('MMO - ppl conversion'!DG17:DR17) -> 29.892814 | W10: =AVERAGE('MMO - Euro100kg'!DS21:ED21) -> 38.4525 | X10: =AVERAGE('MMO - ppl conversion'!DS17:ED17) -> 34.359989 | Y10: =AVERAGE('MMO - Euro100kg'!EE21:EP21) -> 36.973333 | Z10: =AVERAGE('MMO - ppl conversion'!EE17:EP17) -> 30.903246 | AA10: =AVERAGE('MMO - Euro100kg'!EQ21:FB21) -> 38.824167 | AB10: =AVERAGE('MMO - ppl conversion'!EQ17:FB17) -> 33.93705 | AC10: =AVERAGE('MMO - Euro100kg'!FC21:FN21) -> 39.6425 | AD10: =AVERAGE('MMO - ppl conversion'!FC17:FN17) -> 32.941984 | AE10: =AVERAGE('MMO - Euro100kg'!FO21:FZ21) -> 34.671667 | AF10: =AVERAGE('MMO - ppl conversion'!FO17:FZ17) -> 25.936878 | AG10: =AVERAGE('MMO - Euro100kg'!GA21:GL21) -> 31.989167 | AH10: =AVERAGE('MMO - ppl conversion'!GA17:GL17) -> 26.937412 | AI10: =AVERAGE('MMO - Euro100kg'!GM21:GX21) -> 37.024167 | AJ10: =AVERAGE('MMO - ppl conversion'!GM17:GX17) -> 33.404729 | AK10: =AVERAGE('MMO - Euro100kg'!GY21:HJ21) -> 35.865833 | AL10: =AVERAGE('MMO - ppl conversion'!GY17:HJ17) -> 32.676132 | AM10: =AVERAGE('MMO - Euro100kg'!HK21:HV21) -> 39.315 | AN10: =AVERAGE('MMO - ppl conversion'!HK17:HV17) -> 35.518453 | AO10: =AVERAGE('MMO - Euro100kg'!HW21:IH21) -> 35.775833 | AP10: =AVERAGE('MMO - ppl conversion'!HW17:IH17) -> 32.73926 | AQ10: =AVERAGE('MMO - Euro100kg'!II21:IT21) -> 36.956667 | AR10: =AVERAGE('MMO - ppl conversion'!II17:IT17) -> 32.717555 | AS10: =AVERAGE('MMO - Euro100kg'!IU21:JF21) -> 48.659167 | AT10: =AVERAGE('MMO - ppl conversion'!IU17:JF17) -> 42.800066 | AU10: =AVERAGE('MMO - Euro100kg'!JG21:JR21) -> 51.850833 | AV10: =AVERAGE('MMO - ppl conversion'!JG17:JR17) -> 46.470846 | AW10: =AVERAGE('MMO - Euro100kg'!JS21:KD21) -> 51.320833 | AX10: =AVERAGE('MMO - ppl conversion'!JS17:KD17) -> 44.717896 | AY10: =AVERAGE('MMO - Euro100kg'!KE21:KP21) -> 56.965 | AZ10: =AVERAGE('MMO - ppl conversion'!KE17:KP17) -> 50.234193
B11: Finland | C11: =AVERAGE('MMO - Euro100kg'!C22:N22) -> 35.505 | D11: =AVERAGE('MMO - ppl conversion'!C12:N12) -> 22.74619 | E11: =AVERAGE('MMO - Euro100kg'!O22:Z22) -> 36.248333 | F11: =AVERAGE('MMO - ppl conversion'!O12:Z12) -> 23.475805 | G11: =AVERAGE('MMO - Euro100kg'!AA22:AL22) -> 36.2025 | H11: =AVERAGE('MMO - ppl conversion'!AA12:AL12) -> 25.798952 | I11: =AVERAGE('MMO - Euro100kg'!AM22:AX22) -> 35.3676 | J11: =AVERAGE('MMO - ppl conversion'!AM12:AX12) -> 24.720008 | K11: =AVERAGE('MMO - Euro100kg'!AY22:BJ22) -> 34.5525 | L11: =AVERAGE('MMO - ppl conversion'!AY12:BJ12) -> 24.322564 | M11: =AVERAGE('MMO - Euro100kg'!BK22:BV22) -> 35.9275 | N11: =AVERAGE('MMO - ppl conversion'!BK12:BV12) -> 25.21264 | O11: =AVERAGE('MMO - Euro100kg'!BW22:CH22) -> 37.590833 | P11: =AVERAGE('MMO - ppl conversion'!BW12:CH12) -> 26.530796 | Q11: =AVERAGE('MMO - Euro100kg'!CI22:CT22) -> 45.700833 | R11: =AVERAGE('MMO - ppl conversion'!CI12:CT12) -> 37.548582 | S11: =AVERAGE('MMO - Euro100kg'!CU22:DF22) -> 39.605833 | T11: =AVERAGE('MMO - ppl conversion'!CU12:DF12) -> 36.388644 | U11: =AVERAGE('MMO - Euro100kg'!DG22:DR22) -> 37.3475 | V11: =AVERAGE('MMO - ppl conversion'!DG12:DR12) -> 32.997509 | W11: =AVERAGE('MMO - Euro100kg'!DS22:ED22) -> 42.7025 | X11: =AVERAGE('MMO - ppl conversion'!DS12:ED12) -> 38.152039 | Y11: =AVERAGE('MMO - Euro100kg'!EE22:EP22) -> 44.965 | Z11: =AVERAGE('MMO - ppl conversion'!EE12:EP12) -> 37.556639 | AA11: =AVERAGE('MMO - Euro100kg'!EQ22:FB22) -> 45.875833 | AB11: =AVERAGE('MMO - ppl conversion'!EQ12:FB12) -> 40.095873 | AC11: =AVERAGE('MMO - Euro100kg'!FC22:FN22) -> 44.273333 | AD11: =AVERAGE('MMO - ppl conversion'!FC12:FN12) -> 36.763043 | AE11: =AVERAGE('MMO - Euro100kg'!FO22:FZ22) -> 37.594167 | AF11: =AVERAGE('MMO - ppl conversion'!FO12:FZ12) -> 28.135155 | AG11: =AVERAGE('MMO - Euro100kg'!GA22:GL22) -> 37.078333 | AH11: =AVERAGE('MMO - ppl conversion'!GA12:GL12) -> 31.235974 | AI11: =AVERAGE('MMO - Euro100kg'!GM22:GX22) -> 37.72 | AJ11: =AVERAGE('MMO - ppl conversion'!GM12:GX12) -> 34.032164 | AK11: =AVERAGE('MMO - Euro100kg'!GY22:HJ22) -> 37.916667 | AL11: =AVERAGE('MMO - ppl conversion'!GY12:HJ12) -> 34.540708 | AM11: =AVERAGE('MMO - Euro100kg'!HK22:HV22) -> 38.325 | AN11: =AVERAGE('MMO - ppl conversion'!HK12:HV12) -> 34.614978 | AO11: =AVERAGE('MMO - Euro100kg'!HW22:IH22) -> 38.813333 | AP11: =AVERAGE('MMO - ppl conversion'!HW12:IH12) -> 35.53776 | AQ11: =AVERAGE('MMO - Euro100kg'!II22:IT22) -> 39.238333 | AR11: =AVERAGE('MMO - ppl conversion'!II12:IT12) -> 34.740147 | AS11: =AVERAGE('MMO - Euro100kg'!IU22:JF22) -> 48.936667 | AT11: =AVERAGE('MMO - ppl conversion'!IU12:JF12) -> 43.027476 | AU11: =AVERAGE('MMO - Euro100kg'!JG22:JR22) -> 52.400833 | AV11: =AVERAGE('MMO - ppl conversion'!JG12:JR12) -> 46.955929 | AW11: =AVERAGE('MMO - Euro100kg'!JS22:KD22) -> 48.031667 | AX11: =AVERAGE('MMO - ppl conversion'!JS12:KD12) -> 41.85834 | AY11: =AVERAGE('MMO - Euro100kg'!KE22:KP22) -> 52.674167 | AZ11: =AVERAGE('MMO - ppl conversion'!KE12:KP12) -> 46.484
B12: Sweden | C12: =AVERAGE('MMO - Euro100kg'!C20:N20) -> 32.22 | D12: =AVERAGE('MMO - ppl conversion'!C22:N22) -> 20.637097 | E12: =AVERAGE('MMO - Euro100kg'!O20:Z20) -> 33.205833 | F12: =AVERAGE('MMO - ppl conversion'!O22:Z22) -> 21.49905 | G12: =AVERAGE('MMO - Euro100kg'!AA20:AL20) -> 33.7825 | H12: =AVERAGE('MMO - ppl conversion'!AA22:AL22) -> 24.077603 | I12: =AVERAGE('MMO - Euro100kg'!AM20:AX20) -> 32.1155 | J12: =AVERAGE('MMO - ppl conversion'!AM22:AX22) -> 22.439281 | K12: =AVERAGE('MMO - Euro100kg'!AY20:BJ20) -> 29.468333 | L12: =AVERAGE('MMO - ppl conversion'!AY22:BJ22) -> 20.753133 | M12: =AVERAGE('MMO - Euro100kg'!BK20:BV20) -> 28.653333 | N12: =AVERAGE('MMO - ppl conversion'!BK22:BV22) -> 20.118092 | O12: =AVERAGE('MMO - Euro100kg'!BW20:CH20) -> 31.3025 | P12: =AVERAGE('MMO - ppl conversion'!BW22:CH22) -> 22.121228 | Q12: =AVERAGE('MMO - Euro100kg'!CI20:CT20) -> 35.964167 | R12: =AVERAGE('MMO - ppl conversion'!CI22:CT22) -> 29.41886 | S12: =AVERAGE('MMO - Euro100kg'!CU20:DF20) -> 26.17 | T12: =AVERAGE('MMO - ppl conversion'!CU22:DF22) -> 24.035245 | U12: =AVERAGE('MMO - Euro100kg'!DG20:DR20) -> 33.678333 | V12: =AVERAGE('MMO - ppl conversion'!DG22:DR22) -> 29.740901 | W12: =AVERAGE('MMO - Euro100kg'!DS20:ED20) -> 37.868333 | X12: =AVERAGE('MMO - ppl conversion'!DS22:ED22) -> 33.82666 | Y12: =AVERAGE('MMO - Euro100kg'!EE20:EP20) -> 35.760833 | Z12: =AVERAGE('MMO - ppl conversion'!EE22:EP22) -> 29.881203 | AA12: =AVERAGE('MMO - Euro100kg'!EQ20:FB20) -> 39.600833 | AB12: =AVERAGE('MMO - ppl conversion'!EQ22:FB22) -> 34.612788 | AC12: =AVERAGE('MMO - Euro100kg'!FC20:FN20) -> 38.644167 | AD12: =AVERAGE('MMO - ppl conversion'!FC22:FN22) -> 32.131824 | AE12: =AVERAGE('MMO - Euro100kg'!FO20:FZ20) -> 31.54 | AF12: =AVERAGE('MMO - ppl conversion'!FO22:FZ22) -> 23.589112 | AG12: =AVERAGE('MMO - Euro100kg'!GA20:GL20) -> 30.645833 | AH12: =AVERAGE('MMO - ppl conversion'!GA22:GL22) -> 25.834374 | AI12: =AVERAGE('MMO - Euro100kg'!GM20:GX20) -> 37.9425 | AJ12: =AVERAGE('MMO - ppl conversion'!GM22:GX22) -> 34.24327 | AK12: =AVERAGE('MMO - Euro100kg'!GY20:HJ20) -> 34.6375 | AL12: =AVERAGE('MMO - ppl conversion'!GY22:HJ22) -> 31.561278 | AM12: =AVERAGE('MMO - Euro100kg'!HK20:HV20) -> 34.823333 | AN12: =AVERAGE('MMO - ppl conversion'!HK22:HV22) -> 31.446536 | AO12: =AVERAGE('MMO - Euro100kg'!HW20:IH20) -> 35.308333 | AP12: =AVERAGE('MMO - ppl conversion'!HW22:IH22) -> 32.333911 | AQ12: =AVERAGE('MMO - Euro100kg'!II20:IT20) -> 39.063333 | AR12: =AVERAGE('MMO - ppl conversion'!II22:IT22) -> 34.574948 | AS12: =AVERAGE('MMO - Euro100kg'!IU20:JF20) -> 50.705 | AT12: =AVERAGE('MMO - ppl conversion'!IU22:JF22) -> 44.589029 | AU12: =AVERAGE('MMO - Euro100kg'!JG20:JR20) -> 42.925 | AV12: =AVERAGE('MMO - ppl conversion'!JG22:JR22) -> 38.514455 | AW12: =AVERAGE('MMO - Euro100kg'!JS20:KD20) -> 46.776667 | AX12: =AVERAGE('MMO - ppl conversion'!JS22:KD22) -> 40.737833 | AY12: =AVERAGE('MMO - Euro100kg'!KE20:KP20) -> 55.6425 | AZ12: =AVERAGE('MMO - ppl conversion'!KE22:KP22) -> 49.057703
B13: Portugal | C13: =AVERAGE('MMO - Euro100kg'!C13:N13) -> 32.825833 | D13: =AVERAGE('MMO - ppl conversion'!C20:N20) -> 21.019341 | E13: =AVERAGE('MMO - Euro100kg'!O13:Z13) -> 32.989167 | F13: =AVERAGE('MMO - ppl conversion'!O20:Z20) -> 21.348424 | G13: =AVERAGE('MMO - Euro100kg'!AA13:AL13) -> 32.89 | H13: =AVERAGE('MMO - ppl conversion'!AA20:AL20) -> 23.432185 | I13: =AVERAGE('MMO - Euro100kg'!AM13:AX20) -> 30.42027 | J13: =AVERAGE('MMO - ppl conversion'!AM20:AX20) -> 23.318197 | K13: =AVERAGE('MMO - Euro100kg'!AY13:BJ13) -> 28.573333 | L13: =AVERAGE('MMO - ppl conversion'!AY20:BJ20) -> 20.119787 | M13: =AVERAGE('MMO - Euro100kg'!BK13:BV13) -> 27.383333 | N13: =AVERAGE('MMO - ppl conversion'!BK20:BV20) -> 19.227325 | O13: =AVERAGE('MMO - Euro100kg'!BW13:CH13) -> 31.658333 | P13: =AVERAGE('MMO - ppl conversion'!BW20:CH20) -> 22.378097 | Q13: =AVERAGE('MMO - Euro100kg'!CI13:CT13) -> 36.325 | R13: =AVERAGE('MMO - ppl conversion'!CI20:CT20) -> 29.705722 | S13: =AVERAGE('MMO - Euro100kg'!CU13:DF13) -> 29.025 | T13: =AVERAGE('MMO - ppl conversion'!CU20:DF20) -> 26.669186 | U13: =AVERAGE('MMO - Euro100kg'!DG13:DR13) -> 28.65 | V13: =AVERAGE('MMO - ppl conversion'!DG20:DR20) -> 25.337175 | W13: =AVERAGE('MMO - Euro100kg'!DS13:ED13) -> 31.244167 | X13: =AVERAGE('MMO - ppl conversion'!DS20:ED20) -> 27.911143 | Y13: =AVERAGE('MMO - Euro100kg'!EE13:EP13) -> 30.59 | Z13: =AVERAGE('MMO - ppl conversion'!EE20:EP20) -> 25.567797 | AA13: =AVERAGE('MMO - Euro100kg'!EQ13:FB13) -> 33.545833 | AB13: =AVERAGE('MMO - ppl conversion'!EQ20:FB20) -> 29.315809 | AC13: =AVERAGE('MMO - Euro100kg'!FC13:FN13) -> 34.856667 | AD13: =AVERAGE('MMO - ppl conversion'!FC20:FN20) -> 28.963657 | AE13: =AVERAGE('MMO - Euro100kg'!FO13:FZ13) -> 29.663333 | AF13: =AVERAGE('MMO - ppl conversion'!FO20:FZ20) -> 22.201175 | AG13: =AVERAGE('MMO - Euro100kg'!GA13:GL13) -> 27.769167 | AH13: =AVERAGE('MMO - ppl conversion'!GA20:GL20) -> 23.39363 | AI13: =AVERAGE('MMO - Euro100kg'!GM13:GX13) -> 29.681667 | AJ13: =AVERAGE('MMO - ppl conversion'!GM20:GX20) -> 26.789954 | AK13: =AVERAGE('MMO - Euro100kg'!GY13:HJ13) -> 30.750833 | AL13: =AVERAGE('MMO - ppl conversion'!GY20:HJ20) -> 28.014038 | AM13: =AVERAGE('MMO - Euro100kg'!HK13:HV13) -> 30.6475 | AN13: =AVERAGE('MMO - ppl conversion'!HK20:HV20) -> 27.682462 | AO13: =AVERAGE('MMO - Euro100kg'!HW13:IH13) -> 30.273333 | AP13: =AVERAGE('MMO - ppl conversion'!HW20:IH20) -> 27.715456 | AQ13: =AVERAGE('MMO - Euro100kg'!II13:IT13) -> 30.42 | AR13: =AVERAGE('MMO - ppl conversion'!II20:IT20) -> 26.934388 | AS13: =AVERAGE('MMO - Euro100kg'!IU13:JF13) -> 41.8625 | AT13: =AVERAGE('MMO - ppl conversion'!IU20:JF20) -> 36.846409 | AU13: =AVERAGE('MMO - Euro100kg'!JG13:JR13) -> 48.8125 | AV13: =AVERAGE('MMO - ppl conversion'!JG20:JR20) -> 43.757999 | AW13: =AVERAGE('MMO - Euro100kg'!JS13:KD13) -> 44.059167 | AX13: =AVERAGE('MMO - ppl conversion'!JS20:KD20) -> 38.402438 | AY13: =AVERAGE('MMO - Euro100kg'!KE13:KP13) -> 46.39 | AZ13: =AVERAGE('MMO - ppl conversion'!KE20:KP20) -> 40.9264
B14: Denmark | C14: =AVERAGE('MMO - Euro100kg'!C18:N18) -> 34.318333 | D14: =AVERAGE('MMO - ppl conversion'!C11:N11) -> 21.980223 | E14: =AVERAGE('MMO - Euro100kg'!O18:Z18) -> 34.224167 | F14: =AVERAGE('MMO - ppl conversion'!O11:Z11) -> 22.152364 | G14: =AVERAGE('MMO - Euro100kg'!AA18:AL18) -> 32.644414 | H14: =AVERAGE('MMO - ppl conversion'!AA11:AL11) -> 23.25201 | I14: =AVERAGE('MMO - Euro100kg'!AM18:AX18) -> 30.612099 | J14: =AVERAGE('MMO - ppl conversion'!AM11:AX11) -> 21.383978 | K14: =AVERAGE('MMO - Euro100kg'!AY18:BJ18) -> 29.088333 | L14: =AVERAGE('MMO - ppl conversion'!AY11:BJ11) -> 20.478635 | M14: =AVERAGE('MMO - Euro100kg'!BK18:BV18) -> 28.979167 | N14: =AVERAGE('MMO - ppl conversion'!BK11:BV11) -> 20.350092 | O14: =AVERAGE('MMO - Euro100kg'!BW18:CH18) -> 31.65 | P14: =AVERAGE('MMO - ppl conversion'!BW11:CH11) -> 22.374778 | Q14: =AVERAGE('MMO - Euro100kg'!CI18:CT18) -> 37.17 | R14: =AVERAGE('MMO - ppl conversion'!CI11:CT11) -> 30.424796 | S14: =AVERAGE('MMO - Euro100kg'!CU18:DF18) -> 27.528333 | T14: =AVERAGE('MMO - ppl conversion'!CU11:DF11) -> 25.297989 | U14: =AVERAGE('MMO - Euro100kg'!DG18:DR18) -> 31.936667 | V14: =AVERAGE('MMO - ppl conversion'!DG11:DR11) -> 28.219111 | W14: =AVERAGE('MMO - Euro100kg'!DS18:ED18) -> 35.666667 | X14: =AVERAGE('MMO - ppl conversion'!DS11:ED11) -> 31.868305 | Y14: =AVERAGE('MMO - Euro100kg'!EE18:EP18) -> 34.041667 | Z14: =AVERAGE('MMO - ppl conversion'!EE11:EP11) -> 28.451597 | AA14: =AVERAGE('MMO - Euro100kg'!EQ18:FB18) -> 38.625 | AB14: =AVERAGE('MMO - ppl conversion'!EQ11:FB11) -> 33.75263 | AC14: =AVERAGE('MMO - Euro100kg'!FC18:FN18) -> 39.666667 | AD14: =AVERAGE('MMO - ppl conversion'!FC11:FN11) -> 32.985284 | AE14: =AVERAGE('MMO - Euro100kg'!FO18:FZ18) -> 31.029167 | AF14: =AVERAGE('MMO - ppl conversion'!FO11:FZ11) -> 23.208139 | AG14: =AVERAGE('MMO - Euro100kg'!GA18:GL18) -> 28.838333 | AH14: =AVERAGE('MMO - ppl conversion'!GA11:GL11) -> 24.308342 | AI14: =AVERAGE('MMO - Euro100kg'!GM18:GX18) -> 36.901667 | AJ14: =AVERAGE('MMO - ppl conversion'!GM11:GX11) -> 33.30519 | AK14: =AVERAGE('MMO - Euro100kg'!GY18:HJ18) -> 35.956667 | AL14: =AVERAGE('MMO - ppl conversion'!GY11:HJ11) -> 32.764773 | AM14: =AVERAGE('MMO - Euro100kg'!HK18:HV18) -> 34.1775 | AN14: =AVERAGE('MMO - ppl conversion'!HK11:HV11) -> 30.873142 | AO14: =AVERAGE('MMO - Euro100kg'!HW18:IH18) -> 34.821667 | AP14: =AVERAGE('MMO - ppl conversion'!HW11:IH11) -> 31.877663 | AQ14: =AVERAGE('MMO - Euro100kg'!II18:IT18) -> 37.605 | AR14: =AVERAGE('MMO - ppl conversion'!II11:IT11) -> 33.277405 | AS14: =AVERAGE('MMO - Euro100kg'!IU18:JF18) -> 53.7575 | AT14: =AVERAGE('MMO - ppl conversion'!IU11:JF11) -> 47.282105 | AU14: =AVERAGE('MMO - Euro100kg'!JG18:JR18) -> 46.218333 | AV14: =AVERAGE('MMO - ppl conversion'!JG11:JR11) -> 41.457656 | AW14: =AVERAGE('MMO - Euro100kg'!JS18:KD18) -> 48.768333 | AX14: =AVERAGE('MMO - ppl conversion'!JS11:KD11) -> 42.480631 | AY14: =AVERAGE('MMO - Euro100kg'!KE18:KP18) -> 54.233333 | AZ14: =AVERAGE('MMO - ppl conversion'!KE11:KP11) -> 47.804947
