Workbook
Name euro100kg: 'MMO - Euro100kg'!$B$9:$DS$48
Name Jan: 'MMO - Euro100kg'!$B$9:$B$48,'MMO - Euro100kg'!$DS$9:$DS$48
Name pplconversion: 'MMO - ppl conversion'!$B$9:$DS$48

Sheet MMO - ppl conversion
JK1: 45047 | JL1: 45047 | JM1: 45047 | JN1: 45047 | JO1: 45047 | JP1: 45047 | JQ1: 45047 | JR1: 45047 | JS1: 45047 | JT1: 45047
A2: EU farmgate milk prices
A3: Source: DG Agri/Milk Market Observatory
A4: Units: Pence per litre
A5: Last updated: 22/10/2026
BW7: Jan | BX7: Feb | BY7: Mar | BZ7: Apr | CA7: May | CB7: Jun | CC7: Jul | CD7: Aug | CE7: Sep | CF7: Oct | CG7: Nov | CH7: Dec | CI7: Jan | CJ7: Feb | CK7: Mar | CL7: Apr | CM7: May | EQ7: Jan | ER7: Feb | ES7: Mar | ET7: Apr | EU7: May | EV7: Jun | EW7: Jul | EX7: Aug | EY7: Sep | EZ7: Oct | FA7: Nov | FB7: Dec
B8: Country | C8: 36892 | D8: 36923 | E8: 36951 | F8: 36982 | G8: 37012 | H8: 37043 | I8: 37073 | J8: 37104 | K8: 37135 | L8: 37165 | M8: 37196 | N8: 37226 | O8: 37257 | P8: 37288 | Q8: 37316 | R8: 37347 | S8: 37377 | T8: 37408 | U8: 37438 | V8: 37469 | W8: 37500 | X8: 37530 | Y8: 37561 | Z8: 37591 | AA8: 37622 | AB8: 37653 | AC8: 37681 | AD8: 37712 | AE8: 37742 | AF8: 37773 | AG8: 37803 | AH8: 37834 | AI8: 37865 | AJ8: 37895 | AK8: 37926 | AL8: 37956 | AM8: 37987 | AN8: 38018 | AO8: 38047 | AP8: 38078 | AQ8: 38108 | AR8: 38139 | AS8: 38169 | AT8: 38200 | AU8: 38231 | AV8: 38261 | AW8: 38292 | AX8: 38322 | AY8: 38353 | AZ8: 38384 | BA8: 38412 | BB8: 38443 | BC8: 38473 | BD8: 38504 | BE8: 38534 | BF8: 38565 | BG8: 38596 | BH8: 38626 | BI8: 38657 | BJ8: 38687 | BK8: 38718 | BL8: 38749 | BM8: 38777 | BN8: 38808 | BO8: 38838 | BP8: 38869 | BQ8: 38899 | BR8: 38930 | BS8: 38961 | BT8: 38991 | BU8: 39022 | BV8: 39052 | BW8: 39083 | BX8: 39114 | BY8: 39142 | BZ8: 39173 | CA8: 39203 | CB8: 39234 | CC8: 39264 | CD8: 39295 | CE8: 39326 | CF8: 39356 | CG8: 39387 | CH8: 39417 | CI8: 39448 | CJ8: 39479 | CK8: 39508 | CL8: 39539 | CM8: 39569 | CN8: 39600 | CO8: 39630 | CP8: 39661 | CQ8: 39692 | CR8: 39722 | CS8: 39753 | CT8: 39783 | CU8: 39814 | CV8: 39845 | CW8: 39873 | CX8: 39904 | CY8: 39934 | CZ8: 39965 | DA8: 39995 | DB8: 40026 | DC8: 40057 | DD8: 40087 | DE8: 40118 | DF8: 40148 | DG8: 40179 | DH8: 40210 | DI8: 40238 | DJ8: 40269 | DK8: 40299 | DL8: 40330 | DM8: 40360 | DN8: 40391 | DO8: 40422 | DP8: 40452 | DQ8: 40483 | DR8: 40513 | DS8: 40544 | DT8: 40575 | DU8: 40603 | DV8: 40634 | DW8: 40664 | DX8: 40695 | DY8: 40725 | DZ8: 40756 | EA8: 40787 | EB8: 40817 | EC8: 40848 | ED8: 40878 | EE8: 40909 | EF8: 40940 | EG8: 40969 | EH8: 41000 | EI8: 41030 | EJ8: 41061 | EK8: 41091 | EL8: 41122 | EM8: 41153 | EN8: 41183 | EO8: 41214 | EP8: 41244 | EQ8: 41275 | ER8: 41306 | ES8: 41334 | ET8: 41365 | EU8: 41395 | EV8: 41426 | EW8: 41456 | EX8: 41487 | EY8: 41518 | EZ8: 41548 | FA8: 41579 | FB8: 41609 | FC8: 41640 | FD8: 41671 | FE8: 41699 | FF8: 41730 | FG8: 41760 | FH8: 41791 | FI8: 41821 | FJ8: 41852 | FK8: 41883 | FL8: 41913 | FM8: 41944 | FN8: 41974 | FO8: 42005 | FP8: 42036 | FQ8: 42064 | FR8: 42095 | FS8: 42125 | FT8: 42156 | FU8: 42186 | FV8: 42217 | FW8: 42248 | FX8: 42278 | FY8: 42309 | FZ8: 42339 | GA8: 42370 | GB8: 42401 | GC8: 42430 | GD8: 42461 | GE8: 42491 | GF8: 42522 | GG8: 42552 | GH8: 42583 | GI8: 42614 | GJ8: 42644 | GK8: 42675 | GL8: 42705 | GM8: 42736 | GN8: 42767 | GO8: 42795 | GP8: 42826 | GQ8: 42856 | GR8: 42887 | GS8: 42917 | GT8: 42948 | GU8: 42979 | GV8: 43009 | GW8: 43040 | GX8: 43070 | GY8: 43101 | GZ8: 43132 | HA8: 43160 | HB8: 43191 | HC8: 43221 | HD8: 43252 | HE8: 43282 | HF8: 43313 | HG8: 43344 | HH8: 43374 | HI8: 43405 | HJ8: 43435 | HK8: 43466 | HL8: 43497 | HM8: 43525 | HN8: 43556 | HO8: 43586 | HP8: 43617 | HQ8: 43647 | HR8: 43678 | HS8: 43709 | HT8: 43739 | HU8: 43770 | HV8: 43800 | HW8: 43831 | HX8: 43862 | HY8: 43891 | HZ8: 43922 | IA8: 43952 | IB8: 43983 | IC8: 44013 | ID8: 44044 | IE8: 44075 | IF8: 44105 | IG8: 44136 | IH8: 44166 | II8: 44197 | IJ8: 44228 | IK8: 44256 | IL8: 44287 | IM8: 44317 | IN8: 44348 | IO8: 44378 | IP8: 44409 | IQ8: 44440 | IR8: 44470 | IS8: 44501 | IT8: 44531 | IU8: 44562 | IV8: 44593 | IW8: 44621 | IX8: 44652 | IY8: 44682 | IZ8: 44713 | JA8: 44743 | JB8: 44774 | JC8: 44805 | JD8: 44835 | JE8: 44866 | JF8: 44896 | JG8: 44927 | JH8: 44958 | JI8: 44986 | JJ8: 45017 | JK8: 45047 | JL8: 45078 | JM8: 45108 | JN8: 45139 | JO8: 45170 | JP8: 45200 | JQ8: 45231 | JR8: 45261 | JS8: 45292 | JT8: 45323 | JU8: 45352 | JV8: 45383 | JW8: 45413 | JX8: 45444 | JY8: 45474 | JZ8: 45505 | KA8: 45536 | KB8: 45566 | KC8: 45597 | KD8: 45627 | KE8: 45658 | KF8: 45689 | KG8: 45717 | KH8: 45748 | KI8: 45778 | KJ8: 45809 | KK8: 45839 | KL8: 45870 | KM8: 45901 | KN8: 45931 | KO8: 45962 | KP8: 45992 | KQ8: 46023 | KR8: 46054 | KS8: 46082 | KT8: 46113 | KU8: 46143 | KV8: 46174 | KW8: 46204 | KX8: 46235 | KY8: Year-on-year change | KZ8: Year-on-year % change
B9: Austria | C9: =(('MMO - Euro100kg'!C19/0.97116)*C$65) -> 20.4751 | D9: =(('MMO - Euro100kg'!D19/0.97116)*D$65) -> 20.629369 | E9: =(('MMO - Euro100kg'!E19/0.97116)*E$65) -> 20.446017 | F9: =(('MMO - Euro100kg'!F19/0.97116)*F$65) -> 20.420257 | G9: =(('MMO - Euro100kg'!G19/0.97116)*G$65) -> 20.17019 | H9: =(('MMO - Euro100kg'!H19/0.97116)*H$65) -> 20.315219 | I9: =(('MMO - Euro100kg'!I19/0.97116)*I$65) -> 20.526013 | J9: =(('MMO - Euro100kg'!J19/0.97116)*J$65) -> 21.539933 | ... KX9: =(('MMO - Euro100kg'!KX19/0.97116)*KX$65) -> 40.019592 | KY9: =KX9-KL9 -> -10.801441 | KZ9: =(KX9/KL9)-1 -> -0.21253879
B10: Belgium | C10: =(('MMO - Euro100kg'!C9/0.97116)*C$65) -> 21.619143 | D10: =(('MMO - Euro100kg'!D9/0.97116)*D$65) -> 20.60979 | E10: =(('MMO - Euro100kg'!E9/0.97116)*E$65) -> 19.49308 | F10: =(('MMO - Euro100kg'!F9/0.97116)*F$65) -> 18.56387 | G10: =(('MMO - Euro100kg'!G9/0.97116)*G$65) -> 18.134203 | H10: =(('MMO - Euro100kg'!H9/0.97116)*H$65) -> 17.7766 | I10: =(('MMO - Euro100kg'!I9/0.97116)*I$65) -> 18.810294 | J10: =(('MMO - Euro100kg'!J9/0.97116)*J$65) -> 20.345423 | ... KX10: =(('MMO - Euro100kg'!KX9/0.97116)*KX$65) -> 34.721844 | KY10: =KX10-KL10 -> -11.145385 | KZ10: =(KX10/KL10)-1 -> -0.24299234
B11: Denmark | C11: =(('MMO - Euro100kg'!C18/0.97116)*C$65) -> 22.593214 | D11: =(('MMO - Euro100kg'!D18/0.97116)*D$65) -> 22.476288 | E11: =(('MMO - Euro100kg'!E18/0.97116)*E$65) -> 22.494508 | F11: =(('MMO - Euro100kg'!F18/0.97116)*F$65) -> 21.956577 | G11: =(('MMO - Euro100kg'!G18/0.97116)*G$65) -> 21.352581 | H11: =(('MMO - Euro100kg'!H18/0.97116)*H$65) -> 21.023525 | I11: =(('MMO - Euro100kg'!I18/0.97116)*I$65) -> 20.857885 | J11: =(('MMO - Euro100kg'!J18/0.97116)*J$65) -> 21.598045 | ... KX11: =(('MMO - Euro100kg'!KX18/0.97116)*KX$65) -> 39.146918 | KY11: =KX11-KL11 -> -10.747504 | KZ11: =(KX11/KL11)-1 -> -0.21540492
B12: Finland | C12: =(('MMO - Euro100kg'!C22/0.97116)*C$65) -> 23.58036 | D12: =(('MMO - Euro100kg'!D22/0.97116)*D$65) -> 23.690164 | E12: =(('MMO - Euro100kg'!E22/0.97116)*E$65) -> 20.899797 | F12: =(('MMO - Euro100kg'!F22/0.97116)*F$65) -> 20.77233 | G12: =(('MMO - Euro100kg'!G22/0.97116)*G$65) -> 19.986825 | H12: =(('MMO - Euro100kg'!H22/0.97116)*H$65) -> 19.6884 | I12: =(('MMO - Euro100kg'!I22/0.97116)*I$65) -> 21.114617 | J12: =(('MMO - Euro100kg'!J22/0.97116)*J$65) -> 23.71588 | ... KX12: =(('MMO - Euro100kg'!KX22/0.97116)*KX$65) -> 42.064646 | KY12: =KX12-KL12 -> -4.417354 | KZ12: =(KX12/KL12)-1 -> -0.095033648
B13: France | C13: =(('MMO - Euro100kg'!C10/0.97116)*C$65) -> 21.553769 | D13: =(('MMO - Euro100kg'!D10/0.97116)*D$65) -> 20.942627 | E13: =(('MMO - Euro100kg'!E10/0.97116)*E$65) -> 19.674592 | F13: =(('MMO - Euro100kg'!F10/0.97116)*F$65) -> 18.429442 | G13: =(('MMO - Euro100kg'!G10/0.97116)*G$65) -> 18.039358 | H13: =(('MMO - Euro100kg'!H10/0.97116)*H$65) -> 17.958378 | I13: =(('MMO - Euro100kg'!I10/0.97116)*I$65) -> 19.286186 | J13: =(('MMO - Euro100kg'!J10/0.97116)*J$65) -> 20.971734 | ... KX13: =(('MMO - Euro100kg'!KX10/0.97116)*KX$65) -> 39.305586 | KY13: =KX13-KL13 -> -5.1449982 | KZ13: =(KX13/KL13)-1 -> -0.11574647
B14: Germany | C14: =(('MMO - Euro100kg'!C14/0.97116)*C$65) -> 21.749891 | D14: =(('MMO - Euro100kg'!D14/0.97116)*D$65) -> 21.38641 | E14: =(('MMO - Euro100kg'!E14/0.97116)*E$65) -> 21.01 | F14: =(('MMO - Euro100kg'!F14/0.97116)*F$65) -> 20.6251 | G14: =(('MMO - Euro100kg'!G14/0.97116)*G$65) -> 20.473692 | H14: =(('MMO - Euro100kg'!H14/0.97116)*H$65) -> 20.453119 | I14: =(('MMO - Euro100kg'!I14/0.97116)*I$65) -> 20.939288 | J14: =(('MMO - Euro100kg'!J14/0.97116)*J$65) -> 22.211442 | ... KX14: =(('MMO - Euro100kg'!KX14/0.97116)*KX$65) -> 36.273264 | KY14: =KX14-KL14 -> -12.070867 | KZ14: =(KX14/KL14)-1 -> -0.24968629
B15: Greece | C15: =(('MMO - Euro100kg'!C23/0.97116)*C$65) -> 21.573381 | D15: =(('MMO - Euro100kg'!D23/0.97116)*D$65) -> 21.536513 | E15: =(('MMO - Euro100kg'!E23/0.97116)*E$65) -> 21.042413 | F15: =(('MMO - Euro100kg'!F23/0.97116)*F$65) -> 20.778732 | G15: =(('MMO - Euro100kg'!G23/0.97116)*G$65) -> 20.966881 | H15: =(('MMO - Euro100kg'!H23/0.97116)*H$65) -> 20.628629 | I15: =(('MMO - Euro100kg'!I23/0.97116)*I$65) -> 20.80153 | J15: =(('MMO - Euro100kg'!J23/0.97116)*J$65) -> 21.40434 | ... KX15: =(('MMO - Euro100kg'!KX23/0.97116)*KX$65) -> 48.684627 | KY15: =KX15-KL15 -> -1.0226911 | KZ15: =(KX15/KL15)-1 -> -0.020574256
B16: Ireland | C16: =(('MMO - Euro100kg'!C12/0.97116)*C$65) -> 18.978038 | D16: =(('MMO - Euro100kg'!D12/0.97116)*D$65) -> 18.29951 | E16: =(('MMO - Euro100kg'!E12/0.97116)*E$65) -> 17.6261 | F16: =(('MMO - Euro100kg'!F12/0.97116)*F$65) -> 17.206787 | G16: =(('MMO - Euro100kg'!G12/0.97116)*G$65) -> 17.413387 | H16: =(('MMO - Euro100kg'!H12/0.97116)*H$65) -> 17.481995 | I16: =(('MMO - Euro100kg'!I12/0.97116)*I$65) -> 17.608038 | J16: =(('MMO - Euro100kg'!J12/0.97116)*J$65) -> 18.711849 | ... KX16: =(('MMO - Euro100kg'!KX12/0.97116)*KX$65) -> 35.955928 | KY16: =KX16-KL16 -> -9.813294 | KZ16: =(KX16/KL16)-1 -> -0.21440814
B17: Italy | C17: =(('MMO - Euro100kg'!C21/0.97116)*C$65) -> 24.057589 | D17: =(('MMO - Euro100kg'!D21/0.97116)*D$65) -> 24.016475 | E17: =(('MMO - Euro100kg'!E21/0.97116)*E$65) -> 23.855847 | F17: =(('MMO - Euro100kg'!F21/0.97116)*F$65) -> 25.074027 | G17: =(('MMO - Euro100kg'!G21/0.97116)*G$65) -> 24.76697 | H17: =(('MMO - Euro100kg'!H21/0.97116)*H$65) -> 24.552519 | I17: =(('MMO - Euro100kg'!I21/0.97116)*I$65) -> 24.52727 | J17: =(('MMO - Euro100kg'!J21/0.97116)*J$65) -> 25.291343 | ... KX17: =(('MMO - Euro100kg'!KX21/0.97116)*KX$65) -> 40.786487 | KY17: =KX17-KL17 -> -11.112621 | KZ17: =(KX17/KL17)-1 -> -0.2141197
B18: Luxembourg | C18: =(('MMO - Euro100kg'!C15/0.97116)*C$65) -> 22.462466 | D18: =(('MMO - Euro100kg'!D15/0.97116)*D$65) -> 21.419041 | E18: =(('MMO - Euro100kg'!E15/0.97116)*E$65) -> 20.536773 | F18: =(('MMO - Euro100kg'!F15/0.97116)*F$65) -> 19.556077 | G18: =(('MMO - Euro100kg'!G15/0.97116)*G$65) -> 19.234395 | H18: =(('MMO - Euro100kg'!H15/0.97116)*H$65) -> 19.588109 | I18: =(('MMO - Euro100kg'!I15/0.97116)*I$65) -> 20.30059 | J18: =(('MMO - Euro100kg'!J15/0.97116)*J$65) -> 22.037108 | ... IG18: =(('MMO - Euro100kg'!IG15/0.97116)*IG$65) -> 33.141489 | IH18: =IFERROR("n/a",(('MMO - Euro100kg'!IH18/0.97116)*IH$65)) -> n/a | II18: =IFERROR("n/a",(('MMO - Euro100kg'!II18/0.97116)*II$65)) -> n/a | IJ18: =IFERROR("n/a",(('MMO - Euro100kg'!IJ18/0.97116)*IJ$65)) -> n/a | IK18: =IFERROR("n/a",(('MMO - Euro100kg'!IK18/0.97116)*IK$65)) -> n/a | IL18: =IFERROR("n/a",(('MMO - Euro100kg'!IL18/0.97116)*IL$65)) -> n/a | IM18: =IFERROR("n/a",(('MMO - Euro100kg'!IM18/0.97116)*IM$65)) -> n/a | IN18: =IFERROR("n/a",(('MMO - Euro100kg'!IN18/0.97116)*IN$65)) -> n/a | IO18: =IFERROR("n/a",(('MMO - Euro100kg'!IO18/0.97116)*IO$65)) -> n/a | ... KX18: =IFERROR("n/a",(('MMO - Euro100kg'!KX18/0.97116)*KX$65)) -> n/a | KY18: n/a | KZ18: n/a
B19: Netherlands | C19: =(('MMO - Euro100kg'!C17/0.97116)*C$65) -> 21.553769 | D19: =(('MMO - Euro100kg'!D17/0.97116)*D$65) -> 20.942627 | E19: =(('MMO - Euro100kg'!E17/0.97116)*E$65) -> 19.992237 | F19: =(('MMO - Euro100kg'!F17/0.97116)*F$65) -> 19.882545 | G19: =(('MMO - Euro100kg'!G17/0.97116)*G$65) -> 19.74023 | H19: =(('MMO - Euro100kg'!H17/0.97116)*H$65) -> 20.334024 | I19: =(('MMO - Euro100kg'!I17/0.97116)*I$65) -> 19.58675 | J19: =(('MMO - Euro100kg'!J17/0.97116)*J$65) -> 23.864387 | ... KX19: =(('MMO - Euro100kg'!KX17/0.97116)*KX$65) -> 37.463274 | KY19: =KX19-KL19 -> -12.653891 | KZ19: =(KX19/KL19)-1 -> -0.25248616
B20: Portugal | C20: =(('MMO - Euro100kg'!C13/0.97116)*C$65) -> 20.618923 | D20: =(('MMO - Euro100kg'!D13/0.97116)*D$65) -> 20.799051 | E20: =(('MMO - Euro100kg'!E13/0.97116)*E$65) -> 20.770145 | F20: =(('MMO - Euro100kg'!F13/0.97116)*F$65) -> 20.637902 | G20: =(('MMO - Euro100kg'!G13/0.97116)*G$65) -> 20.467369 | H20: =(('MMO - Euro100kg'!H13/0.97116)*H$65) -> 20.196123 | I20: =(('MMO - Euro100kg'!I13/0.97116)*I$65) -> 20.745174 | J20: =(('MMO - Euro100kg'!J13/0.97116)*J$65) -> 21.333315 | ... KX20: =(('MMO - Euro100kg'!KX13/0.97116)*KX$65) -> 37.498534 | KY20: =KX20-KL20 -> -3.2990658 | KZ20: =(KX20/KL20)-1 -> -0.080864214
B21: Spain | C21: =(('MMO - Euro100kg'!C11/0.97116)*C$65) -> 19.736375 | D21: =(('MMO - Euro100kg'!D11/0.97116)*D$65) -> 19.891907 | E21: =(('MMO - Euro100kg'!E11/0.97116)*E$65) -> 19.856103 | F21: =(('MMO - Euro100kg'!F11/0.97116)*F$65) -> 19.376839 | G21: =(('MMO - Euro100kg'!G11/0.97116)*G$65) -> 19.284978 | H21: =(('MMO - Euro100kg'!H11/0.97116)*H$65) -> 19.030239 | I21: =(('MMO - Euro100kg'!I11/0.97116)*I$65) -> 19.536656 | J21: =(('MMO - Euro100kg'!J11/0.97116)*J$65) -> 19.757852 | ... KX21: =(('MMO - Euro100kg'!KX11/0.97116)*KX$65) -> 40.134185 | KY21: =KX21-KL21 -> -4.7618847 | KZ21: =(KX21/KL21)-1 -> -0.10606462
B22: Sweden | C22: =(('MMO - Euro100kg'!C20/0.97116)*C$65) -> 21.841414 | D22: =(('MMO - Euro100kg'!D20/0.97116)*D$65) -> 21.556092 | E22: =(('MMO - Euro100kg'!E20/0.97116)*E$65) -> 20.990553 | F22: =(('MMO - Euro100kg'!F20/0.97116)*F$65) -> 19.984966 | G22: =(('MMO - Euro100kg'!G20/0.97116)*G$65) -> 20.498983 | H22: =(('MMO - Euro100kg'!H20/0.97116)*H$65) -> 20.039419 | I22: =(('MMO - Euro100kg'!I20/0.97116)*I$65) -> 19.805912 | J22: =(('MMO - Euro100kg'!J20/0.97116)*J$65) -> 20.874881 | ... KX22: =(('MMO - Euro100kg'!KX20/0.97116)*KX$65) -> 39.587662 | KY22: =KX22-KL22 -> -8.9524825 | KZ22: =(KX22/KL22)-1 -> -0.18443461
B23: United Kingdom | C23: =(('MMO - Euro100kg'!C16/0.97116)*C$65) -> 18.324299 | D23: =(('MMO - Euro100kg'!D16/0.97116)*D$65) -> 18.182038 | E23: =(('MMO - Euro100kg'!E16/0.97116)*E$65) -> 17.898368 | F23: =(('MMO - Euro100kg'!F16/0.97116)*F$65) -> 18.448646 | G23: =(('MMO - Euro100kg'!G16/0.97116)*G$65) -> 17.893931 | H23: =(('MMO - Euro100kg'!H16/0.97116)*H$65) -> 18.691757 | I23: =(('MMO - Euro100kg'!I16/0.97116)*I$65) -> 19.843482 | J23: =(('MMO - Euro100kg'!J16/0.97116)*J$65) -> 21.494736 | ... IH23: =(('MMO - Euro100kg'!IH16/0.97116)*IH$65) -> 30.365105 | II23: ⴕ | IJ23: ⴕ | IK23: ⴕ | IL23: ⴕ | IM23: ⴕ | IN23: ⴕ | IO23: ⴕ | IP23: ⴕ | IQ23: ⴕ | IR23: ⴕ | IS23: ⴕ | IT23: ⴕ | IU23: ⴕ | IV23: ⴕ | IW23: ⴕ | IX23: ⴕ | IY23: ⴕ | IZ23: ⴕ | JA23: ⴕ | JB23: ⴕ | JC23: ⴕ | JD23: ⴕ | JE23: ⴕ | JF23: ⴕ | JG23: ⴕ | JH23: ⴕ | JI23: ⴕ | JJ23: ⴕ | JK23: ⴕ | JL23: ⴕ | JM23: ⴕ | JN23: ⴕ | JO23: ⴕ | JP23: ⴕ | JQ23: ⴕ | JR23: ⴕ | JS23: ⴕ | JT23: ⴕ | JU23: ⴕ | JV23: ⴕ | JW23: ⴕ | JX23: ⴕ | JY23: ⴕ | JZ23: ⴕ | KA23: ⴕ | KB23: ⴕ | KC23: ⴕ | KD23: ⴕ | KE23: ⴕ | KF23: ⴕ | KG23: ⴕ | KH23: ⴕ | KI23: ⴕ | KJ23: ⴕ | KK23: ⴕ | KL23: ⴕ | KM23: ⴕ | KN23: ⴕ | KO23: ⴕ | KP23: ⴕ | KQ23: ⴕ | KR23: ⴕ | KS23: ⴕ | KT23: ⴕ | KU23: ⴕ | KV23: ⴕ | KW23: ⴕ | KX23: ⴕ | KY23: n/a | KZ23: n/a
B25: Average EU15 | C25: =(('MMO - Euro100kg'!C25/0.97116)*C$65) -> 22.239261 | D25: =(('MMO - Euro100kg'!D25/0.97116)*D$65) -> 22.121076 | E25: =(('MMO - Euro100kg'!E25/0.97116)*E$65) -> 21.388768 | F25: =(('MMO - Euro100kg'!F25/0.97116)*F$65) -> 21.267062 | G25: =(('MMO - Euro100kg'!G25/0.97116)*G$65) -> 21.068952 | H25: =(('MMO - Euro100kg'!H25/0.97116)*H$65) -> 20.940248 | I25: =(('MMO - Euro100kg'!I25/0.97116)*I$65) -> 21.031425 | J25: =(('MMO - Euro100kg'!J25/0.97116)*J$65) -> 22.612687 | ... EV25: =(('MMO - Euro100kg'!EV25/0.97116)*EV$65) -> 32.419025
B26: Weighted average EU15 | AA26: =(('MMO - Euro100kg'!AA26/0.97116)*AA$65) -> 21.036067 | AB26: =(('MMO - Euro100kg'!AB26/0.97116)*AB$65) -> 21.063771 | AC26: =(('MMO - Euro100kg'!AC26/0.97116)*AC$65) -> 20.827644 | AD26: =(('MMO - Euro100kg'!AD26/0.97116)*AD$65) -> 20.445989 | AE26: =(('MMO - Euro100kg'!AE26/0.97116)*AE$65) -> 20.799769 | AF26: =(('MMO - Euro100kg'!AF26/0.97116)*AF$65) -> 20.465243 | AG26: =(('MMO - Euro100kg'!AG26/0.97116)*AG$65) -> 20.908277 | AH26: =(('MMO - Euro100kg'!AH26/0.97116)*AH$65) -> 21.715688 | ... HU26: =(('MMO - Euro100kg'!HU26/0.97116)*HU$65) -> 0 | HV26: n/a | HW26: n/a | HX26: n/a | HY26: n/a | HZ26: n/a | IA26: n/a | IB26: n/a | IC26: n/a | ID26: n/a | IE26: n/a | IF26: n/a | IG26: n/a | IH26: n/a | II26: n/a | IJ26: n/a | IK26: n/a | IL26: n/a | IM26: n/a | IN26: n/a | IO26: n/a | IP26: n/a | IQ26: n/a | IR26: n/a | IS26: n/a | IT26: n/a | IU26: n/a | IV26: n/a | IW26: n/a | IX26: n/a | IY26: n/a | IZ26: n/a | JA26: n/a | JB26: n/a | JC26: n/a | JD26: n/a | JE26: n/a | JF26: n/a | JG26: n/a | JH26: n/a | JI26: n/a | JJ26: n/a | JK26: n/a | JL26: n/a | JM26: n/a | JN26: n/a | JO26: n/a | JP26: n/a | JQ26: n/a | JR26: n/a | JS26: n/a | JT26: n/a | JU26: n/a | JV26: n/a | JW26: n/a | JX26: n/a | JY26: n/a | JZ26: n/a | KA26: n/a | KB26: n/a | KC26: n/a | KD26: n/a | KE26: n/a | KF26: n/a | KG26: n/a | KH26: n/a | KI26: n/a | KJ26: n/a | KK26: n/a | KL26: n/a | KM26: n/a | KN26: n/a | KO26: n/a | KP26: n/a | KQ26: n/a | KR26: n/a | KS26: n/a | KT26: n/a | KU26: n/a | KV26: n/a | KW26: n/a | KX26: n/a | KY26: n/a | KZ26: n/a
B28: Czech Rep. | O28: =(('MMO - Euro100kg'!O28/0.97116)*O$65) -> 15.908695 | P28: =(('MMO - Euro100kg'!P28/0.97116)*P$65) -> 15.87026 | Q28: =(('MMO - Euro100kg'!Q28/0.97116)*Q$65) -> 16.146421 | R28: =(('MMO - Euro100kg'!R28/0.97116)*R$65) -> 16.644156 | S28: =(('MMO - Euro100kg'!S28/0.97116)*S$65) -> 16.776958 | T28: =(('MMO - Euro100kg'!T28/0.97116)*T$65) -> 17.220274 | U28: =(('MMO - Euro100kg'!U28/0.97116)*U$65) -> 17.326315 | V28: =(('MMO - Euro100kg'!V28/0.97116)*V$65) -> 16.581792 | ... KX28: =(('MMO - Euro100kg'!KX28/0.97116)*KX$65) -> 34.880512 | KY28: =KX28-KL28 -> -13.071591 | KZ28: =(KX28/KL28)-1 -> -0.27259683
B29: Estonia | AA29: =(('MMO - Euro100kg'!AA29/0.97116)*AA$65) -> 12.019222 | AB29: =(('MMO - Euro100kg'!AB29/0.97116)*AB$65) -> 12.065586 | AC29: =(('MMO - Euro100kg'!AC29/0.97116)*AC$65) -> 12.379164 | AD29: =(('MMO - Euro100kg'!AD29/0.97116)*AD$65) -> 12.37423 | AE29: =(('MMO - Euro100kg'!AE29/0.97116)*AE$65) -> 12.890715 | AF29: =(('MMO - Euro100kg'!AF29/0.97116)*AF$65) -> 12.882142 | AG29: =(('MMO - Euro100kg'!AG29/0.97116)*AG$65) -> 12.81713 | AH29: =(('MMO - Euro100kg'!AH29/0.97116)*AH$65) -> 12.653955 | ... KX29: =(('MMO - Euro100kg'!KX29/0.97116)*KX$65) -> 33.822725 | KY29: =KX29-KL29 -> -10.5744 | KZ29: =(KX29/KL29)-1 -> -0.23817759
B30: Cyprus | AA30: =(('MMO - Euro100kg'!AA30/0.97116)*AA$65) -> 24.599522 | AB30: =(('MMO - Euro100kg'!AB30/0.97116)*AB$65) -> 24.853456 | AC30: =(('MMO - Euro100kg'!AC30/0.97116)*AC$65) -> 25.43394 | AD30: =(('MMO - Euro100kg'!AD30/0.97116)*AD$65) -> 26.281928 | AE30: =(('MMO - Euro100kg'!AE30/0.97116)*AE$65) -> 26.758891 | AF30: =(('MMO - Euro100kg'!AF30/0.97116)*AF$65) -> 26.134626 | AG30: =(('MMO - Euro100kg'!AG30/0.97116)*AG$65) -> 26.392884 | AH30: =(('MMO - Euro100kg'!AH30/0.97116)*AH$65) -> 26.280737 | ... KX30: =(('MMO - Euro100kg'!KX30/0.97116)*KX$65) -> 57.693442 | KY30: =KX30-KL30 -> 0.84944024 | KZ30: =(KX30/KL30)-1 -> 0.014943357
B31: Latvia | AA31: =(('MMO - Euro100kg'!AA31/0.97116)*AA$65) -> 9.2138357 | AB31: =(('MMO - Euro100kg'!AB31/0.97116)*AB$65) -> 9.5685463 | AC31: =(('MMO - Euro100kg'!AC31/0.97116)*AC$65) -> 9.7330213 | AD31: =(('MMO - Euro100kg'!AD31/0.97116)*AD$65) -> 9.7474574 | AE31: =(('MMO - Euro100kg'!AE31/0.97116)*AE$65) -> 9.7893003 | AF31: =(('MMO - Euro100kg'!AF31/0.97116)*AF$65) -> 9.5345275 | AG31: =(('MMO - Euro100kg'!AG31/0.97116)*AG$65) -> 9.5008601 | AH31: =(('MMO - Euro100kg'!AH31/0.97116)*AH$65) -> 9.540909 | ... KX31: =(('MMO - Euro100kg'!KX31/0.97116)*KX$65) -> 32.897162 | KY31: =KX31-KL31 -> -9.4774575 | KZ31: =(KX31/KL31)-1 -> -0.22365882
B32: Lithuania | AA32: =(('MMO - Euro100kg'!AA32/0.97116)*AA$65) -> 10.41035 | AB32: =(('MMO - Euro100kg'!AB32/0.97116)*AB$65) -> 10.662291 | AC32: =(('MMO - Euro100kg'!AC32/0.97116)*AC$65) -> 10.556422 | AD32: =(('MMO - Euro100kg'!AD32/0.97116)*AD$65) -> 7.9513127 | AE32: =(('MMO - Euro100kg'!AE32/0.97116)*AE$65) -> 8.084257 | AF32: =(('MMO - Euro100kg'!AF32/0.97116)*AF$65) -> 9.8758244 | AG32: =(('MMO - Euro100kg'!AG32/0.97116)*AG$65) -> 9.3924853 | AH32: =(('MMO - Euro100kg'!AH32/0.97116)*AH$65) -> 9.5120845 | ... KX32: =(('MMO - Euro100kg'!KX32/0.97116)*KX$65) -> 31.821746 | KY32: =KX32-KL32 -> -11.898241 | KZ32: =(KX32/KL32)-1 -> -0.2721465
B33: Hungary | O33: =(('MMO - Euro100kg'!O33/0.97116)*O$65) -> 18.116798 | P33: =(('MMO - Euro100kg'!P33/0.97116)*P$65) -> 17.972321 | Q33: =(('MMO - Euro100kg'!Q33/0.97116)*Q$65) -> 18.131406 | R33: =(('MMO - Euro100kg'!R33/0.97116)*R$65) -> 18.139132 | S33: =(('MMO - Euro100kg'!S33/0.97116)*S$65) -> 18.418525 | T33: =(('MMO - Euro100kg'!T33/0.97116)*T$65) -> 18.755169 | U33: =(('MMO - Euro100kg'!U33/0.97116)*U$65) -> 18.329845 | V33: =(('MMO - Euro100kg'!V33/0.97116)*V$65) -> 18.301901 | ... KX33: =(('MMO - Euro100kg'!KX33/0.97116)*KX$65) -> 31.187074 | KY33: =KX33-KL33 -> -13.459524 | KZ33: =(KX33/KL33)-1 -> -0.30146808
B34: Malta | C34: =(('MMO - Euro100kg'!C34/0.97116)*C$65) -> 24.698253 | D34: =(('MMO - Euro100kg'!D34/0.97116)*D$65) -> 24.427627 | E34: =(('MMO - Euro100kg'!E34/0.97116)*E$65) -> 24.283697 | F34: =(('MMO - Euro100kg'!F34/0.97116)*F$65) -> 23.928188 | G34: =(('MMO - Euro100kg'!G34/0.97116)*G$65) -> 23.748977 | H34: =(('MMO - Euro100kg'!H34/0.97116)*H$65) -> 24.013454 | I34: =(('MMO - Euro100kg'!I34/0.97116)*I$65) -> 24.408297 | J34: =(('MMO - Euro100kg'!J34/0.97116)*J$65) -> 25.330083 | ... BJ34: =(('MMO - Euro100kg'!BJ34/0.97116)*BJ$65) -> 22.4844 | DN34: =(('MMO - Euro100kg'!DN34/0.97116)*DN$65) -> 35.509278 | DO34: =(('MMO - Euro100kg'!DO34/0.97116)*DO$65) -> 36.743424 | DP34: =(('MMO - Euro100kg'!DP34/0.97116)*DP$65) -> 38.423544 | DQ34: =(('MMO - Euro100kg'!DQ34/0.97116)*DQ$65) -> 41.517812 | DR34: =(('MMO - Euro100kg'!DR34/0.97116)*DR$65) -> 40.174728 | DS34: =(('MMO - Euro100kg'!DS34/0.97116)*DS$65) -> 39.362517 | DT34: =(('MMO - Euro100kg'!DT34/0.97116)*DT$65) -> 37.859484 | DU34: =(('MMO - Euro100kg'!DU34/0.97116)*DU$65) -> 41.924462 | ... KX34: =(('MMO - Euro100kg'!KX34/0.97116)*KX$65) -> 56.115577 | KY34: =KX34-KL34 -> -1.4946605 | KZ34: =(KX34/KL34)-1 -> -0.025944355
B35: Poland | AA35: =(('MMO - Euro100kg'!AA35/0.97116)*AA$65) -> 11.965142 | AB35: =(('MMO - Euro100kg'!AB35/0.97116)*AB$65) -> 11.762915 | AC35: =(('MMO - Euro100kg'!AC35/0.97116)*AC$65) -> 11.541688 | AD35: =(('MMO - Euro100kg'!AD35/0.97116)*AD$65) -> 11.593298 | AE35: =(('MMO - Euro100kg'!AE35/0.97116)*AE$65) -> 11.391453 | AF35: =(('MMO - Euro100kg'!AF35/0.97116)*AF$65) -> 10.747221 | AG35: =(('MMO - Euro100kg'!AG35/0.97116)*AG$65) -> 10.548483 | AH35: =(('MMO - Euro100kg'!AH35/0.97116)*AH$65) -> 10.737126 | ... KX35: =(('MMO - Euro100kg'!KX35/0.97116)*KX$65) -> 36.537711 | KY35: =KX35-KL35 -> -11.004545 | KZ35: =(KX35/KL35)-1 -> -0.23146872
B36: Slovenia | AA36: =(('MMO - Euro100kg'!AA36/0.97116)*AA$65) -> 20.361022 | AB36: =(('MMO - Euro100kg'!AB36/0.97116)*AB$65) -> 20.643571 | AC36: =(('MMO - Euro100kg'!AC36/0.97116)*AC$65) -> 20.986167 | AD36: =(('MMO - Euro100kg'!AD36/0.97116)*AD$65) -> 21.014183 | AE36: =(('MMO - Euro100kg'!AE36/0.97116)*AE$65) -> 21.607014 | AF36: =(('MMO - Euro100kg'!AF36/0.97116)*AF$65) -> 20.928034 | AG36: =(('MMO - Euro100kg'!AG36/0.97116)*AG$65) -> 20.851317 | AH36: =(('MMO - Euro100kg'!AH36/0.97116)*AH$65) -> 20.544661 | ... KX36: =(('MMO - Euro100kg'!KX36/0.97116)*KX$65) -> 34.254655 | KY36: =KX36-KL36 -> -10.757241 | KZ36: =(KX36/KL36)-1 -> -0.23898663
B37: Slovakia | AA37: =(('MMO - Euro100kg'!AA37/0.97116)*AA$65) -> 15.061101 | AB37: =(('MMO - Euro100kg'!AB37/0.97116)*AB$65) -> 15.218436 | AC37: =(('MMO - Euro100kg'!AC37/0.97116)*AC$65) -> 15.338326 | AD37: =(('MMO - Euro100kg'!AD37/0.97116)*AD$65) -> 15.182022 | AE37: =(('MMO - Euro100kg'!AE37/0.97116)*AE$65) -> 15.66876 | AF37: =(('MMO - Euro100kg'!AF37/0.97116)*AF$65) -> 15.307528 | AG37: =(('MMO - Euro100kg'!AG37/0.97116)*AG$65) -> 15.244726 | AH37: =(('MMO - Euro100kg'!AH37/0.97116)*AH$65) -> 15.140068 | ... KX37: =(('MMO - Euro100kg'!KX37/0.97116)*KX$65) -> 32.897162 | KY37: =KX37-KL37 -> -11.366318 | KZ37: =(KX37/KL37)-1 -> -0.25678771
B39: Average EU10 | AA39: =(('MMO - Euro100kg'!AA39/0.97116)*AA$65) -> 16.83105 | AB39: =(('MMO - Euro100kg'!AB39/0.97116)*AB$65) -> 16.971934 | AC39: =(('MMO - Euro100kg'!AC39/0.97116)*AC$65) -> 17.341514 | AD39: =(('MMO - Euro100kg'!AD39/0.97116)*AD$65) -> 17.175185 | AE39: =(('MMO - Euro100kg'!AE39/0.97116)*AE$65) -> 17.521019 | AF39: =(('MMO - Euro100kg'!AF39/0.97116)*AF$65) -> 17.208068 | AG39: =(('MMO - Euro100kg'!AG39/0.97116)*AG$65) -> 16.895397 | AH39: =(('MMO - Euro100kg'!AH39/0.97116)*AH$65) -> 16.899229 | ... EV39: =(('MMO - Euro100kg'!EV39/0.97116)*EV$65) -> 29.551575
B40: Weighted average EU10 | AA40: =(('MMO - Euro100kg'!AA40/0.97116)*AA$65) -> 13.688464 | AB40: =(('MMO - Euro100kg'!AB40/0.97116)*AB$65) -> 13.644522 | AC40: =(('MMO - Euro100kg'!AC40/0.97116)*AC$65) -> 13.614157 | AD40: =(('MMO - Euro100kg'!AD40/0.97116)*AD$65) -> 13.477391 | AE40: =(('MMO - Euro100kg'!AE40/0.97116)*AE$65) -> 13.562401 | AF40: =(('MMO - Euro100kg'!AF40/0.97116)*AF$65) -> 13.089275 | AG40: =(('MMO - Euro100kg'!AG40/0.97116)*AG$65) -> 12.845766 | AH40: =(('MMO - Euro100kg'!AH40/0.97116)*AH$65) -> 12.915558 | ... FC40: =(('MMO - Euro100kg'!FC40/0.97116)*FC$65) -> 30.922339
B42: Average EU25 | C42: =(('MMO - Euro100kg'!C42/0.97116)*C$65) -> 21.588499 | D42: =(('MMO - Euro100kg'!D42/0.97116)*D$65) -> 21.300346 | E42: =(('MMO - Euro100kg'!E42/0.97116)*E$65) -> 20.679389 | F42: =(('MMO - Euro100kg'!F42/0.97116)*F$65) -> 20.352643 | G42: =(('MMO - Euro100kg'!G42/0.97116)*G$65) -> 20.135809 | H42: =(('MMO - Euro100kg'!H42/0.97116)*H$65) -> 20.110719 | I42: =(('MMO - Euro100kg'!I42/0.97116)*I$65) -> 20.543624 | J42: =(('MMO - Euro100kg'!J42/0.97116)*J$65) -> 21.905147 | ... N42: =(('MMO - Euro100kg'!N42/0.97116)*N$65) -> 22.451037 | AA42: =(('MMO - Euro100kg'!AA42/0.97116)*AA$65) -> 19.744758 | AB42: =(('MMO - Euro100kg'!AB42/0.97116)*AB$65) -> 19.837176 | AC42: =(('MMO - Euro100kg'!AC42/0.97116)*AC$65) -> 19.882485 | AD42: =(('MMO - Euro100kg'!AD42/0.97116)*AD$65) -> 19.674268 | AE42: =(('MMO - Euro100kg'!AE42/0.97116)*AE$65) -> 20.029578 | AF42: =(('MMO - Euro100kg'!AF42/0.97116)*AF$65) -> 19.69414 | AG42: =(('MMO - Euro100kg'!AG42/0.97116)*AG$65) -> 19.71721 | AH42: =(('MMO - Euro100kg'!AH42/0.97116)*AH$65) -> 20.11965 | ... CT42: =(('MMO - Euro100kg'!CT42/0.97116)*CT$65) -> 29.882753
B45: Bulgaria | CU45: =(('MMO - Euro100kg'!CU45/0.97116)*CU65) -> 27.730305 | CV45: =(('MMO - Euro100kg'!CV45/0.97116)*CV65) -> 25.433163 | CW45: =(('MMO - Euro100kg'!CW45/0.97116)*CW65) -> 23.300246 | CX45: =(('MMO - Euro100kg'!CX45/0.97116)*CX65) -> 22.569297 | CY45: =(('MMO - Euro100kg'!CY45/0.97116)*CY65) -> 22.163012 | CZ45: =(('MMO - Euro100kg'!CZ45/0.97116)*CZ65) -> 21.085392 | DA45: =(('MMO - Euro100kg'!DA45/0.97116)*DA65) -> 21.654205 | DB45: =(('MMO - Euro100kg'!DB45/0.97116)*DB65) -> 21.686241 | ... DQ45: =(('MMO - Euro100kg'!DQ45/0.97116)*DQ65) -> 27.805022 | DR45: =(('MMO - Euro100kg'!DR45/0.97116)*DR$65) -> 27.6174 | DS45: =(('MMO - Euro100kg'!DS45/0.97116)*DS$65) -> 28.144767 | DT45: =(('MMO - Euro100kg'!DT45/0.97116)*DT$65) -> 28.246452 | DU45: =(('MMO - Euro100kg'!DU45/0.97116)*DU$65) -> 29.135762 | DV45: =(('MMO - Euro100kg'!DV45/0.97116)*DV$65) -> 29.537276 | DW45: =(('MMO - Euro100kg'!DW45/0.97116)*DW$65) -> 29.070457 | DX45: =(('MMO - Euro100kg'!DX45/0.97116)*DX$65) -> 29.321677 | DY45: =(('MMO - Euro100kg'!DY45/0.97116)*DY$65) -> 29.251993 | ... KX45: =(('MMO - Euro100kg'!KX45/0.97116)*KX$65) -> 37.242902 | KY45: =KX45-KL45 -> -5.1495371 | KZ45: =(KX45/KL45)-1 -> -0.12147301
B46: Romania | CU46: =(('MMO - Euro100kg'!CU46/0.97116)*CU65) -> 21.994635 | CV46: =(('MMO - Euro100kg'!CV46/0.97116)*CV65) -> 20.141454 | CW46: =(('MMO - Euro100kg'!CW46/0.97116)*CW65) -> 18.927901 | CX46: =(('MMO - Euro100kg'!CX46/0.97116)*CX65) -> 18.499423 | CY46: =(('MMO - Euro100kg'!CY46/0.97116)*CY65) -> 18.999472 | CZ46: =(('MMO - Euro100kg'!CZ46/0.97116)*CZ65) -> 16.787114 | DA46: =(('MMO - Euro100kg'!DA46/0.97116)*DA65) -> 16.626386 | DB46: =(('MMO - Euro100kg'!DB46/0.97116)*DB65) -> 16.386738 | ... DQ46: =(('MMO - Euro100kg'!DQ46/0.97116)*DQ65) -> 23.225267 | DR46: =(('MMO - Euro100kg'!DR46/0.97116)*DR$65) -> 23.152573 | DS46: =(('MMO - Euro100kg'!DS46/0.97116)*DS$65) -> 23.963209 | DT46: =(('MMO - Euro100kg'!DT46/0.97116)*DT$65) -> 24.002076 | DU46: =(('MMO - Euro100kg'!DU46/0.97116)*DU$65) -> 25.4793 | DV46: =(('MMO - Euro100kg'!DV46/0.97116)*DV$65) -> 26.609913 | DW46: =(('MMO - Euro100kg'!DW46/0.97116)*DW$65) -> 25.676948 | DX46: =(('MMO - Euro100kg'!DX46/0.97116)*DX$65) -> 24.367828 | DY46: =(('MMO - Euro100kg'!DY46/0.97116)*DY$65) -> 24.315834 | ... KX46: =(('MMO - Euro100kg'!KX46/0.97116)*KX$65) -> 32.24486 | KY46: =KX46-KL46 -> -7.100455 | KZ46: =(KX46/KL46)-1 -> -0.18046507
B48: Average EU27 | CU48: =(('MMO - Euro100kg'!CU48/0.97116)*CU65) -> 28.063944 | CV48: =(('MMO - Euro100kg'!CV48/0.97116)*CV65) -> 26.129663 | CW48: =(('MMO - Euro100kg'!CW48/0.97116)*CW65) -> 25.194492 | CX48: =(('MMO - Euro100kg'!CX48/0.97116)*CX65) -> 23.614158 | CY48: =(('MMO - Euro100kg'!CY48/0.97116)*CY65) -> 22.900073 | CZ48: =(('MMO - Euro100kg'!CZ48/0.97116)*CZ65) -> 21.991758 | DA48: =(('MMO - Euro100kg'!DA48/0.97116)*DA65) -> 22.146346 | DB48: =(('MMO - Euro100kg'!DB48/0.97116)*DB65) -> 22.567102 | ... DQ48: =(('MMO - Euro100kg'!DQ48/0.97116)*DQ65) -> 29.874457 | DR48: =(('MMO - Euro100kg'!DR48/0.97116)*DR$65) -> 29.640848 | DS48: =(('MMO - Euro100kg'!DS48/0.97116)*DS$65) -> 29.54056 | DT48: =(('MMO - Euro100kg'!DT48/0.97116)*DT$65) -> 29.69901 | DU48: =(('MMO - Euro100kg'!DU48/0.97116)*DU$65) -> 30.532947 | DV48: =(('MMO - Euro100kg'!DV48/0.97116)*DV$65) -> 31.202311 | DW48: =(('MMO - Euro100kg'!DW48/0.97116)*DW$65) -> 30.996186 | DX48: =(('MMO - Euro100kg'!DX48/0.97116)*DX$65) -> 31.332478 | DY48: =(('MMO - Euro100kg'!DY48/0.97116)*DY$65) -> 31.404615 | ... ED48: =(('MMO - Euro100kg'!ED48/0.97116)*ED$65) -> 31.070617 | EW48: =EW53 -> 32.200654 | EX48: =EX53 -> 32.639447 | EY48: =EY53 -> 33.343878 | EZ48: =EZ53 -> 34.366881 | FA48: =FA53 -> 34.722301 | FB48: =FB53 -> 34.627072 | FC48: =FC53 -> 34.158134 | FD48: =FD53 -> 33.967467 | ... FG48: =FG53 -> 31.520393
...

Sheet MMO - Euro100kg
A2: EU farmgate milk prices
A3: Source: DG Agri/Milk Market Observatory
A4: Units: Euros/100kg
A5: Last updated: 22/10/2026
BW7: Jan | BX7: Feb | BY7: Mar | BZ7: Apr | CA7: May | CB7: Jun | CC7: Jul | CD7: Aug | CE7: Sep | CF7: Oct | CG7: Nov | CH7: Dec | CI7: Jan | CJ7: Feb | EE7: . | EQ7: Jan | ER7: Feb | ES7: Mar | ET7: Apr | EU7: May | EV7: Jun | EW7: Jul | EX7: Aug | EY7: Sep | EZ7: Oct | FA7: Nov | FB7: Dec
B8: Country | C8: 36892 | D8: 36923 | E8: 36951 | F8: 36982 | G8: 37012 | H8: 37043 | I8: 37073 | J8: 37104 | K8: 37135 | L8: 37165 | M8: 37196 | N8: 37226 | O8: 37257 | P8: 37288 | Q8: 37316 | R8: 37347 | S8: 37377 | T8: 37408 | U8: 37438 | V8: 37469 | W8: 37500 | X8: 37530 | Y8: 37561 | Z8: 37591 | AA8: 37622 | AB8: 37653 | AC8: 37681 | AD8: 37712 | AE8: 37742 | AF8: 37773 | AG8: 37803 | AH8: 37834 | AI8: 37865 | AJ8: 37895 | AK8: 37926 | AL8: 37956 | AM8: 37987 | AN8: 38018 | AO8: 38047 | AP8: 38078 | AQ8: 38108 | AR8: 38139 | AS8: 38169 | AT8: 38200 | AU8: 38231 | AV8: 38261 | AW8: 38292 | AX8: 38322 | AY8: 38353 | AZ8: 38384 | BA8: 38412 | BB8: 38443 | BC8: 38473 | BD8: 38504 | BE8: 38534 | BF8: 38565 | BG8: 38596 | BH8: 38626 | BI8: 38657 | BJ8: 38687 | BK8: 38718 | BL8: 38749 | BM8: 38777 | BN8: 38808 | BO8: 38838 | BP8: 38869 | BQ8: 38899 | BR8: 38930 | BS8: 38961 | BT8: 38991 | BU8: 39022 | BV8: 39052 | BW8: 39083 | BX8: 39114 | BY8: 39142 | BZ8: 39173 | CA8: 39203 | CB8: 39234 | CC8: 39264 | CD8: 39295 | CE8: 39326 | CF8: 39356 | CG8: 39387 | CH8: 39417 | CI8: 39448 | CJ8: 39479 | CK8: 39508 | CL8: 39539 | CM8: 39569 | CN8: 39600 | CO8: 39630 | CP8: 39661 | CQ8: 39692 | CR8: 39722 | CS8: 39753 | CT8: 39783 | CU8: 39814 | CV8: 39845 | CW8: 39873 | CX8: 39904 | CY8: 39934 | CZ8: 39965 | DA8: 39995 | DB8: 40026 | DC8: 40057 | DD8: 40087 | DE8: 40118 | DF8: 40148 | DG8: 40179 | DH8: 40210 | DI8: 40238 | DJ8: 40269 | DK8: 40299 | DL8: 40330 | DM8: 40360 | DN8: 40391 | DO8: 40422 | DP8: 40452 | DQ8: 40483 | DR8: 40513 | DS8: 40544 | DT8: 40575 | DU8: 40603 | DV8: 40634 | DW8: 40664 | DX8: 40695 | DY8: 40725 | DZ8: 40756 | EA8: 40787 | EB8: 40817 | EC8: 40848 | ED8: 40878 | EE8: 40909 | EF8: 40940 | EG8: 40969 | EH8: 41000 | EI8: 41030 | EJ8: 41061 | EK8: 41091 | EL8: 41122 | EM8: 41153 | EN8: 41183 | EO8: 41214 | EP8: 41244 | EQ8: 41275 | ER8: 41306 | ES8: 41334 | ET8: 41365 | EU8: 41395 | EV8: 41426 | EW8: 41456 | EX8: 41487 | EY8: 41518 | EZ8: 41548 | FA8: 41579 | FB8: 41609 | FC8: 41640 | FD8: 41671 | FE8: 41699 | FF8: 41730 | FG8: 41760 | FH8: 41791 | FI8: 41821 | FJ8: 41852 | FK8: 41883 | FL8: 41913 | FM8: 41944 | FN8: 41974 | FO8: 42005 | FP8: 42036 | FQ8: 42064 | FR8: 42095 | FS8: 42125 | FT8: 42156 | FU8: 42186 | FV8: 42217 | FW8: 42248 | FX8: 42278 | FY8: 42309 | FZ8: 42339 | GA8: 42370 | GB8: 42401 | GC8: 42430 | GD8: 42461 | GE8: 42491 | GF8: 42522 | GG8: 42552 | GH8: 42583 | GI8: 42614 | GJ8: 42644 | GK8: 42675 | GL8: 42705 | GM8: 42736 | GN8: 42767 | GO8: 42795 | GP8: 42826 | GQ8: 42856 | GR8: 42887 | GS8: 42917 | GT8: 42948 | GU8: 42979 | GV8: 43009 | GW8: 43040 | GX8: 43070 | GY8: 43101 | GZ8: 43132 | HA8: 43160 | HB8: 43191 | HC8: 43221 | HD8: 43252 | HE8: 43282 | HF8: 43313 | HG8: 43344 | HH8: 43374 | HI8: 43405 | HJ8: 43435 | HK8: 43466 | HL8: 43497 | HM8: 43525 | HN8: 43556 | HO8: 43586 | HP8: 43617 | HQ8: 43647 | HR8: 43678 | HS8: 43709 | HT8: 43739 | HU8: 43770 | HV8: 43800 | HW8: 43831 | HX8: 43862 | HY8: 43891 | HZ8: 43922 | IA8: 43952 | IB8: 43983 | IC8: 44013 | ID8: 44044 | IE8: 44075 | IF8: 44105 | IG8: 44136 | IH8: 44166 | II8: 44197 | IJ8: 44228 | IK8: 44256 | IL8: 44287 | IM8: 44317 | IN8: 44348 | IO8: 44378 | IP8: 44409 | IQ8: 44440 | IR8: 44470 | IS8: 44501 | IT8: 44531 | IU8: 44562 | IV8: 44593 | IW8: 44621 | IX8: 44652 | IY8: 44682 | IZ8: 44713 | JA8: 44743 | JB8: 44774 | JC8: 44805 | JD8: 44835 | JE8: 44866 | JF8: 44896 | JG8: 44927 | JH8: 44958 | JI8: 44986 | JJ8: 45017 | JK8: 45047 | JL8: 45078 | JM8: 45108 | JN8: 45139 | JO8: 45170 | JP8: 45200 | JQ8: 45231 | JR8: 45261 | JS8: 45292 | JT8: 45323 | JU8: 45352 | JV8: 45383 | JW8: 45413 | JX8: 45444 | JY8: 45474 | JZ8: 45505 | KA8: 45536 | KB8: 45566 | KC8: 45597 | KD8: 45627 | KE8: 45658 | KF8: 45689 | KG8: 45717 | KH8: 45748 | KI8: 45778 | KJ8: 45809 | KK8: 45839 | KL8: 45870 | KM8: 45901 | KN8: 45931 | KO8: 45962 | KP8: 45992 | KQ8: 46023 | KR8: 46054 | KS8: 46082 | KT8: 46113 | KU8: 46143 | KV8: 46174 | KW8: 46204 | KX8: 46235 | KY8: Year-on-year change | KZ8: Year-on-year % change
B9: Belgium | C9: 33.07 | D9: 31.58 | E9: 30.07 | F9: 29 | G9: 28.68 | H9: 28.36 | I9: 30.04 | J9: 31.51 | K9: 34.16 | L9: 35.57 | M9: 36.42 | N9: 35.12 | O9: 33.14 | P9: 30.29 | Q9: 28.2 | R9: 26.5 | S9: 25.47 | T9: 24.96 | U9: 25.6 | V9: 27.76 | W9: 30.13 | X9: 32.35 | Y9: 32.8 | Z9: 32.54 | AA9: 29.78 | AB9: 28.79 | AC9: 26.8 | AD9: 25.41 | AE9: 24.34 | AF9: 24.39 | AG9: 25 | AH9: 26.27 | AI9: 27.88 | AJ9: 29.35 | AK9: 29.83 | AL9: 29.46 | AM9: 30.8601 | AN9: 29.5601 | AO9: 28.3601 | AP9: 27.0701 | AQ9: 26.4401 | AR9: 26.1001 | AS9: 26.6101 | AT9: 27.5901 | AU9: 29.6101 | AV9: 31.0601 | AW9: 31.4801 | AX9: 31.3501 | AY9: 29.44 | AZ9: 28.33 | BA9: 27.75 | BB9: 26.07 | BC9: 25.84 | BD9: 25.49 | BE9: 25.47 | BF9: 26.8 | BG9: 27.78 | BH9: 29.23 | BI9: 29.6 | BJ9: 29.7 | BK9: 28.35 | BL9: 27.54 | BM9: 26.73 | BN9: 25.67 | BO9: 25.38 | BP9: 24.91 | BQ9: 24.86 | BR9: 26.3 | BS9: 27.6 | BT9: 28.57 | BU9: 29.27 | BV9: 29.01 | BW9: 28.1 | BX9: 27.78 | BY9: 27.51 | BZ9: 27.36 | CA9: 28.63 | CB9: 32.71 | CC9: 35.85 | CD9: 38.48 | CE9: 40.57 | CF9: 43.2 | CG9: 43.2 | CH9: 42.15 | CI9: 39.5 | CJ9: 37.58 | CK9: 36.32 | CL9: 34.65 | CM9: 32.43 | CN9: 30.35 | CO9: 30.06 | CP9: 30.09 | CQ9: 29.46 | CR9: 29.06 | CS9: 27.65 | CT9: 27.21 | CU9: 24.99 | CV9: 23.21 | CW9: 21.95 | CX9: 21.6 | CY9: 20.91 | CZ9: 20.78 | DA9: 21.11 | DB9: 21.59 | DC9: 23.48 | DD9: 26.85 | DE9: 28.69 | DF9: 28.88 | DG9: 27.96 | DH9: 27.9 | DI9: 28.4 | DJ9: 28.66 | DK9: 29.27 | DL9: 29.72 | DM9: 29.64 | DN9: 31.13 | DO9: 32.28 | DP9: 33.28 | DQ9: 33.58 | DR9: 33.81 | DS9: 33.09 | DT9: 33.86 | DU9: 33.27 | DV9: 32.65 | DW9: 32.22 | DX9: 32.6 | DY9: 32.74 | DZ9: 32.35 | EA9: 33.09 | EB9: 33.62 | EC9: 34.17 | ED9: 33.65 | EE9: 31.97 | EF9: 32.13 | EG9: 30.25 | EH9: 28.93 | EI9: 27.44 | EJ9: 26.66 | EK9: 26.33 | EL9: 28.03 | EM9: 29.85 | EN9: 32.24 | EO9: 33.84 | EP9: 34.56 | EQ9: 34.01 | ER9: 33.87 | ES9: 34.37 | ET9: 35.21 | EU9: 35.71 | EV9: 36.13 | EW9: 35.97 | EX9: 37.26 | EY9: 39.58 | EZ9: 40.76 | FA9: 41.85 | FB9: 41.87 | FC9: 40.54 | FD9: 40.41 | FE9: 40.14 | FF9: 39.06 | FG9: 38.01 | FH9: 36.41 | FI9: 35.11 | FJ9: 34.36 | FK9: 33.29 | FL9: 32.28 | FM9: 31.28 | FN9: 31.15 | FO9: 29.09 | FP9: 29.02 | FQ9: 28.49 | FR9: 28.21 | FS9: 27.89 | FT9: 27.35 | FU9: 26.7 | FV9: 27.21 | FW9: 27.35 | FX9: 28.27 | FY9: 28.14 | FZ9: 27.41 | GA9: 26.84 | GB9: 25.81 | GC9: 24.79 | GD9: 24.08 | GE9: 22.85 | GF9: 22.26 | GG9: 22.12 | GH9: 24.67 | GI9: 26.85 | GJ9: 30.46 | GK9: 33.68 | GL9: 35.97 | GM9: 34.97 | GN9: 34.1 | GO9: 33.73 | GP9: 33.44 | GQ9: 32.95 | GR9: 33.19 | GS9: 34.32 | GT9: 36.06 | GU9: 37.7 | GV9: 37.51 | GW9: 37.01 | GX9: 35.67 | GY9: 31.59 | GZ9: 31.37 | HA9: 31.01 | HB9: 30.17 | HC9: 29.58 | HD9: 30.44 | HE9: 30.17 | HF9: 31.82 | HG9: 33.73 | HH9: 35.12 | HI9: 35.69 | HJ9: 35.53 | HK9: 33.86 | HL9: 33.71 | HM9: 33.59 | HN9: 32.97 | HO9: 32.48 | HP9: 31.64 | HQ9: 31.12 | HR9: 31.5 | HS9: 32.69 | HT9: 33.48 | HU9: 34.15 | HV9: 35.36 | HW9: 34.33 | HX9: 33.82 | HY9: 31.9 | HZ9: 30.37 | IA9: 29.81 | IB9: 29.58 | IC9: 29.56 | ID9: 29.47 | IE9: 30.56 | IF9: 31.68 | IG9: 31.89 | IH9: 32.59 | II9: 32.87 | IJ9: 32.87 | IK9: 34.15 | IL9: 35.27 | IM9: 35.56 | IN9: 35.11 | IO9: 35.13 | IP9: 35.73 | IQ9: 36.46 | IR9: 38.64 | IS9: 40.67 | IT9: 45.05 | IU9: 45.13 | IV9: 45.61 | IW9: 47.68 | IX9: 48.81 | IY9: 51.56 | IZ9: 54.86 | JA9: 55.5 | JB9: 56.22 | JC9: 57.98 | JD9: 59.06 | JE9: 58.29 | JF9: 58.13 | JG9: 53.77 | JH9: 49.12 | JI9: 45.67 | JJ9: 43.61 | JK9: 41.89 | JL9: 39.95 | JM9: 38.99 | JN9: 38.7 | JO9: 38.04 | JP9: 38.66 | JQ9: 40.57 | JR9: 43.28 | JS9: 43.63 | JT9: 43.4 | JU9: 43.85 | JV9: 43.79 | JW9: 43.34 | JX9: 46.68 | JY9: 43.86 | JZ9: 44.76 | KA9: 47.79 | KB9: 51.65 | KC9: 53.66 | KD9: 55.3 | KE9: 54.63 | KF9: 53.88 | KG9: 53.03 | KH9: 53.15 | KI9: 53.62 | KJ9: 52.78 | KK9: 51.58 | KL9: 51.48 | KM9: 50.14 | KN9: 47.58 | KO9: 43.47 | KP9: 40.28 | KQ9: 38.17 | KR9: 37.08 | KS9: 37.07 | KT9: 38.81 | KU9: 38.87 | KV9: 38.19 | KW9: 37.83 | KX9: 39.39 | KY9: =KX9-KL9 -> -12.09 | KZ9: =(KX9/KL9)-1 -> -0.23484848
B10: France | C10: 32.97 | D10: 32.09 | E10: 30.35 | F10: 28.79 | G10: 28.53 | H10: 28.65 | I10: 30.8 | J10: 32.48 | K10: 33.73 | L10: 33.92 | M10: 34.37 | N10: 34.05 | O10: 32.78 | P10: 31.44 | Q10: 29.79 | R10: 28.21 | S10: 28.36 | T10: 28.21 | U10: 29.77 | V10: 31.59 | W10: 32.43 | X10: 32.66 | Y10: 32.53 | Z10: 32.11 | AA10: 32.05 | AB10: 31.25 | AC10: 29.3 | AD10: 27.65 | AE10: 27.67 | AF10: 27.4 | AG10: 29.14 | AH10: 30.68 | AI10: 32.27 | AJ10: 32.93 | AK10: 32.92 | AL10: 31.192338 | AM10: 33.08 | AN10: 32.18 | AO10: 30.78 | AP10: 28.49 | AQ10: 28.44 | AR10: 28.29 | AS10: 30.45 | AT10: 32.75 | AU10: 33.67 | AV10: 33.75 | AW10: 33.9 | AX10: 33.34 | AY10: 32.16 | AZ10: 31.57 | BA10: 29.98 | BB10: 27.79 | BC10: 27.35 | BD10: 27.89 | BE10: 29.47 | BF10: 31.92 | BG10: 32.61 | BH10: 32.38 | BI10: 32.29 | BJ10: 32.22 | BK10: 30.84 | BL10: 30.26 | BM10: 28.46 | BN10: 26.16 | BO10: 26.17 | BP10: 26.87 | BQ10: 28.35 | BR10: 30.6 | BS10: 31.45 | BT10: 31.28 | BU10: 30.36 | BV10: 30.48 | BW10: 30.44 | BX10: 29.93 | BY10: 28.42 | BZ10: 26.34 | CA10: 26.28 | CB10: 27.21 | CC10: 30.86 | CD10: 32.47 | CE10: 33.65 | CF10: 37.8 | CG10: 37.97 | CH10: 36.9 | CI10: 40.93 | CJ10: 40.22 | CK10: 38.51 | CL10: 33.61 | CM10: 33.46 | CN10: 34.31 | CO10: 35.89 | CP10: 37.69 | CQ10: 38.77 | CR10: 34.38 | CS10: 34.21 | CT10: 33.7 | CU10: 35.9 | CV10: 34.86 | CW10: 32.04 | CX10: 24.26 | CY10: 26.9 | CZ10: 27.04 | DA10: 28.81 | DB10: 30.03 | DC10: 31.02 | DD10: 29.28 | DE10: 29.11 | DF10: 28.92 | DG10: 30.99 | DH10: 29.89 | DI10: 28.4 | DJ10: 27.67 | DK10: 27.85 | DL10: 29.69 | DM10: 31.35 | DN10: 33.97 | DO10: 34.31 | DP10: 32.83 | DQ10: 32.46 | DR10: 32.12 | DS10: 33.2 | DT10: 33.06 | DU10: 32.08 | DV10: 30.41 | DW10: 30.53 | DX10: 33.72 | DY10: 35.44 | DZ10: 35.64 | EA10: 36.41 | EB10: 33.65 | EC10: 33.13 | ED10: 32.33 | EE10: 34.21 | EF10: 34.51 | EG10: 32.75 | EH10: 29.91 | EI10: 29.67 | EJ10: 32.21 | EK10: 32.66 | EL10: 32.12 | EM10: 32.28 | EN10: 31.23 | EO10: 31.37 | EP10: 30.55 | EQ10: 32.62 | ER10: 32.89 | ES10: 32.11 | ET10: 31.23 | EU10: 31.98 | EV10: 34.45 | EW10: 36.09 | EX10: 36.32 | EY10: 37.08 | EZ10: 36.6 | FA10: 36.99 | FB10: 37.2 | FC10: 39.13 | FD10: 38.69 | FE10: 36.69 | FF10: 34.25 | FG10: 33.89 | FH10: 36.19 | FI10: 37.29 | FJ10: 38.43 | FK10: 38.84 | FL10: 36.25 | FM10: 34.93 | FN10: 33.21 | FO10: 32.92 | FP10: 32.63 | FQ10: 31.38 | FR10: 31.16 | FS10: 31.09 | FT10: 31.53 | FU10: 32.18 | FV10: 33.77 | FW10: 33.78 | FX10: 32.99 | FY10: 32.27 | FZ10: 31.74 | GA10: 30.43 | GB10: 30.1 | GC10: 29.99 | GD10: 29.39 | GE10: 28.78 | GF10: 28.68 | GG10: 28.51 | GH10: 29.41 | GI10: 30.2 | GJ10: 31.59 | GK10: 32.35 | GL10: 32.72 | GM10: 34.23 | GN10: 33.26 | GO10: 32.61 | GP10: 33.61 | GQ10: 32.43 | GR10: 32.32 | GS10: 34.04 | GT10: 35.11 | GU10: 36.6 | GV10: 36.17 | GW10: 36.4 | GX10: 36.01 | GY10: 35.27 | GZ10: 35.04 | HA10: 33.85 | HB10: 32.9 | HC10: 32.43 | HD10: 32.63 | HE10: 33.7 | HF10: 34.63 | HG10: 35.98 | HH10: 36.71 | HI10: 36.73 | HJ10: 36 | HK10: 36.12 | HL10: 36.06 | HM10: 35.03 | HN10: 35.49 | HO10: 35.47 | HP10: 35.74 | HQ10: 35.92 | HR10: 36.75 | HS10: 37.83 | HT10: 37.94 | HU10: 37.77 | HV10: 37.57 | HW10: 37.12 | HX10: 36.74 | HY10: 36.14 | HZ10: 35.14 | IA10: 35.45 | IB10: 34.54 | IC10: 35.38 | ID10: 35.4 | IE10: 36.71 | IF10: 37.77 | IG10: 36.87 | IH10: 37.04 | II10: 36.94 | IJ10: 36.48 | IK10: 35.89 | IL10: 36.49 | IM10: 36.28 | IN10: 36.64 | IO10: 37.42 | IP10: 38.12 | IQ10: 38.71 | IR10: 39.41 | IS10: 39.71 | IT10: 39.93 | IU10: 40.73 | IV10: 41.18 | IW10: 40.94 | IX10: 42.58 | IY10: 43.12 | IZ10: 43.84 | JA10: 44.12 | JB10: 44.85 | JC10: 46.28 | JD10: 48.26 | JE10: 48.85 | JF10: 49.51 | JG10: 49.8 | JH10: 49.95 | JI10: 48.51 | JJ10: 46.93 | JK10: 45.37 | JL10: 45.63 | JM10: 45.9 | JN10: 46.49 | JO10: 46.83 | JP10: 47.45 | JQ10: 47.38 | JR10: 47.34 | JS10: 47.23 | JT10: 47.04 | JU10: 46.69 | JV10: 46.3 | JW10: 45.96 | JX10: 45.98 | JY10: 46.63 | JZ10: 46.89 | KA10: 48.43 | KB10: 49.23 | KC10: 49.87 | KD10: 50 | KE10: 50.2 | KF10: 51.18 | KG10: 49.75 | KH10: 49.26 | KI10: 49.05 | KJ10: 49.01 | KK10: 49.04 | KL10: 49.89 | KM10: 51.2 | KN10: 51.57 | KO10: 50.66 | KP10: 50.05 | KQ10: 48.5 | KR10: 46.74 | KS10: 45.4 | KT10: 45.19 | KU10: 44.41 | KV10: 42.54 | KW10: 42.65 | KX10: 44.59 | KY10: =KX10-KL10 -> -5.3 | KZ10: =(KX10/KL10)-1 -> -0.10623371
B11: Spain | C11: 30.19 | D11: 30.48 | E11: 30.63 | F11: 30.27 | G11: 30.5 | H11: 30.36 | I11: 31.2 | J11: 30.6 | K11: 30.68 | L11: 31.08 | M11: 31.03 | N11: 31.12 | O11: 30.73 | P11: 29.6 | Q11: 29.26 | R11: 28.89 | S11: 28.65 | T11: 28.45 | U11: 28.77 | V11: 28.15 | W11: 27.74 | X11: 27.81 | Y11: 28.28 | Z11: 28.18 | AA11: 28.71 | AB11: 28.58 | AC11: 28.18 | AD11: 28.21 | AE11: 28.03 | AF11: 28.1 | AG11: 28.1 | AH11: 27.91 | AI11: 28.13 | AJ11: 29.37 | AK11: 30.11 | AL11: 30.64 | AM11: 30.6201 | AN11: 30.6701 | AO11: 30.6701 | AP11: 30.9811 | AQ11: 30.2811 | AR11: 30.2111 | AS11: 30.0301 | AT11: 30.4201 | AU11: 30.7801 | AV11: 31.2501 | AW11: 31.5601 | AX11: 31.6301 | AY11: 31.61 | AZ11: 31.24 | BA11: 30.81 | BB11: 30.48 | BC11: 30.23 | BD11: 29.84 | BE11: 29.76 | BF11: 29.71 | BG11: 30.07 | BH11: 30.04 | BI11: 30.04 | BJ11: 30.28 | BK11: 30.32 | BL11: 29.56 | BM11: 29.45 | BN11: 29.16 | BO11: 29.04 | BP11: 29.02 | BQ11: 29.1 | BR11: 29.13 | BS11: 29.6 | BT11: 30.06 | BU11: 30.43 | BV11: 30.57 | BW11: 30.41 | BX11: 30.25 | BY11: 30.04 | BZ11: 29.73 | CA11: 29.97 | CB11: 31.32 | CC11: 32.9 | CD11: 36.2 | CE11: 40.63 | CF11: 42.98 | CG11: 44.64 | CH11: 45.1 | CI11: 44.71 | CJ11: 42.63 | CK11: 40.42 | CL11: 38.62 | CM11: 37.69 | CN11: 37.14 | CO11: 36.93 | CP11: 36.67 | CQ11: 35.94 | CR11: 35.41 | CS11: 35.02 | CT11: 34.08 | CU11: 33.11 | CV11: 32.38 | CW11: 30.5 | CX11: 28.8 | CY11: 27.48 | CZ11: 27.01 | DA11: 26.85 | DB11: 27.27 | DC11: 28.43 | DD11: 28.97 | DE11: 29.3 | DF11: 30.09 | DG11: 29.71 | DH11: 29.42 | DI11: 28.83 | DJ11: 28.54 | DK11: 28.35 | DL11: 28.25 | DM11: 28.35 | DN11: 28.64 | DO11: 29.61 | DP11: 30.58 | DQ11: 30.97 | DR11: 31.26 | DS11: 30.97 | DT11: 30.97 | DU11: 30.87 | DV11: 30.58 | DW11: 30.49 | DX11: 30.78 | DY11: 30.68 | DZ11: 30.87 | EA11: 31.65 | EB11: 32.23 | EC11: 32.52 | ED11: 32.82 | EE11: 32.33 | EF11: 32.14 | EG11: 31.46 | EH11: 30.78 | EI11: 30 | EJ11: 29.71 | EK11: 29.32 | EL11: 29.32 | EM11: 30.49 | EN11: 31.26 | EO11: 31.75 | EP11: 32.14 | EQ11: 32.72 | ER11: 32.72 | ES11: 32.82 | ET11: 32.62 | EU11: 32.62 | EV11: 32.91 | EW11: 33.59 | EX11: 33.88 | EY11: 34.95 | EZ11: 36.99 | FA11: 37.67 | FB11: 38.25 | FC11: 38.16 | FD11: 37.86 | FE11: 37.96 | FF11: 35.83 | FG11: 35.44 | FH11: 35.44 | FI11: 33.98 | FJ11: 33.79 | FK11: 34.08 | FL11: 33.11 | FM11: 33.11 | FN11: 33.4 | FO11: 31.84 | FP11: 31.75 | FQ11: 31.36 | FR11: 30.1 | FS11: 29.71 | FT11: 29.42 | FU11: 28.83 | FV11: 29.03 | FW11: 29.51 | FX11: 30 | FY11: 30.1 | FZ11: 30.1 | GA11: 29.9 | GB11: 29.71 | GC11: 29.42 | GD11: 28.93 | GE11: 28.35 | GF11: 27.96 | GG11: 27.77 | GH11: 28.16 | GI11: 28.74 | GJ11: 29.71 | GK11: 30.39 | GL11: 30.39 | GM11: 30.68 | GN11: 30.68 | GO11: 30.49 | GP11: 30.39 | GQ11: 30.29 | GR11: 30.1 | GS11: 30.1 | GT11: 30.68 | GU11: 31.26 | GV11: 31.84 | GW11: 32.52 | GX11: 32.43 | GY11: 31.94 | GZ11: 31.94 | HA11: 31.46 | HB11: 30.87 | HC11: 30.68 | HD11: 30.39 | HE11: 30.29 | HF11: 30.49 | HG11: 30.78 | HH11: 31.55 | HI11: 32.33 | HJ11: 32.04 | HK11: 32.04 | HL11: 32.04 | HM11: 31.65 | HN11: 31.65 | HO11: 31.55 | HP11: 31.17 | HQ11: 31.07 | HR11: 31.36 | HS11: 31.65 | HT11: 32.14 | HU11: 33.01 | HV11: 32.82 | HW11: 32.62 | HX11: 32.62 | HY11: 32.33 | HZ11: 32.23 | IA11: 31.94 | IB11: 31.75 | IC11: 31.55 | ID11: 31.55 | IE11: 31.17 | IF11: 32.72 | IG11: 33.11 | IH11: 32.91 | II11: 33.01 | IJ11: 32.82 | IK11: 32.72 | IL11: 32.62 | IM11: 32.52 | IN11: 32.23 | IO11: 32.43 | IP11: 32.82 | IQ11: 33.2 | IR11: 34.27 | IS11: 35.15 | IT11: 35.34 | IU11: 36.02 | IV11: 36.7 | IW11: 37.18 | IX11: 40.68 | IY11: 41.84 | IZ11: 42.52 | JA11: 44.95 | JB11: 46.21 | JC11: 48.06 | JD11: 53.98 | JE11: 56.99 | JF11: 57.96 | JG11: 58.16 | JH11: 58.54 | JI11: 57.77 | JJ11: 54.37 | JK11: 52.72 | JL11: 51.84 | JM11: 51.46 | JN11: 50.29 | JO11: 50 | JP11: 50.19 | JQ11: 50.68 | JR11: 50.58 | JS11: 50.19 | JT11: 49.9 | JU11: 49.61 | JV11: 47.38 | JW11: 46.99 | JX11: 46.41 | JY11: 45.92 | JZ11: 45.92 | KA11: 46.6 | KB11: 47.28 | KC11: 47.77 | KD11: 47.96 | KE11: 48.06 | KF11: 48.16 | KG11: 48.16 | KH11: 48.64 | KI11: 48.74 | KJ11: 48.16 | KK11: 48.74 | KL11: 50.39 | KM11: 51.36 | KN11: 51.94 | KO11: 52.62 | KP11: 52.62 | KQ11: 52.52 | KR11: 52.23 | KS11: 51.84 | KT11: 47.48 | KU11: 46.31 | KV11: 45.53 | KW11: 45.05 | KX11: 45.53 | KY11: =KX11-KL11 -> -4.86 | KZ11: =(KX11/KL11)-1 -> -0.096447708
B12: Ireland | C12: 29.03 | D12: 28.04 | E12: 27.19 | F12: 26.88 | G12: 27.54 | H12: 27.89 | I12: 28.12 | J12: 28.98 | K12: 30.16 | L12: 31.33 | M12: 31.59 | N12: 29.7 | O12: 28.39 | P12: 27.35 | Q12: 25.99 | R12: 25.47 | S12: 25.57 | T12: 25.45 | U12: 25.38 | V12: 25.85 | W12: 27.22 | X12: 28.79 | Y12: 29.46 | Z12: 28.46 | AA12: 28.1 | AB12: 26.55 | AC12: 25.42 | AD12: 25.01 | AE12: 25.22 | AF12: 25.13 | AG12: 25.13 | AH12: 28.01 | AI12: 29.35 | AJ12: 30.89 | AK12: 31.92 | AL12: 29.86 | AM12: 29.3501 | AN12: 28.01 | AO12: 27.7 | AP12: 27.29 | AQ12: 27.49 | AR12: 27.49 | AS12: 27.8 | AT12: 28.3201 | AU12: 30.0701 | AV12: 31.3001 | AW12: 31.5001 | AX12: 30.1701 | AY12: 29.45 | AZ12: 28.83 | BA12: 27.8 | BB12: 27.39 | BC12: 27.18 | BD12: 26.98 | BE12: 26.88 | BF12: 27.39 | BG12: 28.32 | BH12: 30.69 | BI12: 30.48 | BJ12: 29.66 | BK12: 28.11 | BL12: 27.7 | BM12: 26.98 | BN12: 26.46 | BO12: 26.46 | BP12: 25.74 | BQ12: 25.3 | BR12: 27.7 | BS12: 27.7 | BT12: 27.7 | BU12: 27.7 | BV12: 29.1 | BW12: 28.3 | BX12: 27.18 | BY12: 25.64 | BZ12: 27.29 | CA12: 29.76 | CB12: 32.64 | CC12: 34.5 | CD12: 38.5 | CE12: 42.3 | CF12: 44.6 | CG12: 45.4 | CH12: 43.25 | CI12: 41.09 | CJ12: 40.67 | CK12: 39.64 | CL12: 35.52 | CM12: 34.29 | CN12: 32.85 | CO12: 33.57 | CP12: 33.88 | CQ12: 33.26 | CR12: 33.98 | CS12: 33.98 | CT12: 33.71 | CU12: 27.6 | CV12: 26.15 | CW12: 22.45 | CX12: 22.34 | CY12: 22.14 | CZ12: 21.83 | DA12: 22.04 | DB12: 22.86 | DC12: 25.02 | DD12: 28.21 | DE12: 28.63 | DF12: 27.49 | DG12: 27.08 | DH12: 27.18 | DI12: 26.98 | DJ12: 27.8 | DK12: 30.58 | DL12: 30.79 | DM12: 31.2 | DN12: 31.92 | DO12: 33.67 | DP12: 35.83 | DQ12: 33.7 | DR12: 32.73 | DS12: 31.76 | DT12: 32.92 | DU12: 32.44 | DV12: 32.15 | DW12: 32.05 | DX12: 33.31 | DY12: 33.7 | DZ12: 34.57 | EA12: 37 | EB12: 38.26 | EC12: 37.97 | ED12: 35.84 | EE12: 34.48 | EF12: 34.28 | EG12: 33.41 | EH12: 30.88 | EI12: 28.84 | EJ12: 28.75 | EK12: 28.45 | EL12: 29.72 | EM12: 33.31 | EN12: 35.74 | EO12: 35.93 | EP12: 33.7 | EQ12: 33.89 | ER12: 33.21 | ES12: 34.09 | ET12: 34.48 | EU12: 36.22 | EV12: 37.1 | EW12: 36.81 | EX12: 39.33 | EY12: 42.34 | EZ12: 44.77 | FA12: 44.87 | FB12: 42.63 | FC12: 42.34 | FD12: 41.76 | FE12: 39.04 | FF12: 38.55 | FG12: 37.1 | FH12: 36.9 | FI12: 35.25 | FJ12: 36.52 | FK12: 35.45 | FL12: 38.17 | FM12: 37.58 | FN12: 35.16 | FO12: 33.5 | FP12: 32.63 | FQ12: 30.11 | FR12: 30.79 | FS12: 28.75 | FT12: 28.16 | FU12: 27.1 | FV12: 27.97 | FW12: 29.23 | FX12: 31.08 | FY12: 30.98 | FZ12: 29.43 | GA12: 28.26 | GB12: 27.58 | GC12: 24.18 | GD12: 24.08 | GE12: 23.99 | GF12: 23.5 | GG12: 24.47 | GH12: 27 | GI12: 29.91 | GJ12: 32.83 | GK12: 36.32 | GL12: 35.06 | GM12: 35.45 | GN12: 34.18 | GO12: 31.66 | GP12: 31.66 | GQ12: 32.63 | GR12: 33.6 | GS12: 34.96 | GT12: 37.68 | GU12: 40.79 | GV12: 41.95 | GW12: 41.86 | GX12: 40.59 | GY12: 39.43 | GZ12: 37 | HA12: 33.31 | HB12: 31.08 | HC12: 31.17 | HD12: 31.66 | HE12: 31.76 | HF12: 33.41 | HG12: 37 | HH12: 38.75 | HI12: 39.04 | HJ12: 36.9 | HK12: 34.28 | HL12: 34.38 | HM12: 32.63 | HN12: 31.66 | HO12: 31.47 | HP12: 31.95 | HQ12: 31.08 | HR12: 31.95 | HS12: 34.48 | HT12: 36.61 | HU12: 37.29 | HV12: 36.52 | HW12: 34.67 | HX12: 34.86 | HY12: 31.66 | HZ12: 30.01 | IA12: 30.59 | IB12: 31.76 | IC12: 32.83 | ID12: 33.89 | IE12: 36.61 | IF12: 39.14 | IG12: 39.14 | IH12: 37.49 | II12: 35.64 | IJ12: 37.2 | IK12: 37.1 | IL12: 36.61 | IM12: 37.49 | IN12: 37.39 | IO12: 37.2 | IP12: 39.23 | IQ12: 42.44 | IR12: 46.52 | IS12: 48.65 | IT12: 48.46 | IU12: 46.03 | IV12: 47.59 | IW12: 48.95 | IX12: 51.28 | IY12: 53.61 | IZ12: 55.45 | JA12: 57.78 | JB12: 59.73 | JC12: 64.29 | JD12: 68.47 | JE12: 69.24 | JF12: 68.18 | JG12: 59.34 | JH12: 54.38 | JI12: 45.84 | JJ12: 41.66 | JK12: 40.79 | JL12: 39.43 | JM12: 38.75 | JN12: 38.32 | JO12: 40.01 | JP12: 42.34 | JQ12: 43.41 | JR12: 44.19 | JS12: 43.41 | JT12: 44.67 | JU12: 43.12 | JV12: 42.54 | JW12: 43.31 | JX12: 44.48 | JY12: 47.49 | JZ12: 50.99 | KA12: 57.98 | KB12: 62.15 | KC12: 63.42 | KD12: 61.47 | KE12: 58.66 | KF12: 57.2 | KG12: 53.32 | KH12: 52.15 | KI12: 51.08 | KJ12: 51.76 | KK12: 51.86 | KL12: 51.37 | KM12: 51.86 | KN12: 49.63 | KO12: 46.52 | KP12: 43.8 | KQ12: 43.41 | KR12: 42.63 | KS12: 39.82 | KT12: 39.72 | KU12: 39.72 | KV12: 40.69 | KW12: 40.79 | KX12: 40.79 | KY12: =KX12-KL12 -> -10.58 | KZ12: =(KX12/KL12)-1 -> -0.20595678 | LF12: 37.1
B13: Portugal | C13: 31.54 | D13: 31.87 | E13: 32.04 | F13: 32.24 | G13: 32.37 | H13: 32.22 | I13: 33.13 | J13: 33.04 | K13: 33.31 | L13: 33.65 | M13: 34.09 | N13: 34.41 | O13: 34.08 | P13: 33.84 | Q13: 33.86 | R13: 33.54 | S13: 33.27 | T13: 32.92 | U13: 32.83 | V13: 33.16 | W13: 33.21 | X13: 33.32 | Y13: 28.16 | Z13: 33.68 | AA13: 33.78 | AB13: 33.63 | AC13: 33.49 | AD13: 32.64 | AE13: 31.79 | AF13: 31.63 | AG13: 31.72 | AH13: 31.47 | AI13: 31.67 | AJ13: 34.02 | AK13: 34.38 | AL13: 34.46 | AM13: 34.6601 | AN13: 34.3501 | AO13: 33.1201 | AP13: 32.9201 | AQ13: 32.7501 | AR13: 32.6001 | AS13: 32.6001 | AT13: 32.3401 | AU13: 32.6501 | AV13: 33.8401 | AW13: 34.2001 | AX13: 34.4201 | AY13: 30.2 | AZ13: 30.2 | BA13: 28.5 | BB13: 27.94 | BC13: 27.6 | BD13: 27.29 | BE13: 27.15 | BF13: 27.5 | BG13: 28.5 | BH13: 29.2 | BI13: 29.4 | BJ13: 29.4 | BK13: 29.2 | BL13: 29.2 | BM13: 26.9 | BN13: 26.5 | BO13: 26.5 | BP13: 26.2 | BQ13: 26.2 | BR13: 26.4 | BS13: 26.4 | BT13: 27.4 | BU13: 28.6 | BV13: 29.1 | BW13: 29.1 | BX13: 29.1 | BY13: 28.2 | BZ13: 27.5 | CA13: 28.1 | CB13: 28.1 | CC13: 28.3 | CD13: 30.3 | CE13: 35 | CF13: 37.4 | CG13: 39.4 | CH13: 39.4 | CI13: 39.4 | CJ13: 39.5 | CK13: 38.7 | CL13: 38.7 | CM13: 38.4 | CN13: 34.9 | CO13: 34.8 | CP13: 35.5 | CQ13: 34.8 | CR13: 35.1 | CS13: 33.1 | CT13: 33 | CU13: 32.5 | CV13: 32.5 | CW13: 31.7 | CX13: 28.8 | CY13: 28.4 | CZ13: 28 | DA13: 27.7 | DB13: 26.4 | DC13: 27.4 | DD13: 27.6 | DE13: 28.4 | DF13: 28.9 | DG13: 28.4 | DH13: 28.3 | DI13: 27.8 | DJ13: 27.4 | DK13: 27.2 | DL13: 27.5 | DM13: 27.1 | DN13: 27.5 | DO13: 29.39 | DP13: 30.07 | DQ13: 30.92 | DR13: 32.22 | DS13: 30.96 | DT13: 31.14 | DU13: 31.02 | DV13: 30.65 | DW13: 30.58 | DX13: 30.58 | DY13: 30.51 | DZ13: 30.69 | EA13: 31.99 | EB13: 32.22 | EC13: 32.42 | ED13: 32.17 | EE13: 32.08 | EF13: 31.89 | EG13: 30.94 | EH13: 31.18 | EI13: 30.84 | EJ13: 29.21 | EK13: 29.1 | EL13: 29.27 | EM13: 29.6 | EN13: 29.96 | EO13: 31.51 | EP13: 31.5 | EQ13: 31.96 | ER13: 32.03 | ES13: 32 | ET13: 32.95 | EU13: 31.6 | EV13: 32.49 | EW13: 32.51 | EX13: 32.71 | EY13: 35.32 | EZ13: 35.49 | FA13: 36.46 | FB13: 37.03 | FC13: 36.5 | FD13: 36.5 | FE13: 36.48 | FF13: 37.8 | FG13: 34.65 | FH13: 34.34 | FI13: 33.26 | FJ13: 33.31 | FK13: 33.45 | FL13: 34.09 | FM13: 33.88 | FN13: 34.02 | FO13: 31.91 | FP13: 31.59 | FQ13: 31.31 | FR13: 32.49 | FS13: 29 | FT13: 28.79 | FU13: 28.1 | FV13: 28.18 | FW13: 28.6 | FX13: 28.65 | FY13: 28.63 | FZ13: 28.71 | GA13: 28.64 | GB13: 28 | GC13: 27.98 | GD13: 28.01 | GE13: 27.59 | GF13: 27.4 | GG13: 26.98 | GH13: 26.84 | GI13: 27.1 | GJ13: 27.38 | GK13: 28.05 | GL13: 29.26 | GM13: 28.31 | GN13: 28.32 | GO13: 28.7 | GP13: 28.72 | GQ13: 28.6 | GR13: 28.74 | GS13: 28.47 | GT13: 29.85 | GU13: 30.77 | GV13: 31.39 | GW13: 32.01 | GX13: 32.3 | GY13: 31.16 | GZ13: 31.39 | HA13: 30.18 | HB13: 30.99 | HC13: 30.36 | HD13: 30.31 | HE13: 30.07 | HF13: 29.79 | HG13: 30.03 | HH13: 31.05 | HI13: 31.84 | HJ13: 31.84 | HK13: 31.09 | HL13: 31.71 | HM13: 30.55 | HN13: 30.6 | HO13: 30.25 | HP13: 30.24 | HQ13: 30.17 | HR13: 30.21 | HS13: 30.55 | HT13: 30.8 | HU13: 30.83 | HV13: 30.77 | HW13: 30.85 | HX13: 30.41 | HY13: 30.4 | HZ13: 30.42 | IA13: 30.04 | IB13: 29.92 | IC13: 29.64 | ID13: 29.74 | IE13: 30.24 | IF13: 30.37 | IG13: 30.57 | IH13: 30.68 | II13: 30.39 | IJ13: 29.97 | IK13: 30.01 | IL13: 30.01 | IM13: 29.95 | IN13: 29.89 | IO13: 29.76 | IP13: 29.87 | IQ13: 30.07 | IR13: 31.49 | IS13: 31.74 | IT13: 31.89 | IU13: 34.19 | IV13: 34.15 | IW13: 34.16 | IX13: 37.85 | IY13: 38.22 | IZ13: 38.19 | JA13: 40.14 | JB13: 40.49 | JC13: 43.72 | JD13: 52.01 | JE13: 54.38 | JF13: 54.85 | JG13: 54.37 | JH13: 54.13 | JI13: 53.92 | JJ13: 53.56 | JK13: 49.35 | JL13: 48.22 | JM13: 45.96 | JN13: 45.95 | JO13: 46.39 | JP13: 44.64 | JQ13: 44.7 | JR13: 44.56 | JS13: 44.27 | JT13: 43.8 | JU13: 43.83 | JV13: 43.6 | JW13: 43.44 | JX13: 43.26 | JY13: 43.14 | JZ13: 43.3 | KA13: 44.13 | KB13: 44.5 | KC13: 45.64 | KD13: 45.8 | KE13: 45.84 | KF13: 45.87 | KG13: 46.13 | KH13: 46.44 | KI13: 46.04 | KJ13: 45.75 | KK13: 45.68 | KL13: 45.79 | KM13: 46.91 | KN13: 46.93 | KO13: 47.67 | KP13: 47.63 | KQ13: 45.77 | KR13: 45.03 | KS13: 44.85 | KT13: 44.43 | KU13: 44.16 | KV13: 43.34 | KW13: 43.21 | KX13: 42.54 | KY13: =KX13-KL13 -> -3.25 | KZ13: =(KX13/KL13)-1 -> -0.070976196
